Workbook

Sheet Innhold
A1: Figurnummer | B1: Figurnavn
A2: Figur 2.1 | B2: Utslipp av klimagasser etter hovedkildene i utslippsregnskapet
A3: Figur 2.2 | B3: Anslått utslippsutvikling med vedtatt og planlagt politikk i Klimastatus og -plan for 2027
A4: Figur 2.3 | B4: Utslippsutvikling på sektornivå gitt fremskrivinger med vedtatt politikk og regjeringens planlagte politikk
A5: Figur 2.4 | B5: Netto utslipp og opptak fra arealkategorier i sektoren «skog og annen arealbruk» fra 1990 til 2024
A6: Figur 2.5 | B6: Fremskriving av utslipp og opptak fra forskjellige arealkategorier fram til 2100
A7: Figur 2.6 | B7: Forbruksbaserte klimagassutslipp i 2021 fordelt på sektor og opprinnelse
A8: Figur 2.7 | B8: Utslipp fra det norske forbruket fra 2012–2021
A9: Figur 3.3 | B9: Kraftforbruk i de ulike scenarioene sammenlignet med basis 2035
A10: Figur 3.4 | B10: Kraftbalansen i de ulike scenarioene i NVEs scenarioanalyse
A11: Figur 4.2 | B11: Kildefordelte klimagassutslipp: totale utslipp og forbrenningsutslipp fordelt på kilde, foreløpige utslippstall for 2024
A12: Figur 4.5 | B12: Utvikling i kvoteprisen i ETS1 basert på markedets forventning
... A70: Figur 1.19 (Vedlegg 1) | B70: Sektorindikator 4 skog og areal – omfang av påskoget areal

Sheet Figur 2.1
A1: Figur 2.1 | B1: =INDEX(Innhold!$B:$B,MATCH($A$1,Innhold!$A:$A,0)) -> Utslipp av klimagasser etter hovedkildene i utslippsregnskapet
B3: 1990 | C3: 1991 | D3: 1992 | E3: 1993 | F3: 1994 | G3: 1995 | H3: 1996 | I3: 1997 | J3: 1998 | K3: 1999 | L3: 2000 | M3: 2001 | N3: 2002 | O3: 2003 | P3: 2004 | Q3: 2005 | R3: 2006 | S3: 2007 | T3: 2008 | U3: 2009 | V3: 2010 | W3: 2011 | X3: 2012 | Y3: 2013 | Z3: 2014 | AA3: 2015 | AB3: 2016 | AC3: 2017 | AD3: 2018 | AE3: 2019 | AF3: 2020 | AG3: 2021 | AH3: 2022 | AI3: 2023 | AJ3: 2024 | AK3: 2025 | AL3: 2026 | AM3: 2027 | AN3: 2028 | AO3: 2029 | AP3: 2030 | AQ3: 2031 | AR3: 2032 | AS3: 2033 | AT3: 2034 | AU3: 2035 | AV3: 2036 | AW3: 2037 | AX3: 2038 | AY3: 2039 | AZ3: 2040 | BA3: 2041 | BB3: 2042 | BC3: 2043 | BD3: 2044 | BE3: 2045 | BF3: 2046 | BG3: 2047 | BH3: 2048 | BI3: 2049 | BJ3: 2050
A4: Olje og gass | B4: 8.2 | C4: 8.1 | D4: 8.7 | E4: 9.2 | F4: 10 | G4: 10.2 | H4: 11.1 | I4: 11.6 | J4: 11.3 | K4: 11.8 | L4: 13.2 | M4: 14.1 | N4: 13.8 | O4: 13.9 | P4: 14.2 | Q4: 14.1 | R4: 13.7 | S4: 15.2 | T4: 14.8 | U4: 13.7 | V4: 13.8 | W4: 13.5 | X4: 13.6 | Y4: 13.5 | Z4: 14.2 | AA4: 14.8 | AB4: 14.5 | AC4: 14.2 | AD4: 14.1 | AE4: 13.9 | AF4: 13.2 | AG4: 12.1 | AH4: 12.1 | AI4: 11.6 | AJ4: 11 | AK4: 10.9 | AL4: 11.2 | AM4: 11.2 | AN4: 10.2 | AO4: 9.5 | AP4: 8.3 | AQ4: 7.9 | AR4: 7.7 | AS4: 7.5 | AT4: 7.4 | AU4: 7.1 | AV4: 6.8 | AW4: 6.6 | AX4: 6.2 | AY4: 5.9 | AZ4: 5.7 | BA4: 5.3 | BB4: 4.9 | BC4: 4.5 | BD4: 4.1 | BE4: 3.8 | BF4: 3.6 | BG4: 3.4 | BH4: 3.3 | BI4: 3.1 | BJ4: 3
A5: Industri og bergverk | B5: 19.1 | C5: 17.6 | D5: 15.4 | E5: 16.3 | F5: 17.3 | G5: 16.6 | H5: 17.2 | I5: 16.9 | J5: 17.2 | K5: 17 | L5: 16.8 | M5: 16.3 | N5: 15.2 | O5: 15.1 | P5: 15.3 | Q5: 14.9 | R5: 14.5 | S5: 14.2 | T5: 13.7 | U5: 11.2 | V5: 12 | W5: 12 | X5: 11.7 | Y5: 11.8 | Z5: 11.4 | AA5: 11.7 | AB5: 11.4 | AC5: 11.8 | AD5: 11.8 | AE5: 11.4 | AF5: 11.3 | AG5: 11.6 | AH5: 11.4 | AI5: 10.8 | AJ5: 10.6 | AK5: 10.7 | AL5: 10.8 | AM5: 10.8 | AN5: 10.6 | AO5: 10.4 | AP5: 10.4 | AQ5: 10.2 | AR5: 10 | AS5: 9.7 | AT5: 9.5 | AU5: 9.3 | AV5: 9.1 | AW5: 8.9 | AX5: 8.6 | AY5: 8.4 | AZ5: 8.1 | BA5: 7.8 | BB5: 7.6 | BC5: 7.4 | BD5: 7.1 | BE5: 6.9 | BF5: 6.6 | BG5: 6.4 | BH5: 6.2 | BI5: 6 | BJ5: 5.8
A6: Energiforsyning | B6: 0.3 | C6: 0.4 | D6: 0.4 | E6: 0.4 | F6: 0.5 | G6: 0.5 | H6: 0.6 | I6: 0.5 | J6: 0.5 | K6: 0.5 | L6: 0.5 | M6: 0.5 | N6: 0.6 | O6: 0.7 | P6: 0.6 | Q6: 0.6 | R6: 0.6 | S6: 0.9 | T6: 0.8 | U6: 2 | V6: 2.5 | W6: 2.2 | X6: 1.7 | Y6: 1.8 | Z6: 1.8 | AA6: 1.8 | AB6: 1.7 | AC6: 1.9 | AD6: 1.9 | AE6: 1.8 | AF6: 1.7 | AG6: 1.7 | AH6: 1.4 | AI6: 1.2 | AJ6: 1.1 | AK6: 1.1 | AL6: 1.1 | AM6: 1.1 | AN6: 1 | AO6: 1 | AP6: 0.9 | AQ6: 0.8 | AR6: 0.7 | AS6: 0.7 | AT6: 0.7 | AU6: 0.7 | AV6: 0.7 | AW6: 0.7 | AX6: 0.7 | AY6: 0.7 | AZ6: 0.7 | BA6: 0.6 | BB6: 0.6 | BC6: 0.6 | BD6: 0.6 | BE6: 0.6 | BF6: 0.6 | BG6: 0.6 | BH6: 0.6 | BI6: 0.6 | BJ6: 0.5
A7: Oppvarming | B7: 2.8 | C7: 2.5 | D7: 2.3 | E7: 2.3 | F7: 2.3 | G7: 2.4 | H7: 2.9 | I7: 2.5 | J7: 2.2 | K7: 2.5 | L7: 1.9 | M7: 2.1 | N7: 2.3 | O7: 2.7 | P7: 2.3 | Q7: 1.9 | R7: 2 | S7: 1.7 | T7: 1.6 | U7: 1.7 | V7: 2 | W7: 1.5 | X7: 1.3 | Y7: 1.3 | Z7: 1.1 | AA7: 0.9 | AB7: 1 | AC7: 0.9 | AD7: 0.8 | AE7: 0.6 | AF7: 0.5 | AG7: 0.6 | AH7: 0.6 | AI7: 0.6 | AJ7: 0.5 | AK7: 0.5 | AL7: 0.5 | AM7: 0.4 | AN7: 0.4 | AO7: 0.4 | AP7: 0.4 | AQ7: 0.4 | AR7: 0.4 | AS7: 0.4 | AT7: 0.4 | AU7: 0.3 | AV7: 0.3 | AW7: 0.3 | AX7: 0.3 | AY7: 0.3 | AZ7: 0.3 | BA7: 0.3 | BB7: 0.3 | BC7: 0.3 | BD7: 0.3 | BE7: 0.3 | BF7: 0.3 | BG7: 0.3 | BH7: 0.3 | BI7: 0.2 | BJ7: 0.2
A8: Veitrafikk | B8: 7.4 | C8: 7.3 | D8: 7.3 | E8: 7.5 | F8: 7.4 | G8: 7.5 | H8: 7.9 | I8: 7.9 | J8: 8.1 | K8: 8.5 | L8: 8.4 | M8: 8.9 | N8: 8.9 | O8: 9.1 | P8: 9.4 | Q8: 9.5 | R8: 9.8 | S8: 10 | T8: 9.9 | U8: 9.7 | V8: 10 | W8: 9.9 | X8: 10 | Y8: 10 | Z8: 10.2 | AA8: 10.3 | AB8: 10 | AC8: 9.1 | AD8: 9.4 | AE8: 8.7 | AF8: 8.3 | AG8: 8.7 | AH8: 8.7 | AI8: 8 | AJ8: 7.5 | AK8: 6.9 | AL8: 6.3 | AM8: 5.8 | AN8: 5.4 | AO8: 5 | AP8: 4.6 | AQ8: 4.2 | AR8: 3.9 | AS8: 3.6 | AT8: 3.3 | AU8: 3 | AV8: 2.8 | AW8: 2.6 | AX8: 2.4 | AY8: 2.2 | AZ8: 2 | BA8: 1.9 | BB8: 1.8 | BC8: 1.7 | BD8: 1.6 | BE8: 1.5 | BF8: 1.4 | BG8: 1.3 | BH8: 1.3 | BI8: 1.2 | BJ8: 1.1
A9: Luftfart, sjøfart, fiske mv. | B9: 5.3 | C9: 5.1 | D9: 5.5 | E9: 5.7 | F9: 5.9 | G9: 6.6 | H9: 7 | I9: 7.2 | J9: 7.5 | K9: 7.5 | L9: 6.5 | M9: 6.6 | N9: 6.5 | O9: 6.5 | P9: 6.6 | Q9: 6.4 | R9: 6.8 | S9: 7 | T9: 6.8 | U9: 6.7 | V9: 7.2 | W9: 7.3 | X9: 7.5 | Y9: 7.6 | Z9: 7.7 | AA9: 7.5 | AB9: 7.4 | AC9: 7.5 | AD9: 7.7 | AE9: 7.7 | AF9: 7.4 | AG9: 7.4 | AH9: 7.8 | AI9: 7.6 | AJ9: 7.3 | AK9: 7.4 | AL9: 7.2 | AM9: 7 | AN9: 6.9 | AO9: 6.7 | AP9: 6.5 | AQ9: 6.3 | AR9: 6.2 | AS9: 6 | AT9: 5.8 | AU9: 5.7 | AV9: 5.5 | AW9: 5.3 | AX9: 5.1 | AY9: 4.9 | AZ9: 4.7 | BA9: 4.6 | BB9: 4.5 | BC9: 4.3 | BD9: 4.2 | BE9: 4.1 | BF9: 4 | BG9: 3.9 | BH9: 3.8 | BI9: 3.7 | BJ9: 3.6
A10: Jordbruk | B10: 4.9 | C10: 4.8 | D10: 4.8 | E10: 4.8 | F10: 4.8 | G10: 4.8 | H10: 4.9 | I10: 4.8 | J10: 4.8 | K10: 4.8 | L10: 4.7 | M10: 4.6 | N10: 4.6 | O10: 4.7 | P10: 4.6 | Q10: 4.6 | R10: 4.6 | S10: 4.6 | T10: 4.5 | U10: 4.5 | V10: 4.4 | W10: 4.4 | X10: 4.4 | Y10: 4.5 | Z10: 4.6 | AA10: 4.6 | AB10: 4.7 | AC10: 4.6 | AD10: 4.7 | AE10: 4.6 | AF10: 4.6 | AG10: 4.7 | AH10: 4.6 | AI10: 4.4 | AJ10: 4.4 | AK10: 4.4 | AL10: 4.7 | AM10: 4.7 | AN10: 4.7 | AO10: 4.8 | AP10: 4.8 | AQ10: 4.8 | AR10: 4.8 | AS10: 4.8 | AT10: 4.8 | AU10: 4.8 | AV10: 4.8 | AW10: 4.8 | AX10: 4.8 | AY10: 4.8 | AZ10: 4.8 | BA10: 4.8 | BB10: 4.8 | BC10: 4.8 | BD10: 4.8 | BE10: 4.8 | BF10: 4.8 | BG10: 4.8 | BH10: 4.8 | BI10: 4.8 | BJ10: 4.8
A11: Andre | B11: 3.1 | C11: 2.9 | D11: 2.9 | E11: 3 | F11: 3 | G11: 3 | H11: 3 | I11: 3.1 | J11: 2.9 | K11: 2.9 | L11: 3 | M11: 3 | N11: 2.9 | O11: 2.8 | P11: 2.8 | Q11: 2.7 | R11: 2.8 | S11: 2.8 | T11: 2.8 | U11: 2.8 | V11: 2.8 | W11: 2.9 | X11: 2.9 | Y11: 2.9 | Z11: 2.8 | AA11: 2.7 | AB11: 2.7 | AC11: 2.6 | AD11: 2.5 | AE11: 2.4 | AF11: 2.4 | AG11: 2.3 | AH11: 2.2 | AI11: 2.2 | AJ11: 2.1 | AK11: 2.1 | AL11: 2 | AM11: 2 | AN11: 2 | AO11: 1.8 | AP11: 1.7 | AQ11: 1.6 | AR11: 1.5 | AS11: 1.4 | AT11: 1.3 | AU11: 1.3 | AV11: 1.3 | AW11: 1.2 | AX11: 1.2 | AY11: 1.2 | AZ11: 1.1 | BA11: 1.1 | BB11: 1.1 | BC11: 1.1 | BD11: 1 | BE11: 1 | BF11: 1 | BG11: 1 | BH11: 1 | BI11: 0.9 | BJ11: 0.9

Sheet Figur 2.2
A1: Figur 2.2 | B1: =INDEX(Innhold!$B:$B,MATCH($A$1,Innhold!$A:$A,0)) -> Anslått utslippsutvikling med vedtatt og planlagt politikk i Klimastatus og -plan for 2027
B3: 2020 | C3: 2021 | D3: 2022 | E3: 2023 | F3: 2024 | G3: 2025 | H3: 2026 | I3: 2027 | J3: 2028 | K3: 2029 | L3: 2030 | M3: 2031 | N3: 2032 | O3: 2033 | P3: 2034 | Q3: 2035 | R3: 2036 | S3: 2037 | T3: 2038 | U3: 2039 | V3: 2040 | W3: 2041 | X3: 2042 | Y3: 2043 | Z3: 2044 | AA3: 2045 | AB3: 2046 | AC3: 2047 | AD3: 2048 | AE3: 2049 | AF3: 2050
A4: Historiske tall og fremskriving | B4: 49.4 | C4: 49.2 | D4: 48.8 | E4: 46.5 | F4: 44.6 | G4: 44.1 | H4: 43.8 | I4: 42.9 | J4: 41.2 | K4: 39.7 | L4: 37.4 | M4: 36.1 | N4: 35 | O4: 34.1 | P4: 33.3 | Q4: 32.3 | R4: 31.3 | S4: 30.3 | T4: 29.3 | U4: 28.4 | V4: 27.4 | W4: 26.5 | X4: 25.5 | Y4: 24.6 | Z4: 23.8 | AA4: 22.9 | AB4: 22.3 | AC4: 21.7 | AD4: 21.1 | AE4: 20.6 | AF4: 20
A5: Planlagt politikk i Klimastatus og -plan for 2027 | B5: - | C5: - | D5: - | E5: - | F5: - | G5: - | H5: 43.5 | I5: 42.3 | J5: 39.5 | K5: 37.3 | L5: 34.1 | M5: 32.6 | N5: 31.5 | O5: 30.6 | P5: 29.8 | Q5: 28.5 | R5: 27.7 | S5: 26.8 | T5: 26 | U5: 25.2 | V5: 24.4 | W5: 23.6 | X5: 22.8 | Y5: 22.1 | Z5: 21.4 | AA5: 20.7 | AB5: 20.3 | AC5: 19.8 | AD5: 19.3 | AE5: 18.9 | AF5: 18.5

Sheet Figur 2.3
A1: Figur 2.3 | B1: =INDEX(Innhold!$B:$B,MATCH($A$1,Innhold!$A:$A,0)) -> Utslippsutvikling på sektornivå gitt fremskrivinger med vedtatt politikk og regjeringens planlagte politikk
A4: Gjenværende utslipp | B4: 2025 | C4: 2030 | D4: 2030 - effekt av planlagt politikk | E4: 2035 | F4: 2035 - effekt av planlagt politikk
A5: Kvotepliktig olje og gass | B5: 10.3 | C5: 7.8 | D5: 0 | E5: 6.7 | F5: 0
A6: Kvotepliktig industri | B6: 9.8 | C6: 9.6 | D6: -0.3 | E6: 8.6 | F6: -0.3
A7: Øvrige kvotepliktige | B7: 1.2 | C7: 1.2 | D7: 0 | E7: 1.1 | F7: 0
A8: Veitrafikk | B8: 6.9 | C8: 4.6 | D8: -1.5 | E8: 3 | F8: -1.8
A9: Luftfart, sjøfart, fiske mv. | B9: 6.3 | C9: 5.4 | D9: -1 | E9: 4.7 | F9: -1.1
A10: Jordbruk | B10: 4.4 | C10: 4.8 | D10: -0.1 | E10: 4.8 | F10: -0.1
A11: Øvrige ikke-kvotepliktige | B11: 5 | C11: 4.2 | D11: -0.5 | E11: 3.6 | F11: -0.4

Sheet Figur 2.4
A1: Figur 2.4 | B1: =INDEX(Innhold!$B:$B,MATCH($A$1,Innhold!$A:$A,0)) -> Netto utslipp og opptak fra arealkategorier i sektoren «skog og annen arealbruk» fra 1990 til 2024
B3: 1990 | C3: 1991 | D3: 1992 | E3: 1993 | F3: 1994 | G3: 1995 | H3: 1996 | I3: 1997 | J3: 1998 | K3: 1999 | L3: 2000 | M3: 2001 | N3: 2002 | O3: 2003 | P3: 2004 | Q3: 2005 | R3: 2006 | S3: 2007 | T3: 2008 | U3: 2009 | V3: 2010 | W3: 2011 | X3: 2012 | Y3: 2013 | Z3: 2014 | AA3: 2015 | AB3: 2016 | AC3: 2017 | AD3: 2018 | AE3: 2019 | AF3: 2020 | AG3: 2021 | AH3: 2022 | AI3: 2023 | AJ3: 2024
A4: Skog | B4: -13.068786 | C4: -14.094344 | D4: -13.866969 | E4: -15.354977 | F4: -13.922607 | G4: -16.404962 | H4: -12.431252 | I4: -15.380305 | J4: -16.405046 | K4: -21.298738 | L4: -19.170305 | M4: -23.722588 | N4: -24.848073 | O4: -23.992123 | P4: -24.308957 | Q4: -25.979994 | R4: -21.478035 | S4: -23.267149 | T4: -28.789194 | U4: -28.101521 | V4: -30.185182 | W4: -28.988696 | X4: -28.530384 | Y4: -25.277173 | Z4: -23.106991 | AA4: -19.908245 | AB4: -18.620083 | AC4: -19.462531 | AD4: -14.54044 | AE4: -12.040079 | AF4: -19.729562 | AG4: -8.4673104 | AH4: -12.923481 | AI4: -16.376963 | AJ4: -19.0508
A5: Dyrket mark | B5: 2.1206477 | C5: 2.1157584 | D5: 2.1122666 | E5: 2.1127614 | F5: 2.114553 | G5: 2.1930514 | H5: 2.1706632 | I5: 2.269072 | J5: 2.2785144 | K5: 2.2146213 | L5: 2.1832624 | M5: 2.2650698 | N5: 2.1926375 | O5: 2.1977251 | P5: 2.202144 | Q5: 2.2105738 | R5: 2.3002798 | S5: 2.2892194 | T5: 2.2825425 | U5: 2.3260765 | V5: 2.3780391 | W5: 2.3194431 | X5: 2.3400827 | Y5: 2.5457771 | Z5: 2.486289 | AA5: 2.5637111 | AB5: 2.5545694 | AC5: 2.5686921 | AD5: 2.4677016 | AE5: 2.4261281 | AF5: 2.3206969 | AG5: 2.3534201 | AH5: 2.3312983 | AI5: 2.3485723 | AJ5: 2.3579144
A6: Beite | B6: -0.13906031 | C6: -0.13765934 | D6: -0.13462191 | E6: -0.1325177 | F6: -0.12686333 | G6: -0.09357274 | H6: 0.030962774 | I6: 0.061493088 | J6: 0.029812992 | K6: 0.055109673 | L6: 0.041292844 | M6: -0.059909814 | N6: -0.099632902 | O6: -0.039344604 | P6: -0.10911649 | Q6: 0.044847253 | R6: 0.13471258 | S6: 0.22767785 | T6: 0.28368121 | U6: 0.50518933 | V6: 0.33471202 | W6: 0.35859195 | X6: 0.48007284 | Y6: 0.35360092 | Z6: 0.13239332 | AA6: 0.39185278 | AB6: 0.26267508 | AC6: -0.016387402 | AD6: 0.036001423 | AE6: 0.25705698 | AF6: -0.030587026 | AG6: 0.097831209 | AH6: 0.095245502 | AI6: 0.018912701 | AJ6: -0.05511703
A7: Vann og myr | B7: 0.26512375 | C7: 0.2647454 | D7: 0.2752971 | E7: 0.26521232 | F7: 0.26139803 | G7: 0.27340734 | H7: 0.28499997 | I7: 0.32962871 | J7: 0.32634346 | K7: 0.31726133 | L7: 0.31982253 | M7: 0.31877182 | N7: 0.2813967 | O7: 0.31214965 | P7: 0.31417326 | Q7: 0.32724895 | R7: 0.33367989 | S7: 0.30958703 | T7: 0.35368976 | U7: 0.34035281 | V7: 0.3177094 | W7: 0.3214304 | X7: 0.31060087 | Y7: 0.30020858 | Z7: 0.30120215 | AA7: 0.30079622 | AB7: 0.29760512 | AC7: 0.38316378 | AD7: 0.3894892 | AE7: 0.39659707 | AF7: 0.3781393 | AG7: 0.40403984 | AH7: 0.38152241 | AI7: 0.36997262 | AJ7: 0.34934289
A8: Utbygd areal | B8: 1.5313645 | C8: 1.5156732 | D8: 1.521374 | E8: 1.4973127 | F8: 1.5233389 | G8: 1.6390452 | H8: 1.7394211 | I8: 1.7566771 | J8: 1.7759395 | K8: 1.7698866 | L8: 1.9969433 | M8: 1.9465437 | N8: 1.9226569 | O8: 1.6727842 | P8: 1.5855804 | Q8: 1.3527972 | R8: 1.3765272 | S8: 1.2754846 | T8: 1.3971749 | U8: 1.4417068 | V8: 1.6554877 | W8: 1.5370357 | X8: 1.5954147 | Y8: 1.5370898 | Z8: 1.8229762 | AA8: 2.2619336 | AB8: 2.2198809 | AC8: 2.1289446 | AD8: 2.1678252 | AE8: 2.2394407 | AF8: 1.4776957 | AG8: 1.5893874 | AH8: 1.4949417 | AI8: 1.4920825 | AJ8: 1.2922108
A9: Annen utmark | B9: NO | C9: NO | D9: NO | E9: NO | F9: NO | G9: NO | H9: NO | I9: NO | J9: NO | K9: NO | L9: NO | M9: NO | N9: NO | O9: NO | P9: NO | Q9: NO | R9: NO | S9: NO | T9: NO | U9: NO | V9: NO | W9: NO | X9: NO | Y9: NO | Z9: NO | AA9: NO | AB9: NO | AC9: NO | AD9: NO | AE9: NO | AF9: NO | AG9: NO | AH9: NO | AI9: NO | AJ9: NO
A10: Treprodukter | B10: -0.92173091 | C10: -0.59043505 | D10: -0.49447315 | E10: -0.72771168 | F10: -1.0079085 | G10: -0.82164271 | H10: -0.64415706 | I10: -0.70829495 | J10: -0.86523264 | K10: -0.53689123 | L10: -0.53235306 | M10: -0.34812525 | N10: -0.13228096 | O10: -0.19753276 | P10: -0.48089505 | Q10: -0.42209109 | R10: -0.36164374 | S10: -0.24667749 | T10: 0.062602255 | U10: 0.69732968 | V10: 0.08240444 | W10: 0.16328886 | X10: 0.40552451 | Y10: 0.54630425 | Z10: 0.21151771 | AA10: 0.083397315 | AB10: -0.23638492 | AC10: -0.38208423 | AD10: -0.47395673 | AE10: -0.45060588 | AF10: -0.29544192 | AG10: -0.51369864 | AH10: -0.43478108 | AI10: -0.16729245 | AJ10: -0.34223883

Sheet Figur 2.5
A1: Figur 2.5 | B1: =INDEX(Innhold!$B:$B,MATCH($A$1,Innhold!$A:$A,0)) -> Fremskriving av utslipp og opptak fra forskjellige arealkategorier fram til 2100
B3: Skog | C3: Dyrka mark | D3: Beite | E3: Vann og myr | F3: Utbygd areal | G3: Treprodukter
A4: 1990 | B4: -13069.3 | C4: 2120 | D4: -139.1 | E4: 265.1 | F4: 1527.7 | G4: -921.7
A5: 1991 | B5: -14095.1 | C5: 2115.1 | D5: -137.7 | E5: 264.7 | F5: 1511.7 | G5: -590.4
A6: 1992 | B6: -13867.7 | C6: 2111.7 | D6: -134.6 | E6: 275.3 | F6: 1517.1 | G6: -494.5
A7: 1993 | B7: -15355.5 | C7: 2112.2 | D7: -132.5 | E7: 265.2 | F7: 1492.9 | G7: -727.7
A8: 1994 | B8: -13923.1 | C8: 2114 | D8: -126.9 | E8: 261.4 | F8: 1519 | G8: -1007.9
A9: 1995 | B9: -16405.4 | C9: 2192.5 | D9: -93.6 | E9: 273.4 | F9: 1634.6 | G9: -821.6
A10: 1996 | B10: -12431.8 | C10: 2170.1 | D10: 31 | E10: 285 | F10: 1735.1 | G10: -644.2
A11: 1997 | B11: -15380.8 | C11: 2268.5 | D11: 61.4 | E11: 329.6 | F11: 1751.7 | G11: -708.3
A12: 1998 | B12: -16405.6 | C12: 2278 | D12: 29.8 | E12: 326.3 | F12: 1771.2 | G12: -865.2
A13: 1999 | B13: -21299.3 | C13: 2214.1 | D13: 55.1 | E13: 317.3 | F13: 1764.9 | G13: -536.9
A14: 2000 | B14: -19170.7 | C14: 2182.7 | D14: 41.1 | E14: 319.8 | F14: 1991.9 | G14: -532.4
A15: 2001 | B15: -23723 | C15: 2264.5 | D15: -60.1 | E15: 318.8 | F15: 1941.5 | G15: -348.1
... A114: 2100 | B114: -12944.2 | C114: 2143.2 | D114: 447.8 | E114: 544.6 | F114: 2678.2 | G114: 26.2

Sheet Figur 2.6
A1: Figur 2.6 | B1: =INDEX(Innhold!$B:$B,MATCH($A$1,Innhold!$A:$A,0)) -> Forbruksbaserte klimagassutslipp i 2021 fordelt på sektor og opprinnelse
B3: Norge | C3: Europa | D3: Andre industriland | E3: Utviklingsland
A4: Tre, trevarer, papir og trykking | B4: 0 | C4: 0.1 | D4: 0 | E4: 0.1
A5: Direkte utslipp utenom transport | B5: 1.1 | C5: 0 | D5: 0 | E5: 0
A6: Fritidsaktiviteter | B6: 0.3 | C6: 0.2 | D6: 0.1 | E6: 0.6
A7: Bergverksdrift og utvinning | B7: 1 | C7: 0.1 | D7: 0 | E7: 0.2
A8: Elektrisitet, gass og vann | B8: 1.2 | C8: 0.5 | D8: 0.1 | E8: 0.3
A9: Tekstiler og klær | B9: 0 | C9: 0.4 | D9: 0.1 | E9: 1.6
A10: Metaller og metallprodukter | B10: 0.9 | C10: 0.3 | D10: 0.2 | E10: 0.7
A11: Jordbruk, skogbruk og fiske | B11: 1.2 | C11: 0.5 | D11: 0.1 | E11: 0.6
A12: Annen industri og resirkulering | B12: 0.1 | C12: 0.4 | D12: 0.1 | E12: 2.4
A13: Engros- og detaljhandel, overnatting og servering | B13: 1.5 | C13: 1 | D13: 0.4 | E13: 1.8
A14: Petroleumsprodukter, kjemiske og ikke-metalliske varer | B14: 0.9 | C14: 1.2 | D14: 0.4 | E14: 2.2
A15: Forretningsvirksomhet | B15: 1.1 | C15: 1 | D15: 0.4 | E15: 2.4
... A20: Transport, inkl. kjøp av transportmidler | B20: 6.4 | C20: 2.1 | D20: 1 | E20: 4

Sheet Figur 2.7
A1: Figur 2.7 | B1: =INDEX(Innhold!$B:$B,MATCH($A$1,Innhold!$A:$A,0)) -> Utslipp fra det norske forbruket fra 2012–2021
A3: År | B3: Klimagassutslipp fra norsk forbruk, i mill. tonn CO2-ekvivalenter
A4: 2012 | B4: 97.1
A5: 2013 | B5: 101.4
A6: 2014 | B6: 100.2
A7: 2015 | B7: 91.7
A8: 2016 | B8: 86.2
A9: 2017 | B9: 81.6
A10: 2018 | B10: 81.8
A11: 2019 | B11: 83.6
A12: 2020 | B12: 73.3
A13: 2021 | B13: 76.9

Sheet Figur 3.3
A1: Figur 3.3 | B1: =INDEX(Innhold!$B:$B,MATCH($A$1,Innhold!$A:$A,0)) -> Kraftforbruk i de ulike scenarioene sammenlignet med basis 2035
B3: TWh
A4: Basis 2035 | B4: 161
A5: Klimaplan 2035 | B5: 165
A6: Klimatiltak 2035 | B6: 177
A7: Datasenter 2035 | B7: 167
A8: Datasenter Klimaplan 2035 | B8: 171

Sheet Figur 3.4
A1: Figur 3.4 | B1: =INDEX(Innhold!$B:$B,MATCH($A$1,Innhold!$A:$A,0)) -> Kraftbalansen i de ulike scenarioene i NVEs scenarioanalyse
A3: Kraftbalanse (TWh) | B3: Scenario
A4: 19.6 | B4: Basis
A5: 15.5 | B5: Klimaplan
A6: 14.3 | B6: Datasenter
A7: 13.9 | B7: Nullvekst Landvind
A8: 10.8 | B8: Datasenter Klimaplan
A9: 11.4 | B9: Nullvekst Havvind
A10: 6 | B10: Nullvekst Vind
A11: 4.5 | B11: Klimatiltak
A12: -4 | B12: Nullvekst Vind, Datasenter Klimaplan

Sheet Figur 4.2
A1: Figur 4.2 | B1: =INDEX(Innhold!$B:$B,MATCH($A$1,Innhold!$A:$A,0)) -> Kildefordelte klimagassutslipp: totale utslipp og forbrenningsutslipp fordelt på kilde, foreløpige utslippstall for 2024
A3: Venstre hjul:
A5: Jordbruk | B5: 0.097
A6: Avfallsdeponigass, fluorgasser og annet | B6: 0.048
A7: Olje- og gassutvinning - prosessutslipp | B7: 0.008
A8: Industri og bergverk - prosessutslipp | B8: 0.181
A9: Forbrenningsutslipp | B9: 0.67
A11: Høyre hjul:
A13: Olje- og gassutvinning - stasjonær forbrenning | B13: 10.7
A14: Industri og bergverk - stasjonær forbrenning | B14: 2.2
A15: Oppvarming i andre næringer og husholdninger | B15: 0.5
A16: Veitrafikk | B16: 7.5
A17: Innenriks sjøfart og fiske | B17: 4
A18: Innenriks luftfart | B18: 1.1
A19: Annen transport | B19: 2.3
A20: Energiforsyning | B20: 1.2

Sheet Figur 4.5
A1: Figur 4.5 | B1: =INDEX(Innhold!$B:$B,MATCH($A$1,Innhold!$A:$A,0)) -> Utvikling i kvoteprisen i ETS1 basert på markedets forventning
B3: 2026 | C3: 2027 | D3: 2028 | E3: 2029 | F3: 2030 | G3: 2031 | H3: 2032 | I3: 2033 | J3: 2034
A4: Snittpris futures | B4: 82.4 | C4: 85.4 | D4: 88.5 | E4: 91.8 | F4: 95.3 | G4: 98.9 | H4: 103 | I4: 106.9 | J4: 110.9
A5: Usikkerhet | B5: 86.3 | C5: 91.2 | D5: 96.5 | E5: 102 | F5: 107.8 | G5: 113.8 | H5: 120.6 | I5: 127.2 | J5: 133.9
A6: Usikkerhet (nedre) | B6: 78.5 | C6: 79.6 | D6: 80.5 | E6: 81.6 | F6: 82.8 | G6: 84 | H6: 85.4 | I6: 86.6 | J6: 87.9

Sheet Figur 4.9
A1: Figur 4.9 | B1: =INDEX(Innhold!$B:$B,MATCH($A$1,Innhold!$A:$A,0)) -> Mulige opptrappingsbaner for omsetningskravene for biodrivstoff fram til 2030
A3: Vei
B4: 2026 | C4: 2027 | D4: 2028 | E4: 2029 | F4: 2030
A5: Alternativ bane | B5: 20 | C5: 21 | D5: 22 | E5: 23 | F5: 24
A6: Lav bane | B6: 20 | C6: 21 | D6: 23 | E6: 26 | F6: 33
A7: Høy bane | B7: 23 | C7: 26 | D7: 29 | E7: 32 | F7: 33
A8: Gjennomsnitt av høy og lav bane | B8: 20 | C8: 21 | D8: 26 | E8: 29 | F8: 33
A10: Sjøfart
B11: 2026 | C11: 2027 | D11: 2028 | E11: 2029 | F11: 2030
A12: Alternativ bane | B12: 7 | C12: 8 | D12: 9 | E12: 10 | F12: 11
A13: Lav bane | B13: 7 | C13: 8 | D13: 9 | E13: 11 | F13: 18
A14: Høy bane | B14: 10 | C14: 13 | D14: 15 | E14: 17 | F14: 18
A15: Gjennomsnitt av høy og lav bane | B15: 7 | C15: 8 | D15: 12 | E15: 14 | F15: 18
A17: Andre formål
B18: 2026 | C18: 2027 | D18: 2028 | E18: 2029 | F18: 2030
A19: Alternativ bane | B19: 11 | C19: 12 | D19: 13 | E19: 14 | F19: 15
A20: Lav bane | B20: 11 | C20: 12 | D20: 14 | E20: 18 | F20: 28
A21: Høy bane | B21: 16 | C21: 18 | D21: 21 | E21: 25 | F21: 28
A22: Gjennomsnitt av høy og lav bane | B22: 11 | C22: 12 | D22: 17.5 | E22: 21.5 | F22: 28
A24: Luftfart
B25: 2026 | C25: 2027 | D25: 2028 | E25: 2029 | F25: 2030
A26: ReFuelEU Aviation | B26: 2 | C26: 2 | D26: 2 | E26: 2 | F26: 6

Sheet Figur 4.10
A1: Figur 4.10 | B1: =INDEX(Innhold!$B:$B,MATCH($A$1,Innhold!$A:$A,0)) -> FoU-utgifter til energi, klima og miljø i 2017–2023 (faste 2022-priser)
C3: 2017 | D3: 2019 | E3: 2021 | F3: 2023
A4: Energi | B4: Energi: Fornybar energi | C4: 2056 | D4: 2351 | E4: 2833 | F4: 3650
B5: Energi: Energieffektivisering og omlegging | C5: 2468 | D5: 3157 | E5: 3705 | F5: 4762
B6: Energi: Petroleum | C6: 5570 | D6: 5462 | E6: 4680 | F6: 4872
B7: Energi: Annen energi (kjernekraft og kull) | C7: 152 | D7: 93 | E7: 137 | F7: 93
A8: Klima | B8: Klima: Klima og klimatilpasninger | C8: 1691 | D8: 1923 | E8: 2049 | F8: 2127
B9: Klima: Klimateknologi og annen utslippsreduksjon | C9: 779 | D9: 1011 | E9: 1358 | F9: 1446
B10: Klima: CO2-håndtering | C10: 635 | D10: 847 | E10: 1278 | F10: 1788
A11: Miljø | B11: Miljø: Landbasert miljø og samfunn | C11: 1995 | D11: 1969 | E11: 2326 | F11: 2839
B12: Miljø: Miljøteknologi | C12: 2007 | D12: 2247 | E12: 3096 | F12: 3353

Sheet Figur 4.11
A1: Figur 4.11 | B1: =INDEX(Innhold!$B:$B,MATCH($A$1,Innhold!$A:$A,0)) -> Materialproduktivitet sammenlignet med år 2000
A3: År | B3: Materialproduktivitetsindeks | C3: Referanselinje år 2000 = 100
A4: 2000 | B4: 100 | C4: 100
A5: 2001 | B5: 109.5 | C5: 100
A6: 2002 | B6: 114.8 | C6: 100
A7: 2003 | B7: 106.6 | C7: 100
A8: 2004 | B8: 102.8 | C8: 100
A9: 2005 | B9: 102.1 | C9: 100
A10: 2006 | B10: 82 | C10: 100
A11: 2007 | B11: 85 | C11: 100
A12: 2008 | B12: 72.4 | C12: 100
A13: 2009 | B13: 76.9 | C13: 100
A14: 2010 | B14: 73.4 | C14: 100
A15: 2011 | B15: 72.9 | C15: 100
... A28: 2024 | B28: 99 | C28: 100

Sheet Figur 4.12
A1: Figur 4.12 | B1: =INDEX(Innhold!$B:$B,MATCH($A$1,Innhold!$A:$A,0)) -> Materialfotavtrykk per innbygger i Norge, gjennomsnitt for EU, Danmark, Finland, Sverige og Tyskland
A3: År | B3: Norge | C3: EU | D3: Danmark | E3: Finland | F3: Sverige | G3: Tyskland
A4: 2008 | B4: 39.6 | C4: 18.5 | D4: 28.9 | E4: 47.7 | F4: 24.3 | G4: 16.4
A5: 2009 | B5: 37.2 | C5: 16.2 | D5: 24.9 | E5: 36.6 | F5: 21.6 | G5: 15.3
A6: 2010 | B6: 33 | C6: 14.8 | D6: 18.2 | E6: 46.2 | F6: 23.4 | G6: 14.8
A7: 2011 | B7: 33.2 | C7: 15.8 | D7: 21.3 | E7: 48.9 | F7: 25.8 | G7: 16.3
A8: 2012 | B8: 36.4 | C8: 14.2 | D8: 22.6 | E8: 46.3 | F8: 25.4 | G8: 15.8
A9: 2013 | B9: 37 | C9: 13.9 | D9: 21.4 | E9: 46.4 | F9: 26.6 | G9: 15.4
A10: 2014 | B10: 37.5 | C10: 14.1 | D10: 21.1 | E10: 45.4 | F10: 26.5 | G10: 15.5
A11: 2015 | B11: 44.8 | C11: 14 | D11: 23.1 | E11: 39.3 | F11: 25 | G11: 14.8
A12: 2016 | B12: 41.8 | C12: 14.1 | D12: 23.3 | E12: 43 | F12: 25.4 | G12: 15.1
A13: 2017 | B13: 37.1 | C13: 14.5 | D13: 22.9 | E13: 43 | F13: 25.5 | G13: 15.5
A14: 2018 | B14: 39.2 | C14: 14.8 | D14: 23.2 | E14: 43.8 | F14: 26.1 | G14: 15.7
A15: 2019 | B15: 37.7 | C15: 14.9 | D15: 24.2 | E15: 39.8 | F15: 26 | G15: 15.5
... A19: 2023 | B19: 34 | C19: 13.7 | D19: 22.2 | E19: 38.3 | F19: 22.3 | G19: 12.3

Sheet Figur 4.13
A1: Figur 4.13 | B1: =INDEX(Innhold!$B:$B,MATCH($A$1,Innhold!$A:$A,0)) -> Utslipp fra transport fordelt på ulike kilder – historiske utslipp og fremskriving med vedtatt politikk
B3: 1990 | C3: 1991 | D3: 1992 | E3: 1993 | F3: 1994 | G3: 1995 | H3: 1996 | I3: 1997 | J3: 1998 | K3: 1999 | L3: 2000 | M3: 2001 | N3: 2002 | O3: 2003 | P3: 2004 | Q3: 2005 | R3: 2006 | S3: 2007 | T3: 2008 | U3: 2009 | V3: 2010 | W3: 2011 | X3: 2012 | Y3: 2013 | Z3: 2014 | AA3: 2015 | AB3: 2016 | AC3: 2017 | AD3: 2018 | AE3: 2019 | AF3: 2020 | AG3: 2021 | AH3: 2022 | AI3: 2023 | AJ3: 2024 | AK3: 2025 | AL3: 2026 | AM3: 2027 | AN3: 2028 | AO3: 2029 | AP3: 2030 | AQ3: 2031 | AR3: 2032 | AS3: 2033 | AT3: 2034 | AU3: 2035 | AV3: 2036 | AW3: 2037 | AX3: 2038 | AY3: 2039 | AZ3: 2040 | BA3: 2041 | BB3: 2042 | BC3: 2043 | BD3: 2044 | BE3: 2045 | BF3: 2046 | BG3: 2047 | BH3: 2048 | BI3: 2049 | BJ3: 2050
A4: Veitrafikk | B4: 7.4 | C4: 7.2 | D4: 7.3 | E4: 7.4 | F4: 7.3 | G4: 7.5 | H4: 7.8 | I4: 7.8 | J4: 8 | K4: 8.4 | L4: 8.3 | M4: 8.8 | N4: 8.8 | O4: 9 | P4: 9.3 | Q4: 9.4 | R4: 9.7 | S4: 9.9 | T4: 9.8 | U4: 9.6 | V4: 9.9 | W4: 9.8 | X4: 9.8 | Y4: 9.9 | Z4: 10.1 | AA4: 10.1 | AB4: 9.8 | AC4: 9 | AD4: 9.2 | AE4: 8.6 | AF4: 8.2 | AG4: 8.5 | AH4: 8.6 | AI4: 7.9 | AJ4: 7.4 | AK4: 6.9 | AL4: 6.3 | AM4: 5.8 | AN4: 5.4 | AO4: 5 | AP4: 4.6 | AQ4: 4.2 | AR4: 3.9 | AS4: 3.6 | AT4: 3.3 | AU4: 3 | AV4: 2.8 | AW4: 2.6 | AX4: 2.4 | AY4: 2.2 | AZ4: 2 | BA4: 1.9 | BB4: 1.8 | BC4: 1.7 | BD4: 1.6 | BE4: 1.5 | BF4: 1.4 | BG4: 1.3 | BH4: 1.3 | BI4: 1.2 | BJ4: 1.1
A5: Kvotepliktig luftfart | B5: 0.7 | C5: 0.7 | D5: 0.7 | E5: 0.7 | F5: 0.9 | G5: 0.9 | H5: 0.9 | I5: 0.9 | J5: 0.9 | K5: 1 | L5: 0.8 | M5: 0.9 | N5: 1 | O5: 0.7 | P5: 0.9 | Q5: 0.9 | R5: 0.9 | S5: 0.9 | T5: 0.9 | U5: 0.9 | V5: 0.9 | W5: 0.9 | X5: 1 | Y5: 0.9 | Z5: 1 | AA5: 1 | AB5: 0.9 | AC5: 0.9 | AD5: 1 | AE5: 0.9 | AF5: 0.7 | AG5: 0.7 | AH5: 0.8 | AI5: 0.9 | AJ5: 0.9 | AK5: 1.1 | AL5: 1.1 | AM5: 1.1 | AN5: 1.1 | AO5: 1.1 | AP5: 1.1 | AQ5: 1.1 | AR5: 1.1 | AS5: 1 | AT5: 1 | AU5: 1 | AV5: 1 | AW5: 1 | AX5: 1 | AY5: 0.9 | AZ5: 0.9 | BA5: 0.9 | BB5: 0.9 | BC5: 0.9 | BD5: 0.9 | BE5: 0.9 | BF5: 0.9 | BG5: 0.9 | BH5: 0.8 | BI5: 0.8 | BJ5: 0.8
A6: Luftfart i innsatsfordelingen | B6: 0.3 | C6: 0.3 | D6: 0.3 | E6: 0.3 | F6: 0.3 | G6: 0.3 | H6: 0.3 | I6: 0.3 | J6: 0.3 | K6: 0.4 | L6: 0.3 | M6: 0.3 | N6: 0.3 | O6: 0.3 | P6: 0.3 | Q6: 0.3 | R6: 0.3 | S6: 0.3 | T6: 0.3 | U6: 0.3 | V6: 0.3 | W6: 0.3 | X6: 0.3 | Y6: 0.3 | Z6: 0.3 | AA6: 0.3 | AB6: 0.3 | AC6: 0.3 | AD6: 0.3 | AE6: 0.3 | AF6: 0.2 | AG6: 0.2 | AH6: 0.3 | AI6: 0.3 | AJ6: 0.3 | AK6: 0.1 | AL6: 0.1 | AM6: 0.1 | AN6: 0.1 | AO6: 0.1 | AP6: 0.1 | AQ6: 0.1 | AR6: 0.1 | AS6: 0.1 | AT6: 0.1 | AU6: 0.1 | AV6: 0.1 | AW6: 0.1 | AX6: 0.1 | AY6: 0.1 | AZ6: 0.1 | BA6: 0.1 | BB6: 0.1 | BC6: 0.1 | BD6: 0.1 | BE6: 0.1 | BF6: 0.1 | BG6: 0.1 | BH6: 0.1 | BI6: 0.1 | BJ6: 0.1
A7: Annen transport | B7: 1.5 | C7: 1.6 | D7: 1.6 | E7: 1.8 | F7: 1.7 | G7: 1.9 | H7: 2 | I7: 2 | J7: 2.1 | K7: 1.8 | L7: 1.6 | M7: 1.7 | N7: 1.6 | O7: 1.7 | P7: 1.7 | Q7: 1.8 | R7: 1.9 | S7: 2.1 | T7: 2 | U7: 1.9 | V7: 2.2 | W7: 2.2 | X7: 2.3 | Y7: 2.4 | Z7: 2.3 | AA7: 2.3 | AB7: 2.4 | AC7: 2.4 | AD7: 2.6 | AE7: 2.4 | AF7: 2.4 | AG7: 2.6 | AH7: 2.5 | AI7: 2.3 | AJ7: 2.4 | AK7: 2.4 | AL7: 2.3 | AM7: 2.2 | AN7: 2.1 | AO7: 2.1 | AP7: 2 | AQ7: 2 | AR7: 1.9 | AS7: 1.8 | AT7: 1.7 | AU7: 1.7 | AV7: 1.6 | AW7: 1.5 | AX7: 1.5 | AY7: 1.4 | AZ7: 1.4 | BA7: 1.3 | BB7: 1.3 | BC7: 1.2 | BD7: 1.2 | BE7: 1.1 | BF7: 1.1 | BG7: 1 | BH7: 1 | BI7: 1 | BJ7: 0.9

Sheet Figur 4.15
A1: Figur 4.15 | B1: =INDEX(Innhold!$B:$B,MATCH($A$1,Innhold!$A:$A,0)) -> Tidslinje for utfasing av fossile brensler for veitransporten
B3: 2025 | C3: 2026 | D3: 2027 | E3: 2028 | F3: 2029 | G3: 2030 | H3: 2031 | I3: 2032 | J3: 2033 | K3: 2034 | L3: 2035 | M3: 2036 | N3: 2037 | O3: 2038 | P3: 2039 | Q3: 2040 | R3: 2041 | S3: 2042 | T3: 2043 | U3: 2044 | V3: 2045 | W3: 2046 | X3: 2047 | Y3: 2048 | Z3: 2049 | AA3: 2050
A4: Utslipp (mill. tonn CO2-ekv.) | B4: 6.9 | C4: 6.1 | D4: 5.5 | E4: 4.6 | F4: 3.8 | G4: 3.1 | H4: 2.5 | I4: 2.1 | J4: 1.7 | K4: 1.4 | L4: 1.2 | M4: 1 | N4: 0.8 | O4: 0.6 | P4: 0.5 | Q4: 0.4 | R4: 0.3 | S4: 0.3 | T4: 0.2 | U4: 0.2 | V4: 0.2 | W4: 0.2 | X4: 0.1 | Y4: 0.1 | Z4: 0.1 | AA4: 0.1

Sheet Figur 4.16
A1: Figur 4.16 | B1: =INDEX(Innhold!$B:$B,MATCH($A$1,Innhold!$A:$A,0)) -> Sektorindikator veitransport – Status på utslipp fra veitransporten i 2025, og andel nullutslippskjøretøy så langt i 2026
B3: Mill. tonn CO2-ekv
A4: Personbiler | B4: 3.5
A5: Varebiler | B5: 1.4
A6: Tunge kjøretøy | B6: 2.9
A7: Motorsykler og mopeder | B7: 0.1
B9: Andel av nye kjøretøy (tall inne i sirkelen og tilpasse grønt rundt sirkelen) | C9: Andel av kjøretøybestanden (tall i tekst under)
A10: personbiler | B10: 0.972 | C10: 0.343
A11: varebiler | B11: 0.525 | C11: 0.109
A12: bybusser | B12: 0.927 | C12: 0.347 | D12: Inkl. gass
A13: langdistansebusser | B13: 0.124 | C13: 0.124
A14: lastebiler | B14: 0.222 | C14: 0.052

Sheet Figur 4.18
A1: Figur 4.18 | B1: =INDEX(Innhold!$B:$B,MATCH($A$1,Innhold!$A:$A,0)) -> Antall utenlands og innenlands flyreiser til/fra norske lufthavner
B3: 2009 | C3: 2010 | D3: 2011 | E3: 2012 | F3: 2013 | G3: 2014 | H3: 2015 | I3: 2016 | J3: 2017 | K3: 2018 | L3: 2019 | M3: 2020 | N3: 2021 | O3: 2022 | P3: 2023 | Q3: 2024 | R3: 2025
A4: Innland | B4: 27004650 | C4: 27443972 | D4: 30005470 | E4: 31398690 | F4: 31659693 | G4: 31939295 | H4: 31397485 | I4: 31673610 | J4: 32531263 | K4: 33016877 | L4: 32829143 | M4: 16299973 | N4: 19204714 | O4: 29712656 | P4: 31099277 | Q4: 30823309 | R4: 31679082
A5: Utland | B5: 14987416 | C5: 16602968 | D5: 18327128 | E5: 19851906 | F5: 21762494 | G5: 22442177 | H5: 22484091 | I5: 22570633 | J5: 23169667 | K5: 24108159 | L5: 24505770 | M5: 5497873 | N5: 5134731 | O5: 18408871 | P5: 21582571 | Q5: 23269933 | R5: 24029954

Sheet Figur 4.19
A1: Figur 4.19 | B1: =INDEX(Innhold!$B:$B,MATCH($A$1,Innhold!$A:$A,0)) -> Tidslinje for utfasing av fossile brensler i luftfart
B3: 2025 | C3: 2026 | D3: 2027 | E3: 2028 | F3: 2029 | G3: 2030 | H3: 2031 | I3: 2032 | J3: 2033 | K3: 2034 | L3: 2035 | M3: 2036 | N3: 2037 | O3: 2038 | P3: 2039 | Q3: 2040 | R3: 2041 | S3: 2042 | T3: 2043 | U3: 2044 | V3: 2045 | W3: 2046 | X3: 2047 | Y3: 2048 | Z3: 2049 | AA3: 2050
A4: Utslipp (mill. tonn CO2-ekv.) | B4: 1.2 | C4: 1.2 | D4: 1.2 | E4: 1.2 | F4: 1.2 | G4: 1.1 | H4: 1.1 | I4: 1.1 | J4: 1.1 | K4: 1.1 | L4: 0.8 | M4: 0.8 | N4: 0.8 | O4: 0.7 | P4: 0.7 | Q4: 0.7 | R4: 0.7 | S4: 0.7 | T4: 0.7 | U4: 0.6 | V4: 0.6 | W4: 0.6 | X4: 0.6 | Y4: 0.6 | Z4: 0.6 | AA4: 0.6

Sheet Figur 4.21
A1: Figur 4.21 | B1: =INDEX(Innhold!$B:$B,MATCH($A$1,Innhold!$A:$A,0)) -> Tidslinje for utfasing av bruk av fossile brensler i maskiner
B3: 2025 | C3: 2026 | D3: 2027 | E3: 2028 | F3: 2029 | G3: 2030 | H3: 2031 | I3: 2032 | J3: 2033 | K3: 2034 | L3: 2035 | M3: 2036 | N3: 2037 | O3: 2038 | P3: 2039 | Q3: 2040 | R3: 2041 | S3: 2042 | T3: 2043 | U3: 2044 | V3: 2045 | W3: 2046 | X3: 2047 | Y3: 2048 | Z3: 2049 | AA3: 2050
A4: Utslipp (mill. tonn CO2-ekv.) | B4: 2.4 | C4: 2.3 | D4: 2.1 | E4: 1.9 | F4: 1.7 | G4: 1.5 | H4: 1.4 | I4: 1.4 | J4: 1.4 | K4: 1.3 | L4: 1.3 | M4: 1.2 | N4: 1.2 | O4: 1.1 | P4: 1.1 | Q4: 1.1 | R4: 1 | S4: 1 | T4: 1 | U4: 0.9 | V4: 0.9 | W4: 0.9 | X4: 0.8 | Y4: 0.8 | Z4: 0.8 | AA4: 0.8

Sheet Figur 4.23
A1: Figur 4.23 | B1: =INDEX(Innhold!$B:$B,MATCH($A$1,Innhold!$A:$A,0)) -> Status og forventet utvikling for utslipp fra sjøfart og fiske
B3: 1990 | C3: 1991 | D3: 1992 | E3: 1993 | F3: 1994 | G3: 1995 | H3: 1996 | I3: 1997 | J3: 1998 | K3: 1999 | L3: 2000 | M3: 2001 | N3: 2002 | O3: 2003 | P3: 2004 | Q3: 2005 | R3: 2006 | S3: 2007 | T3: 2008 | U3: 2009 | V3: 2010 | W3: 2011 | X3: 2012 | Y3: 2013 | Z3: 2014 | AA3: 2015 | AB3: 2016 | AC3: 2017 | AD3: 2018 | AE3: 2019 | AF3: 2020 | AG3: 2021 | AH3: 2022 | AI3: 2023 | AJ3: 2024 | AK3: 2025 | AL3: 2026 | AM3: 2027 | AN3: 2028 | AO3: 2029 | AP3: 2030 | AQ3: 2031 | AR3: 2032 | AS3: 2033 | AT3: 2034 | AU3: 2035 | AV3: 2036 | AW3: 2037 | AX3: 2038 | AY3: 2039 | AZ3: 2040 | BA3: 2041 | BB3: 2042 | BC3: 2043 | BD3: 2044 | BE3: 2045 | BF3: 2046 | BG3: 2047 | BH3: 2048 | BI3: 2049 | BJ3: 2050
A4: Innenriks sjøfart | B4: 1.8 | C4: 1.7 | D4: 1.8 | E4: 1.9 | F4: 1.9 | G4: 2.6 | H4: 2.7 | I4: 2.9 | J4: 2.9 | K4: 3 | L4: 2.5 | M4: 2.4 | N4: 2.3 | O4: 2.7 | P4: 2.6 | Q4: 2.5 | R4: 2.7 | S4: 2.7 | T4: 2.6 | U4: 2.6 | V4: 2.9 | W4: 3 | X4: 3 | Y4: 3.1 | Z4: 3.2 | AA4: 3 | AB4: 2.8 | AC4: 2.9 | AD4: 2.8 | AE4: 3 | AF4: 2.9 | AG4: 2.8 | AH4: 3 | AI4: 3.1 | AJ4: 2.8 | AK4: 2.9 | AL4: 2.8 | AM4: 2.8 | AN4: 2.7 | AO4: 2.6 | AP4: 2.4 | AQ4: 2.4 | AR4: 2.3 | AS4: 2.2 | AT4: 2.2 | AU4: 2.1 | AV4: 2 | AW4: 1.9 | AX4: 1.8 | AY4: 1.7 | AZ4: 1.6 | BA4: 1.6 | BB4: 1.5 | BC4: 1.5 | BD4: 1.4 | BE4: 1.4 | BF4: 1.3 | BG4: 1.3 | BH4: 1.3 | BI4: 1.2 | BJ4: 1.2
A5: Fiske | B5: 0.8 | C5: 0.7 | D5: 0.8 | E5: 0.8 | F5: 0.8 | G5: 0.7 | H5: 0.8 | I5: 0.9 | J5: 1 | K5: 1.1 | L5: 1 | M5: 1.1 | N5: 1.1 | O5: 0.8 | P5: 0.8 | Q5: 0.7 | R5: 0.8 | S5: 0.7 | T5: 0.7 | U5: 0.8 | V5: 0.7 | W5: 0.6 | X5: 0.6 | Y5: 0.5 | Z5: 0.6 | AA5: 0.6 | AB5: 0.6 | AC5: 0.7 | AD5: 0.8 | AE5: 0.8 | AF5: 0.8 | AG5: 0.8 | AH5: 0.9 | AI5: 0.9 | AJ5: 0.8 | AK5: 0.8 | AL5: 0.8 | AM5: 0.7 | AN5: 0.7 | AO5: 0.7 | AP5: 0.7 | AQ5: 0.7 | AR5: 0.7 | AS5: 0.7 | AT5: 0.7 | AU5: 0.7 | AV5: 0.6 | AW5: 0.6 | AX5: 0.6 | AY5: 0.6 | AZ5: 0.6 | BA5: 0.6 | BB5: 0.6 | BC5: 0.6 | BD5: 0.6 | BE5: 0.5 | BF5: 0.5 | BG5: 0.5 | BH5: 0.5 | BI5: 0.5 | BJ5: 0.5
A6: Fritidsbåter | B6: 0.2 | C6: 0.2 | D6: 0.2 | E6: 0.2 | F6: 0.2 | G6: 0.2 | H6: 0.2 | I6: 0.2 | J6: 0.2 | K6: 0.2 | L6: 0.2 | M6: 0.2 | N6: 0.2 | O6: 0.3 | P6: 0.3 | Q6: 0.3 | R6: 0.3 | S6: 0.3 | T6: 0.3 | U6: 0.3 | V6: 0.3 | W6: 0.3 | X6: 0.3 | Y6: 0.3 | Z6: 0.3 | AA6: 0.3 | AB6: 0.3 | AC6: 0.3 | AD6: 0.3 | AE6: 0.3 | AF6: 0.3 | AG6: 0.3 | AH6: 0.2 | AI6: 0.2 | AJ6: 0.2 | AK6: 0.2 | AL6: 0.2 | AM6: 0.1 | AN6: 0.1 | AO6: 0.1 | AP6: 0.1 | AQ6: 0.1 | AR6: 0.1 | AS6: 0.1 | AT6: 0.1 | AU6: 0.1 | AV6: 0.1 | AW6: 0.1 | AX6: 0.1 | AY6: 0.1 | AZ6: 0.1 | BA6: 0.1 | BB6: 0.1 | BC6: 0.1 | BD6: 0.1 | BE6: 0.1 | BF6: 0.1 | BG6: 0.1 | BH6: 0.1 | BI6: 0.1 | BJ6: 0.1

Sheet Figur 4.24
A1: Figur 4.24 | B1: =INDEX(Innhold!$B:$B,MATCH($A$1,Innhold!$A:$A,0)) -> Tidslinje for utfasing av bruk av fossile brensler i sjøfarten
B3: 2025 | C3: 2026 | D3: 2027 | E3: 2028 | F3: 2029 | G3: 2030 | H3: 2031 | I3: 2032 | J3: 2033 | K3: 2034 | L3: 2035 | M3: 2036 | N3: 2037 | O3: 2038 | P3: 2039 | Q3: 2040 | R3: 2041 | S3: 2042 | T3: 2043 | U3: 2044 | V3: 2045 | W3: 2046 | X3: 2047 | Y3: 2048 | Z3: 2049 | AA3: 2050
A4: Utslipp (mill. tonn CO2-ekv.) | B4: 3.8 | C4: 3.8 | D4: 3.6 | E4: 3.3 | F4: 3.1 | G4: 2.9 | H4: 2.8 | I4: 2.8 | J4: 2.7 | K4: 2.7 | L4: 2.5 | M4: 2.5 | N4: 2.4 | O4: 2.4 | P4: 2.3 | Q4: 2.3 | R4: 2.3 | S4: 2.3 | T4: 2.3 | U4: 2.3 | V4: 2.3 | W4: 2.3 | X4: 2.3 | Y4: 2.3 | Z4: 2.3 | AA4: 2.3

Sheet Figur 4.25
A1: Figur 4.25 | B1: =INDEX(Innhold!$B:$B,MATCH($A$1,Innhold!$A:$A,0)) -> Status for bruk av alternative energibærere i norsk innenriks skipsfart i 2025
B3: Tonn MGO-ekv. | C3: % fordeling
A4: Fossile drivstoff | B4: 1376000 | C4: 0.91
A5: Klimavennlige drivstoff | B5: 135000 | C5: 0.09
A7: Klimavennlige drivstofftyper | B7: Total (%)
A8: Hydrogen | B8: 0.002
A9: Ammoniakk | B9: 0
A10: Bio-metanol | B10: 0
A11: Flytende biogass | B11: 0.009
A12: Biodiesel | B12: 0.365
A13: Landstrøm/Ladestrøm | B13: 0.624

Sheet Figur 4.27
A1: Figur 4.27 | B1: =INDEX(Innhold!$B:$B,MATCH($A$1,Innhold!$A:$A,0)) -> Utslipp i ulike deler av industrien og energiforsyning
B3: Metallurgisk industri | C3: Kjemisk industri | D3: Mineralsk industri | E3: Oljeraffinering | F3: Treforedling | G3: Annen industri | H3: Energiforsyning | I3: Samlet industri, bergverk og energiforsyning (fremskriving)
A4: 1990 | B4: 10.2 | C4: 4.2 | D4: 1.5 | E4: 1.8 | F4: 0.3 | G4: 1.3 | H4: 0.3
A5: 1991 | B5: 9.3 | C5: 3.9 | D5: 1.3 | E5: 1.6 | F5: 0.3 | G5: 1.1 | H5: 0.4
A6: 1992 | B6: 7.2 | C6: 3.3 | D6: 1.5 | E6: 2 | F6: 0.3 | G6: 1.1 | H6: 0.4
A7: 1993 | B7: 7.4 | C7: 3.6 | D7: 1.8 | E7: 2 | F7: 0.3 | G7: 1.1 | H7: 0.4
A8: 1994 | B8: 7.6 | C8: 3.8 | D8: 1.9 | E8: 2.1 | F8: 0.7 | G8: 1.3 | H8: 0.5
A9: 1995 | B9: 7.4 | C9: 3.7 | D9: 1.9 | E9: 1.7 | F9: 0.6 | G9: 1.1 | H9: 0.5
A10: 1996 | B10: 7.2 | C10: 3.8 | D10: 2 | E10: 2.1 | F10: 0.8 | G10: 1.2 | H10: 0.6
A11: 1997 | B11: 7.1 | C11: 4.1 | D11: 2.1 | E11: 1.9 | F11: 0.6 | G11: 1.1 | H11: 0.5
A12: 1998 | B12: 7.5 | C12: 4 | D12: 2 | E12: 2 | F12: 0.6 | G12: 1.2 | H12: 0.5
A13: 1999 | B13: 7.6 | C13: 3.9 | D13: 1.8 | E13: 2 | F13: 0.5 | G13: 1.1 | H13: 0.5
A14: 2000 | B14: 7.6 | C14: 4.1 | D14: 1.8 | E14: 1.9 | F14: 0.4 | G14: 1 | H14: 0.5
A15: 2001 | B15: 7.1 | C15: 4.1 | D15: 1.7 | E15: 1.9 | F15: 0.5 | G15: 1 | H15: 0.5
... A38: 2024 | B38: 5 | C38: 1.9 | D38: 1.4 | E38: 1.6 | F38: 0.1 | G38: 0.6 | H38: 1.1
A39: 2025 | I39: 11.9
A40: 2026 | I40: 11.9
A41: 2027 | I41: 11.9
A42: 2028 | I42: 11.7
A43: 2029 | I43: 11.5
A44: 2030 | I44: 11.2
A45: 2031 | I45: 10.9
A46: 2032 | I46: 10.7
A47: 2033 | I47: 10.5
A48: 2034 | I48: 10.3
A49: 2035 | I49: 10
A50: 2036 | I50: 9.8
... A64: 2050 | I64: 6.3

Sheet Figur 4.28
A1: Figur 4.28 | B1: =INDEX(Innhold!$B:$B,MATCH($A$1,Innhold!$A:$A,0)) -> Tidslinje for utfasing av bruk av fossile brensler i industri
B3: 2025 | C3: 2026 | D3: 2027 | E3: 2028 | F3: 2029 | G3: 2030 | H3: 2031 | I3: 2032 | J3: 2033 | K3: 2034 | L3: 2035 | M3: 2036 | N3: 2037 | O3: 2038 | P3: 2039 | Q3: 2040 | R3: 2041 | S3: 2042 | T3: 2043 | U3: 2044 | V3: 2045 | W3: 2046 | X3: 2047 | Y3: 2048 | Z3: 2049 | AA3: 2050
A4: Utslipp (mill. tonn CO2-ekv.) | B4: 2.3 | C4: 2 | D4: 2 | E4: 1.9 | F4: 1.7 | G4: 1.4 | H4: 1.4 | I4: 1.3 | J4: 1.3 | K4: 1.2 | L4: 1.2 | M4: 1.2 | N4: 1.1 | O4: 1.1 | P4: 1 | Q4: 1 | R4: 0.9 | S4: 0.9 | T4: 0.9 | U4: 0.8 | V4: 0.8 | W4: 0.8 | X4: 0.8 | Y4: 0.7 | Z4: 0.7 | AA4: 0.7

Sheet Figur 4.29
A1: Figur 4.29 | B1: =INDEX(Innhold!$B:$B,MATCH($A$1,Innhold!$A:$A,0)) -> Tidslinje for utfasing av bruk av fossile brensler fra energiforsyning
B3: 2025 | C3: 2026 | D3: 2027 | E3: 2028 | F3: 2029 | G3: 2030 | H3: 2031 | I3: 2032 | J3: 2033 | K3: 2034 | L3: 2035 | M3: 2036 | N3: 2037 | O3: 2038 | P3: 2039 | Q3: 2040 | R3: 2041 | S3: 2042 | T3: 2043 | U3: 2044 | V3: 2045 | W3: 2046 | X3: 2047 | Y3: 2048 | Z3: 2049 | AA3: 2050
A4: Utslipp (mill. tonn CO2-ekv.) | B4: 1.1 | C4: 1.1 | D4: 1.1 | E4: 1 | F4: 1.1 | G4: 1 | H4: 0.9 | I4: 0.9 | J4: 0.9 | K4: 0.9 | L4: 0.9 | M4: 0.9 | N4: 0.9 | O4: 0.9 | P4: 0.8 | Q4: 0.8 | R4: 0.8 | S4: 0.8 | T4: 0.8 | U4: 0.8 | V4: 0.8 | W4: 0.8 | X4: 0.8 | Y4: 0.8 | Z4: 0.7 | AA4: 0.7

Sheet Figur 4.31
A1: Figur 4.31 | B1: =INDEX(Innhold!$B:$B,MATCH($A$1,Innhold!$A:$A,0)) -> Utslippsutvikling for petroleumsutvinning 1990–2025
B3: 1990 | C3: 1991 | D3: 1992 | E3: 1993 | F3: 1994 | G3: 1995 | H3: 1996 | I3: 1997 | J3: 1998 | K3: 1999 | L3: 2000 | M3: 2001 | N3: 2002 | O3: 2003 | P3: 2004 | Q3: 2005 | R3: 2006 | S3: 2007 | T3: 2008 | U3: 2009 | V3: 2010 | W3: 2011 | X3: 2012 | Y3: 2013 | Z3: 2014 | AA3: 2015 | AB3: 2016 | AC3: 2017 | AD3: 2018 | AE3: 2019 | AF3: 2020 | AG3: 2021 | AH3: 2022 | AI3: 2023 | AJ3: 2024 | AK3: 2025
A4: Utslipp (mill. tonn CO2-ekv.) | B4: 8.2 | C4: 8.1 | D4: 8.7 | E4: 9.3 | F4: 10.1 | G4: 10.2 | H4: 11.1 | I4: 11.6 | J4: 11.3 | K4: 11.8 | L4: 13.2 | M4: 14.1 | N4: 13.8 | O4: 13.9 | P4: 14.1 | Q4: 14.1 | R4: 13.7 | S4: 15.1 | T4: 14.8 | U4: 13.7 | V4: 13.8 | W4: 13.4 | X4: 13.6 | Y4: 13.5 | Z4: 14.2 | AA4: 14.7 | AB4: 14.4 | AC4: 14.2 | AD4: 14 | AE4: 13.8 | AF4: 13.1 | AG4: 12.1 | AH4: 12 | AI4: 11.5 | AJ4: 11 | AK4: 10.9

Sheet Figur 4.32
A1: Figur 4.32 | B1: =INDEX(Innhold!$B:$B,MATCH($A$1,Innhold!$A:$A,0)) -> Anslag for utslippsutviklingen i petroleumsvirksomheten
B3: 2025 | C3: 2026 | D3: 2027 | E3: 2028 | F3: 2029 | G3: 2030 | H3: 2031 | I3: 2032 | J3: 2033 | K3: 2034 | L3: 2035 | M3: 2036 | N3: 2037 | O3: 2038 | P3: 2039 | Q3: 2040 | R3: 2041 | S3: 2042 | T3: 2043 | U3: 2044 | V3: 2045 | W3: 2046 | X3: 2047 | Y3: 2048 | Z3: 2049 | AA3: 2050
A4: Historisk | B4: 10.9
A5: Finansdepartementets utslippsfremskriving | C5: 11.2 | D5: 11.2 | E5: 10.2 | F5: 9.5 | G5: 8.3 | H5: 7.9 | I5: 7.7 | J5: 7.5 | K5: 7.4 | L5: 7.1 | M5: 6.8 | N5: 6.6 | O5: 6.2 | P5: 5.9 | Q5: 5.7 | R5: 5.3 | S5: 4.9 | T5: 4.5 | U5: 4.1 | V5: 3.8 | W5: 3.6 | X5: 3.4 | Y5: 3.3 | Z5: 3.1 | AA5: 3

Sheet Figur 4.33
A1: Figur 4.33 | B1: =INDEX(Innhold!$B:$B,MATCH($A$1,Innhold!$A:$A,0)) -> Tidslinje for utfasing av bruk av fossile brensler i petroleumssektoren
B3: 2025 | C3: 2026 | D3: 2027 | E3: 2028 | F3: 2029 | G3: 2030 | H3: 2031 | I3: 2032 | J3: 2033 | K3: 2034 | L3: 2035 | M3: 2036 | N3: 2037 | O3: 2038 | P3: 2039 | Q3: 2040 | R3: 2041 | S3: 2042 | T3: 2043 | U3: 2044 | V3: 2045 | W3: 2046 | X3: 2047 | Y3: 2048 | Z3: 2049 | AA3: 2050
A4: Utslipp (mill. tonn CO2-ekv.) | B4: 10.9 | C4: 11.2 | D4: 11.2 | E4: 10.2 | F4: 9.5 | G4: 8.3 | H4: 7.9 | I4: 7.7 | J4: 7.5 | K4: 7.4 | L4: 7.1 | M4: 6.8 | N4: 6.6 | O4: 6.2 | P4: 5.9 | Q4: 5.7 | R4: 5.3 | S4: 4.9 | T4: 4.5 | U4: 4.1 | V4: 3.8 | W4: 3.6 | X4: 3.4 | Y4: 3.3 | Z4: 3.1 | AA4: 3

Sheet Figur 4.35
A1: Figur 4.35 | B1: =INDEX(Innhold!$B:$B,MATCH($A$1,Innhold!$A:$A,0)) -> Utslipp fra jordbruk – historiske utslipp og fremskriving
B3: 1990 | C3: 1991 | D3: 1992 | E3: 1993 | F3: 1994 | G3: 1995 | H3: 1996 | I3: 1997 | J3: 1998 | K3: 1999 | L3: 2000 | M3: 2001 | N3: 2002 | O3: 2003 | P3: 2004 | Q3: 2005 | R3: 2006 | S3: 2007 | T3: 2008 | U3: 2009 | V3: 2010 | W3: 2011 | X3: 2012 | Y3: 2013 | Z3: 2014 | AA3: 2015 | AB3: 2016 | AC3: 2017 | AD3: 2018 | AE3: 2019 | AF3: 2020 | AG3: 2021 | AH3: 2022 | AI3: 2023 | AJ3: 2024 | AK3: 2025 | AL3: 2026 | AM3: 2027 | AN3: 2028 | AO3: 2029 | AP3: 2030 | AQ3: 2031 | AR3: 2032 | AS3: 2033 | AT3: 2034 | AU3: 2035 | AV3: 2036 | AW3: 2037 | AX3: 2038 | AY3: 2039 | AZ3: 2040 | BA3: 2041 | BB3: 2042 | BC3: 2043 | BD3: 2044 | BE3: 2045 | BF3: 2046 | BG3: 2047 | BH3: 2048 | BI3: 2049 | BJ3: 2050
A4: Husdyr – tarmgass | B4: 2.5 | C4: 2.5 | D4: 2.5 | E4: 2.5 | F4: 2.5 | G4: 2.5 | H4: 2.5 | I4: 2.5 | J4: 2.5 | K4: 2.5 | L4: 2.4 | M4: 2.4 | N4: 2.4 | O4: 2.4 | P4: 2.4 | Q4: 2.4 | R4: 2.3 | S4: 2.3 | T4: 2.3 | U4: 2.4 | V4: 2.3 | W4: 2.3 | X4: 2.3 | Y4: 2.3 | Z4: 2.3 | AA4: 2.4 | AB4: 2.4 | AC4: 2.4 | AD4: 2.4 | AE4: 2.3 | AF4: 2.3 | AG4: 2.4 | AH4: 2.3 | AI4: 2.3 | AJ4: 2.3 | AK4: 2.2 | AL4: 2.4 | AM4: 2.5 | AN4: 2.5 | AO4: 2.5 | AP4: 2.5 | AQ4: 2.5 | AR4: 2.5 | AS4: 2.5 | AT4: 2.5 | AU4: 2.5 | AV4: 2.5 | AW4: 2.5 | AX4: 2.5 | AY4: 2.5 | AZ4: 2.5 | BA4: 2.5 | BB4: 2.5 | BC4: 2.5 | BD4: 2.5 | BE4: 2.5 | BF4: 2.5 | BG4: 2.5 | BH4: 2.5 | BI4: 2.5 | BJ4: 2.5
A5: Husdyrgjødsel | B5: 0.7 | C5: 0.7 | D5: 0.7 | E5: 0.7 | F5: 0.7 | G5: 0.7 | H5: 0.7 | I5: 0.7 | J5: 0.7 | K5: 0.7 | L5: 0.7 | M5: 0.7 | N5: 0.7 | O5: 0.7 | P5: 0.7 | Q5: 0.7 | R5: 0.7 | S5: 0.7 | T5: 0.7 | U5: 0.8 | V5: 0.8 | W5: 0.7 | X5: 0.7 | Y5: 0.8 | Z5: 0.8 | AA5: 0.8 | AB5: 0.8 | AC5: 0.8 | AD5: 0.8 | AE5: 0.8 | AF5: 0.8 | AG5: 0.8 | AH5: 0.7 | AI5: 0.7 | AJ5: 0.7 | AK5: 0.7 | AL5: 0.8 | AM5: 0.8 | AN5: 0.8 | AO5: 0.8 | AP5: 0.8 | AQ5: 0.8 | AR5: 0.8 | AS5: 0.8 | AT5: 0.8 | AU5: 0.8 | AV5: 0.8 | AW5: 0.8 | AX5: 0.8 | AY5: 0.8 | AZ5: 0.8 | BA5: 0.8 | BB5: 0.8 | BC5: 0.8 | BD5: 0.8 | BE5: 0.8 | BF5: 0.8 | BG5: 0.8 | BH5: 0.8 | BI5: 0.8 | BJ5: 0.8
A6: Kunstgjødsel | B6: 0.7 | C6: 0.7 | D6: 0.7 | E6: 0.7 | F6: 0.7 | G6: 0.7 | H6: 0.7 | I6: 0.7 | J6: 0.7 | K6: 0.7 | L6: 0.7 | M6: 0.7 | N6: 0.7 | O6: 0.7 | P6: 0.7 | Q6: 0.7 | R6: 0.7 | S6: 0.7 | T6: 0.7 | U6: 0.6 | V6: 0.6 | W6: 0.6 | X6: 0.6 | Y6: 0.6 | Z6: 0.7 | AA6: 0.7 | AB6: 0.7 | AC6: 0.6 | AD6: 0.7 | AE6: 0.7 | AF6: 0.7 | AG6: 0.7 | AH6: 0.6 | AI6: 0.6 | AJ6: 0.6 | AK6: 0.6 | AL6: 0.7 | AM6: 0.7 | AN6: 0.7 | AO6: 0.7 | AP6: 0.7 | AQ6: 0.7 | AR6: 0.7 | AS6: 0.7 | AT6: 0.7 | AU6: 0.7 | AV6: 0.7 | AW6: 0.7 | AX6: 0.7 | AY6: 0.7 | AZ6: 0.7 | BA6: 0.7 | BB6: 0.7 | BC6: 0.7 | BD6: 0.7 | BE6: 0.7 | BF6: 0.7 | BG6: 0.7 | BH6: 0.7 | BI6: 0.7 | BJ6: 0.7
A7: Jordbruk, annet | B7: 1 | C7: 0.9 | D7: 0.9 | E7: 0.9 | F7: 0.9 | G7: 0.9 | H7: 0.9 | I7: 0.9 | J7: 0.9 | K7: 0.9 | L7: 0.8 | M7: 0.8 | N7: 0.8 | O7: 0.8 | P7: 0.8 | Q7: 0.8 | R7: 0.8 | S7: 0.8 | T7: 0.8 | U7: 0.8 | V7: 0.8 | W7: 0.8 | X7: 0.8 | Y7: 0.8 | Z7: 0.8 | AA7: 0.8 | AB7: 0.8 | AC7: 0.8 | AD7: 0.8 | AE7: 0.8 | AF7: 0.8 | AG7: 0.8 | AH7: 0.8 | AI7: 0.8 | AJ7: 0.8 | AK7: 0.8 | AL7: 0.8 | AM7: 0.8 | AN7: 0.8 | AO7: 0.8 | AP7: 0.8 | AQ7: 0.8 | AR7: 0.8 | AS7: 0.8 | AT7: 0.8 | AU7: 0.8 | AV7: 0.8 | AW7: 0.8 | AX7: 0.8 | AY7: 0.8 | AZ7: 0.8 | BA7: 0.8 | BB7: 0.8 | BC7: 0.8 | BD7: 0.8 | BE7: 0.8 | BF7: 0.8 | BG7: 0.8 | BH7: 0.8 | BI7: 0.8 | BJ7: 0.8

Sheet Figur 4.36
A1: Figur 4.36 | B1: =INDEX(Innhold!$B:$B,MATCH($A$1,Innhold!$A:$A,0)) -> Sektorindikator 1 jordbruk – utslippsintensiteten i den norske jordbruksproduksjonen
B3: 2000 | C3: 2001 | D3: 2002 | E3: 2003 | F3: 2004 | G3: 2005 | H3: 2006 | I3: 2007 | J3: 2008 | K3: 2009 | L3: 2010 | M3: 2011 | N3: 2012 | O3: 2013 | P3: 2014 | Q3: 2015 | R3: 2016 | S3: 2017 | T3: 2018 | U3: 2019 | V3: 2020 | W3: 2021 | X3: 2022 | Y3: 2023 | Z3: 2024 | AA3: 2025
A4: Tonn CO2-ekv per TJ produsert i norsk jordbruk | B4: 455.8 | C4: 436.4 | D4: 484.5 | E4: 447.4 | F4: 417.9 | G4: 418 | H4: 401.9 | I4: 398.3 | J4: 391.9 | K4: 406.6 | L4: 414.8 | M4: 403.1 | N4: 441.8 | O4: 402.5 | P4: 415.3 | Q4: 397.7 | R4: 405.7 | S4: 394.7 | T4: 442.3 | U4: 462.9 | V4: 425.3 | W4: 416.5 | X4: 400.1 | Y4: 400.5 | Z4: 440.9 | AA4: 422.1

Sheet Figur 4.40
A1: Figur 4.40 | B1: =INDEX(Innhold!$B:$B,MATCH($A$1,Innhold!$A:$A,0)) -> Sektorindikator 1 skog og areal – omfang av nedbygd areal
A3: År | B3: Omfang av nedbygging (km2) | C3: Glidende gjennomsnitt (5 år)
A4: 1990 | B4: 44.3
A5: 1991 | B5: 44.3
A6: 1992 | B6: 44.3
A7: 1993 | B7: 44.3
A8: 1994 | B8: 44.3 | C8: 44.3
A9: 1995 | B9: 48.2 | C9: 45
A10: 1996 | B10: 47.4 | C10: 45.7
A11: 1997 | B11: 49.3 | C11: 46.7
A12: 1998 | B12: 47.9 | C12: 47.4
A13: 1999 | B13: 48.3 | C13: 48.2
A14: 2000 | B14: 50.6 | C14: 48.7
A15: 2001 | B15: 54.6 | C15: 50.1
A16: 2002 | B16: 54.6 | C16: 51.2
A17: 2003 | B17: 50.6 | C17: 51.8
A18: 2004 | B18: 49.7 | C18: 52.1
A19: 2005 | B19: 51.9 | C19: 52.3
... A38: 2024 | B38: 39.5 | C38: 38.1

Sheet Figur 4.43
A1: Figur 4.43 | B1: =INDEX(Innhold!$B:$B,MATCH($A$1,Innhold!$A:$A,0)) -> Utviklingen i utslipp fra oppvarming – historiske og fremskrevne utslipp
B3: 1990 | C3: 1991 | D3: 1992 | E3: 1993 | F3: 1994 | G3: 1995 | H3: 1996 | I3: 1997 | J3: 1998 | K3: 1999 | L3: 2000 | M3: 2001 | N3: 2002 | O3: 2003 | P3: 2004 | Q3: 2005 | R3: 2006 | S3: 2007 | T3: 2008 | U3: 2009 | V3: 2010 | W3: 2011 | X3: 2012 | Y3: 2013 | Z3: 2014 | AA3: 2015 | AB3: 2016 | AC3: 2017 | AD3: 2018 | AE3: 2019 | AF3: 2020 | AG3: 2021 | AH3: 2022 | AI3: 2023 | AJ3: 2024 | AK3: 2025 | AL3: 2026 | AM3: 2027 | AN3: 2028 | AO3: 2029 | AP3: 2030 | AQ3: 2031 | AR3: 2032 | AS3: 2033 | AT3: 2034 | AU3: 2035 | AV3: 2036 | AW3: 2037 | AX3: 2038 | AY3: 2039 | AZ3: 2040 | BA3: 2041 | BB3: 2042 | BC3: 2043 | BD3: 2044 | BE3: 2045 | BF3: 2046 | BG3: 2047 | BH3: 2048 | BI3: 2049 | BJ3: 2050
A4: Utslipp (mill. tonn CO2-ekv.) | B4: 2.8 | C4: 2.5 | D4: 2.3 | E4: 2.3 | F4: 2.3 | G4: 2.4 | H4: 2.9 | I4: 2.5 | J4: 2.2 | K4: 2.5 | L4: 1.9 | M4: 2.1 | N4: 2.3 | O4: 2.7 | P4: 2.3 | Q4: 1.8 | R4: 1.9 | S4: 1.7 | T4: 1.5 | U4: 1.7 | V4: 2 | W4: 1.4 | X4: 1.3 | Y4: 1.3 | Z4: 1.1 | AA4: 0.9 | AB4: 1 | AC4: 0.9 | AD4: 0.8 | AE4: 0.6 | AF4: 0.5 | AG4: 0.5 | AH4: 0.6 | AI4: 0.6 | AJ4: 0.5 | AK4: 0.5 | AL4: 0.5 | AM4: 0.4 | AN4: 0.4 | AO4: 0.4 | AP4: 0.4 | AQ4: 0.4 | AR4: 0.4 | AS4: 0.4 | AT4: 0.4 | AU4: 0.3 | AV4: 0.3 | AW4: 0.3 | AX4: 0.3 | AY4: 0.3 | AZ4: 0.3 | BA4: 0.3 | BB4: 0.3 | BC4: 0.3 | BD4: 0.3 | BE4: 0.3 | BF4: 0.3 | BG4: 0.3 | BH4: 0.3 | BI4: 0.2 | BJ4: 0.2

Sheet Figur 4.44
A1: Figur 4.44 | B1: =INDEX(Innhold!$B:$B,MATCH($A$1,Innhold!$A:$A,0)) -> Tidslinje for utfasing fra fossil oppvarming
B3: 2025 | C3: 2026 | D3: 2027 | E3: 2028 | F3: 2029 | G3: 2030 | H3: 2031 | I3: 2032 | J3: 2033 | K3: 2034 | L3: 2035 | M3: 2036 | N3: 2037 | O3: 2038 | P3: 2039 | Q3: 2040 | R3: 2041 | S3: 2042 | T3: 2043 | U3: 2044 | V3: 2045 | W3: 2046 | X3: 2047 | Y3: 2048 | Z3: 2049 | AA3: 2050
A4: Utslipp (mill. tonn CO2-ekv.) | B4: 0.5 | C4: 0.4 | D4: 0.4 | E4: 0.3 | F4: 0.3 | G4: 0.3 | H4: 0.3 | I4: 0.2 | J4: 0.2 | K4: 0.2 | L4: 0.2 | M4: 0.2 | N4: 0.2 | O4: 0.2 | P4: 0.2 | Q4: 0.2 | R4: 0.2 | S4: 0.2 | T4: 0.2 | U4: 0.2 | V4: 0.2 | W4: 0.2 | X4: 0.2 | Y4: 0.2 | Z4: 0.2 | AA4: 0.2

Sheet Figur 4.46
A1: Figur 4.46 | B1: =INDEX(Innhold!$B:$B,MATCH($A$1,Innhold!$A:$A,0)) -> Andre utslipp – historiske utslipp og fremskriving
B3: 1990 | C3: 1991 | D3: 1992 | E3: 1993 | F3: 1994 | G3: 1995 | H3: 1996 | I3: 1997 | J3: 1998 | K3: 1999 | L3: 2000 | M3: 2001 | N3: 2002 | O3: 2003 | P3: 2004 | Q3: 2005 | R3: 2006 | S3: 2007 | T3: 2008 | U3: 2009 | V3: 2010 | W3: 2011 | X3: 2012 | Y3: 2013 | Z3: 2014 | AA3: 2015 | AB3: 2016 | AC3: 2017 | AD3: 2018 | AE3: 2019 | AF3: 2020 | AG3: 2021 | AH3: 2022 | AI3: 2023 | AJ3: 2024 | AK3: 2025 | AL3: 2026 | AM3: 2027 | AN3: 2028 | AO3: 2029 | AP3: 2030 | AQ3: 2031 | AR3: 2032 | AS3: 2033 | AT3: 2034 | AU3: 2035 | AV3: 2036 | AW3: 2037 | AX3: 2038 | AY3: 2039 | AZ3: 2040 | BA3: 2041 | BB3: 2042 | BC3: 2043 | BD3: 2044 | BE3: 2045 | BF3: 2046 | BG3: 2047 | BH3: 2048 | BI3: 2049 | BJ3: 2050
A4: Produkt med f-gasser | B4: 0.1 | C4: 0.1 | D4: 0.1 | E4: 0.1 | F4: 0.1 | G4: 0.2 | H4: 0.2 | I4: 0.3 | J4: 0.4 | K4: 0.5 | L4: 0.5 | M4: 0.6 | N4: 0.6 | O4: 0.5 | P4: 0.6 | Q4: 0.6 | R4: 0.6 | S4: 0.7 | T4: 0.7 | U4: 0.8 | V4: 0.8 | W4: 0.9 | X4: 0.9 | Y4: 1 | Z4: 1 | AA4: 0.9 | AB4: 1 | AC4: 0.9 | AD4: 0.9 | AE4: 0.9 | AF4: 0.9 | AG4: 0.9 | AH4: 0.8 | AI4: 0.8 | AJ4: 0.8 | AK4: 0.7 | AL4: 0.7 | AM4: 0.7 | AN4: 0.8 | AO4: 0.7 | AP4: 0.5 | AQ4: 0.5 | AR4: 0.4 | AS4: 0.3 | AT4: 0.3 | AU4: 0.3 | AV4: 0.3 | AW4: 0.3 | AX4: 0.3 | AY4: 0.3 | AZ4: 0.3 | BA4: 0.3 | BB4: 0.2 | BC4: 0.2 | BD4: 0.2 | BE4: 0.2 | BF4: 0.2 | BG4: 0.2 | BH4: 0.2 | BI4: 0.2 | BJ4: 0.2
A5: Metan fra avfallsdeponi | B5: 2.3 | C5: 2.2 | D5: 2.2 | E5: 2.2 | F5: 2.2 | G5: 2.2 | H5: 2.1 | I5: 2 | J5: 1.9 | K5: 1.8 | L5: 1.8 | M5: 1.8 | N5: 1.7 | O5: 1.7 | P5: 1.6 | Q5: 1.5 | R5: 1.6 | S5: 1.5 | T5: 1.5 | U5: 1.5 | V5: 1.4 | W5: 1.4 | X5: 1.4 | Y5: 1.3 | Z5: 1.3 | AA5: 1.2 | AB5: 1.2 | AC5: 1.1 | AD5: 1.1 | AE5: 1 | AF5: 0.9 | AG5: 0.9 | AH5: 0.9 | AI5: 0.8 | AJ5: 0.8 | AK5: 0.8 | AL5: 0.8 | AM5: 0.7 | AN5: 0.7 | AO5: 0.7 | AP5: 0.6 | AQ5: 0.6 | AR5: 0.6 | AS5: 0.5 | AT5: 0.5 | AU5: 0.5 | AV5: 0.5 | AW5: 0.5 | AX5: 0.4 | AY5: 0.4 | AZ5: 0.4 | BA5: 0.4 | BB5: 0.4 | BC5: 0.4 | BD5: 0.3 | BE5: 0.3 | BF5: 0.3 | BG5: 0.3 | BH5: 0.3 | BI5: 0.3 | BJ5: 0.3
A6: Andre kilder | B6: 0.7 | C6: 0.7 | D6: 0.7 | E6: 0.7 | F6: 0.7 | G6: 0.7 | H6: 0.7 | I6: 0.7 | J6: 0.6 | K6: 0.7 | L6: 0.7 | M6: 0.7 | N6: 0.6 | O6: 0.6 | P6: 0.6 | Q6: 0.6 | R6: 0.6 | S6: 0.6 | T6: 0.6 | U6: 0.6 | V6: 0.6 | W6: 0.6 | X6: 0.6 | Y6: 0.6 | Z6: 0.5 | AA6: 0.5 | AB6: 0.6 | AC6: 0.5 | AD6: 0.5 | AE6: 0.5 | AF6: 0.5 | AG6: 0.5 | AH6: 0.5 | AI6: 0.5 | AJ6: 0.5 | AK6: 0.5 | AL6: 0.5 | AM6: 0.5 | AN6: 0.5 | AO6: 0.5 | AP6: 0.5 | AQ6: 0.5 | AR6: 0.5 | AS6: 0.5 | AT6: 0.5 | AU6: 0.5 | AV6: 0.5 | AW6: 0.5 | AX6: 0.5 | AY6: 0.5 | AZ6: 0.5 | BA6: 0.5 | BB6: 0.5 | BC6: 0.5 | BD6: 0.5 | BE6: 0.5 | BF6: 0.5 | BG6: 0.5 | BH6: 0.5 | BI6: 0.5 | BJ6: 0.5

Sheet Figur 5.3
A1: Figur 5.3 | B1: =INDEX(Innhold!$B:$B,MATCH($A$1,Innhold!$A:$A,0)) -> Utslippsbudsjett under innsatsfordelingen, fremskriving av utslippene med vedtatt politikk og effektene av planlagt politikk
B3: 2021 | C3: 2022 | D3: 2023 | E3: 2024 | F3: 2025 | G3: 2026 | H3: 2027 | I3: 2028 | J3: 2029 | K3: 2030
A4: Årlig utslippsbudsjett (50 pst. kutt i 2030 sammenlignet med 2005) | B4: 25.2 | C4: 24.3 | D4: 23.1 | E4: 21.8 | F4: 20.6 | G4: 21.3 | H4: 19.6 | I4: 17.9 | J4: 16.2 | K4: 14.5
A5: Utslippsframskriving Nasjonalbudsjettet 2027 | F5: 22.7 | G5: 22 | H5: 21.2 | I5: 20.5 | J5: 19.8 | K5: 18.9
A6: Historiske utslipp 2021-2025 | B6: 25.4 | C6: 25.3 | D6: 24.2 | E6: 23.1 | F6: 22.7
A7: Målrettede satsinger utfasing fossile utslipp | G7: 0.3 | H7: 0.5 | I7: 0.8 | J7: 1.1 | K7: 1.4
A8: Endrede klima- og miljøavgifter | G8: 0 | H8: 0 | I8: 0.2 | J8: 0.3 | K8: 0.3
A9: Virkemidler i jordbruket | G9: 0.1 | H9: 0.1 | I9: 0.1 | J9: 0.1 | K9: 0.1
A10: Endret krav biodrivstoff | G10: 0 | H10: 0 | I10: 0.5 | J10: 0.8 | K10: 1.2

Sheet Figur 5.4
A1: Figur 5.4 | B1: =INDEX(Innhold!$B:$B,MATCH($A$1,Innhold!$A:$A,0)) -> Forventet årlig opptak (-) og utslipp (+) for perioden 2021–2025, fordelt på de ulike bokføringskategoriene under EUs regelverk
B3: Påskoging | C3: Avskoging | D3: Dyrket mark | E3: Beite | F3: Forvaltet skog | G3: Total
A4: Uten komp. mekanisme | B4: -0.8 | C4: 2.1 | D4: 0.3 | E4: -0.2 | F4: 0.8 | G4: 2.2
A5: Med komp. mekanisme | B5: -0.8 | C5: 2.1 | D5: 0.3 | E5: -0.2 | F5: 0 | G5: 1.4

Sheet Figur 5.5
A1: Figur 5.5 | B1: =INDEX(Innhold!$B:$B,MATCH($A$1,Innhold!$A:$A,0)) -> Fremskrivinger i skog- og arealbrukssektoren
B3: 1990 | C3: 1991 | D3: 1992 | E3: 1993 | F3: 1994 | G3: 1995 | H3: 1996 | I3: 1997 | J3: 1998 | K3: 1999 | L3: 2000 | M3: 2001 | N3: 2002 | O3: 2003 | P3: 2004 | Q3: 2005 | R3: 2006 | S3: 2007 | T3: 2008 | U3: 2009 | V3: 2010 | W3: 2011 | X3: 2012 | Y3: 2013 | Z3: 2014 | AA3: 2015 | AB3: 2016 | AC3: 2017 | AD3: 2018 | AE3: 2019 | AF3: 2020 | AG3: 2021 | AH3: 2022 | AI3: 2023 | AJ3: 2024 | AK3: 2025 | AL3: 2026 | AM3: 2027 | AN3: 2028 | AO3: 2029 | AP3: 2030 | AQ3: 2031 | AR3: 2032 | AS3: 2033 | AT3: 2034 | AU3: 2035 | AV3: 2036 | AW3: 2037 | AX3: 2038 | AY3: 2039 | AZ3: 2040 | BA3: 2041 | BB3: 2042 | BC3: 2043 | BD3: 2044 | BE3: 2045 | BF3: 2046 | BG3: 2047 | BH3: 2048 | BI3: 2049 | BJ3: 2050 | BK3: =+BJ3+1 -> 2051 | BL3: =+BK3+1 -> 2052 | BM3: =+BL3+1 -> 2053 | BN3: =+BM3+1 -> 2054 | BO3: =+BN3+1 -> 2055 | BP3: =+BO3+1 -> 2056 | BQ3: =+BP3+1 -> 2057 | BR3: =+BQ3+1 -> 2058 | ... DH3: =+DG3+1 -> 2100
A4: 2019 historiske data | B4: -9.3656 | C4: -12.2856 | D4: -13.5838 | E4: -12.5563 | F4: -14.4426 | G4: -13.2359 | H4: -16.2239 | I4: -16.2616 | J4: -19.3473 | K4: -21.6675 | L4: -24.3139 | M4: -26.2291 | N4: -27.1296 | O4: -28.8036 | P4: -28.0889 | Q4: -25.1179 | R4: -27.1808 | S4: -27.0129 | T4: -27.8971 | U4: -30.8825 | V4: -27.6047 | W4: -28.5046 | X4: -25.1198 | Y4: -26.0959 | Z4: -25.0913 | AA4: -23.8978 | AB4: -24.3451 | AC4: -25.235
A5: 2019 framskriving | AC5: =AC4 -> -25.235 | AD5: -18.8239 | AE5: -19.1575 | AF5: -19.4731 | AG5: -19.6575 | AH5: -20.0274 | AI5: -20.5805 | AJ5: -20.3784 | AK5: -20.0842 | AL5: -20.1052 | AM5: -19.6751 | AN5: -19.1664 | AO5: -19.2235 | AP5: -19.221 | AQ5: -18.8135 | AR5: -19.036 | AS5: -19.1899 | AT5: -18.8258 | AU5: -18.7504 | AV5: -18.2685 | AW5: -18.0917 | AX5: -18.09 | AY5: -18.0323 | AZ5: -17.8576 | BA5: -17.5786 | BB5: -17.8352 | BC5: -17.8569 | BD5: -17.7826 | BE5: -18.1441 | BF5: -19.0087 | BG5: -18.9929 | BH5: -18.8816 | BI5: -19.1317 | BJ5: -19.2619 | BK5: -18.4448 | BL5: -18.2876 | BM5: -18.2248 | BN5: -18.04 | BO5: -18.1846 | BP5: -18.5933 | BQ5: -18.8339 | BR5: -18.8166 | BS5: -18.6389 | BT5: -18.7731 | BU5: -18.6353 | BV5: -18.7336 | BW5: -18.9861 | BX5: -19.2372 | BY5: -19.2239 | BZ5: -19.1434 | CA5: -19.0656 | CB5: -19.0879 | CC5: -19.2045 | CD5: -19.1622 | CE5: -19.4261 | CF5: -19.2947 | CG5: -19.4302 | CH5: -18.676 | CI5: -18.8538 | CJ5: -19.1393 | CK5: -19.4007 | CL5: -19.9834 | CM5: -20.9881 | CN5: -20.9155 | CO5: -21.0782 | CP5: -20.9341 | CQ5: -20.6205 | CR5: -20.3187 | CS5: -20.0725 | CT5: -20.1771 | CU5: -20.4564 | CV5: -20.8169 | CW5: -20.868 | CX5: -20.7296 | CY5: -20.8975 | CZ5: -20.435 | DA5: -20.3671 | DB5: -20.2471 | DC5: -20.3259 | DD5: -20.0281 | DE5: -20.513 | DF5: -20.4756 | DG5: -20.4219 | DH5: -20.305
A6: 2022 historiske data | B6: -10.541835 | C6: -12.330039 | D6: -11.740737 | E6: -13.271037 | F6: -11.197655 | G6: -15.443388 | H6: -14.511738 | I6: -13.203163 | J6: -15.440087 | K6: -17.002619 | L6: -18.640784 | M6: -20.606497 | N6: -21.704069 | O6: -23.316943 | P6: -22.993725 | Q6: -20.329211 | R6: -22.283158 | S6: -22.369969 | T6: -23.69942 | U6: -27.11889 | V6: -23.715799 | W6: -25.014588 | X6: -21.362325 | Y6: -21.87745 | Z6: -18.097562 | AA6: -13.100884 | AB6: -12.836427 | AC6: -13.862743 | AD6: -14.601445 | AE6: -16.436013 | AF6: -20.332308
A7: 2022 framskriving | AF7: -20.332308 | AG7: -13.986883 | AH7: -15.204619 | AI7: -14.614108 | AJ7: -15.601358 | AK7: -15.876345 | AL7: -16.494537 | AM7: -17.959606 | AN7: -18.116347 | AO7: -17.612916 | AP7: -16.540337 | AQ7: -14.229461 | AR7: -12.702387 | AS7: -12.969053 | AT7: -12.776192 | AU7: -13.605322 | AV7: -13.985297 | AW7: -13.966158 | AX7: -12.401245 | AY7: -12.120304 | AZ7: -11.535173 | BA7: -12.942402 | BB7: -13.087646 | BC7: -13.925357 | BD7: -13.914582 | BE7: -14.789269 | BF7: -13.248989 | BG7: -13.754356 | BH7: -13.062208 | BI7: -12.798388 | BJ7: -11.714976 | BK7: -11.859613 | BL7: -11.77984 | BM7: -11.424162 | BN7: -11.121663 | BO7: -11.914526 | BP7: -12.740498 | BQ7: -13.442167 | BR7: -13.69019 | BS7: -14.142096 | BT7: -13.286045 | BU7: -12.885791 | BV7: -12.503627 | BW7: -12.669617 | BX7: -12.956452 | BY7: -14.09472 | BZ7: -13.531605 | CA7: -13.727172 | CB7: -14.792921 | CC7: -15.165739 | CD7: -14.523993 | CE7: -15.17627 | CF7: -15.139497 | CG7: -15.643476 | CH7: -15.150211 | CI7: -15.456294 | CJ7: -16.096328 | CK7: -15.934981 | CL7: -15.312651 | CM7: -15.203469 | CN7: -16.39156 | CO7: -16.38517 | CP7: -16.675118 | CQ7: -16.118003 | CR7: -16.442128 | CS7: -16.31869 | CT7: -15.727476 | CU7: -15.816024 | CV7: -17.315497 | CW7: -17.884044 | CX7: -16.850262 | CY7: -17.426517 | CZ7: -18.005092 | DA7: -17.240961 | DB7: -17.323437 | DC7: -17.99421 | DD7: -18.99741 | DE7: -17.203554 | DF7: -18.227001 | DG7: -18.805617 | DH7: -18.767729
A8: 2024 historiske data | B8: -11.774544 | C8: -12.83176 | D8: -12.336514 | E8: -13.231757 | F8: -12.054141 | G8: -14.530954 | H8: -10.111221 | I8: -12.935899 | J8: -14.212454 | K8: -19.598997 | L8: -16.971991 | M8: -21.736387 | N8: -23.120351 | O8: -22.339578 | P8: -22.848455 | Q8: -24.80735 | R8: -19.928143 | S8: -21.455595 | T8: -26.406655 | U8: -24.99787 | V8: -26.289639 | W8: -25.560061 | X8: -24.647836 | Y8: -21.202032 | Z8: -18.859922 | AA8: -15.051455 | AB8: -13.686891 | AC8: -15.96434 | AD8: -13.004913 | AE8: -8.7528237 | AF8: -16.11516 | AG8: -11.742575 | AH8: -13.746097
A9: 2024 framskriving | AH9: -13.746097 | AI9: -11.285487 | AJ9: -16.026957 | AK9: -16.602316 | AL9: -15.995155 | AM9: -14.59905 | AN9: -14.721102 | AO9: -13.980386 | AP9: -13.396943 | AQ9: -12.861608 | AR9: -12.658437 | AS9: -12.009377 | AT9: -11.604266 | AU9: -10.901807 | AV9: -10.388664 | AW9: -10.417308 | AX9: -8.975853 | AY9: -8.1000879 | AZ9: -7.7969028 | BA9: -7.2438054 | BB9: -8.3108445 | BC9: -8.9058885 | BD9: -9.4559024 | BE9: -9.6508065 | BF9: -9.6273742 | BG9: -9.0911467 | BH9: -7.4218592 | BI9: -6.6256036 | BJ9: -6.9993192 | BK9: -7.0204179 | BL9: -6.4068088 | BM9: -6.2708645 | BN9: -6.5457735 | BO9: -7.2032332 | BP9: -7.8064067 | BQ9: -7.4129933 | BR9: -8.2482022 | BS9: -8.5598291 | BT9: -8.4462011 | BU9: -7.4510408 | BV9: -6.9284188 | BW9: -6.5893743 | BX9: -6.5914998 | BY9: -6.6394599 | BZ9: -7.48836 | CA9: -8.8462109 | CB9: -9.7560098 | CC9: -9.4410762 | CD9: -9.2632843 | CE9: -8.7584597 | CF9: -8.0644975 | CG9: -7.5640523 | CH9: -8.0614574 | CI9: -7.908976 | CJ9: -9.3684088 | CK9: -9.7209372 | CL9: -10.422977 | CM9: -10.468112 | CN9: -10.807575 | CO9: -11.095444 | CP9: -10.733063 | CQ9: -10.19287 | CR9: -10.272705 | CS9: -10.452124 | CT9: -10.111706 | CU9: -10.260268 | CV9: -11.187343 | CW9: -11.32635 | CX9: -11.676548 | CY9: -11.99695 | CZ9: -12.709985 | DA9: -12.425728 | DB9: -12.357394 | DC9: -11.831806 | DD9: -12.046805 | DE9: -11.824977 | DF9: -12.625756 | DG9: -12.69461 | DH9: -12.649787
A10: 2026 historiske data | B10: -10.266446 | C10: -10.984134 | D10: -10.612224 | E10: -12.319501 | F10: -10.754262 | G10: -12.727914 | H10: -8.538505 | I10: -11.253359 | J10: -12.319045 | K10: -17.06056 | L10: -14.722582 | M10: -19.370859 | N10: -20.508759 | O10: -19.835186 | P10: -20.551433 | Q10: -22.245924 | R10: -17.542078 | S10: -19.272002 | T10: -24.463528 | U10: -23.05807 | V10: -25.586445 | W10: -24.429901 | X10: -23.632229 | Y10: -20.287369 | Z10: -18.399643 | AA10: -14.584484 | AB10: -13.819216 | AC10: -15.050746 | AD10: -10.255337 | AE10: -7.560418 | AF10: -16.211897 | AG10: -4.948664 | AH10: -9.457168 | AI10: -12.780644 | AJ10: =AJ11 -> -15.818407
A11: 2026 framskriving | AJ11: -15.818407 | AK11: -6.554249 | AL11: -7.55376 | AM11: -8.206475 | AN11: -7.76115 | AO11: -6.995848 | AP11: -5.691007 | AQ11: -4.571768 | AR11: -4.848927 | AS11: -4.318616 | AT11: -4.30623 | AU11: -4.52508 | AV11: -3.400774 | AW11: -2.109066 | AX11: -2.576174 | AY11: -1.920419 | AZ11: -1.231004 | BA11: -1.734518 | BB11: -2.008379 | BC11: -1.696615 | BD11: -2.573656 | BE11: -2.400057 | BF11: -1.822296 | BG11: -1.864145 | BH11: -0.889909 | BI11: -0.901482 | BJ11: -1.897369 | BK11: -2.486926 | BL11: -2.857635 | BM11: -3.266367 | BN11: -2.251436 | BO11: -2.449369 | BP11: -2.42302 | BQ11: -1.889613 | BR11: -1.768134 | BS11: -2.559128 | BT11: -2.353109 | BU11: -2.68626 | BV11: -2.843799 | BW11: -2.954782 | BX11: -2.45444 | BY11: -2.586285 | BZ11: -3.496268 | CA11: -4.22408 | CB11: -5.44557 | CC11: -5.808285 | CD11: -5.289318 | CE11: -4.131338 | CF11: -4.149738 | CG11: -4.629141 | CH11: -4.151347 | CI11: -5.521874 | CJ11: -6.254312 | CK11: -6.005017 | CL11: -6.257119 | CM11: -7.624276 | CN11: -6.682234 | CO11: -5.903837 | CP11: -6.367755 | CQ11: -6.342223 | CR11: -5.744417 | CS11: -6.88819 | CT11: -8.486872 | CU11: -8.143243 | CV11: -7.125177 | CW11: -6.890812 | CX11: -6.284007 | CY11: -5.711617 | CZ11: -5.935577 | DA11: -6.292393 | DB11: -7.325846 | DC11: -8.690139 | DD11: -8.904934 | DE11: -8.96955 | DF11: -9.476617 | DG11: -8.822692 | DH11: -7.711053

Sheet Figur 5.6
A1: Figur 5.6 | B1: =INDEX(Innhold!$B:$B,MATCH($A$1,Innhold!$A:$A,0)) -> Illustrasjon av hvordan EU-regelverkene kan bidra til oppfyllelse av Norges mål under Parisavtalen som et punktmål i 2030
A3: Utslipp 1990 | B3: 51.2
A4: Bidrag fra deltakelse i innsatsfordelingen | B4: -14.2
A5: Bidrag fra deltakelse i kvotesystemet | B5: -12.1
A6: Ytterligere behov hvis EU-samarbeidet ikke tar oss i mål | B6: -1.8
A7: Klimamål for 2030, 55 pst. utslippskutt | B7: 23

Sheet Figur 6.2
A1: Figur 6.2 | B1: =INDEX(Innhold!$B:$B,MATCH($A$1,Innhold!$A:$A,0)) -> Anslåtte utslippsreduksjoner i 2035 med vedtatt politikk, planlagt politikk og norsk deltakelse i EUs kvotesystem, fra 1990-nivå
A3: Utslipp 1990 | B3: 51.2
A4: Fremskriving med vedtatt politikk | B4: -18.9
A5: Planlagt politikk | B5: -3.7
A6: Norsk deltakelse i EU ETS | B6: -10.9
A7: Ytterligere behov (til 72,5%) | B7: -3.5

Sheet Figur 7.2
A1: Figur 7.2 | B1: =INDEX(Innhold!$B:$B,MATCH($A$1,Innhold!$A:$A,0)) -> Utslipp av klimagasser per innbygger
B3: 1990 | C3: 1991 | D3: 1992 | E3: 1993 | F3: 1994 | G3: 1995 | H3: 1996 | I3: 1997 | J3: 1998 | K3: 1999 | L3: 2000 | M3: 2001 | N3: 2002 | O3: 2003 | P3: 2004 | Q3: 2005 | R3: 2006 | S3: 2007 | T3: 2008 | U3: 2009 | V3: 2010 | W3: 2011 | X3: 2012 | Y3: 2013 | Z3: 2014 | AA3: 2015 | AB3: 2016 | AC3: 2017 | AD3: 2018 | AE3: 2019 | AF3: 2020 | AG3: 2021 | AH3: 2022 | AI3: 2023 | AJ3: 2024
A4: Norge | B4: 13 | C4: 12.2 | D4: 12 | E4: 12.6 | F4: 13.1 | G4: 12.9 | H4: 12.9 | I4: 13.5 | J4: 13.7 | K4: 14 | L4: 12.8 | M4: 13 | N4: 12.7 | O4: 13.4 | P4: 13.5 | Q4: 12.9 | R4: 13 | S4: 13.1 | T4: 13.3 | U4: 12.5 | V4: 13 | W4: 12.5 | X4: 12.2 | Y4: 12.2 | Z4: 12.1 | AA4: 12.1 | AB4: 11.9 | AC4: 11.7 | AD4: 11.5 | AE4: 11.1 | AF4: 10.8 | AG4: 10.9 | AH4: 10.6 | AI4: 10 | AJ4: 9.6
A5: Finland | B5: 14.6 | C5: 14.6 | D5: 13.9 | E5: 14.1 | F5: 15.5 | G5: 14.7 | H5: 15.9 | I5: 15.5 | J5: 14.9 | K5: 14.7 | L5: 14.4 | M5: 15.6 | N5: 16 | O5: 17.6 | P5: 16.8 | Q5: 14.3 | R5: 16.6 | S5: 16.2 | T5: 14.4 | U5: 13.7 | V5: 15.5 | W5: 13.9 | X5: 12.7 | Y5: 12.8 | Z5: 12 | AA5: 11.3 | AB5: 11.8 | AC5: 11.2 | AD5: 11.4 | AE5: 10.8 | AF5: 9.8 | AG5: 10 | AH5: 9.7 | AI5: 8.9 | AJ5: 8.7
A6: Sverige | B6: 8.8 | C6: 8.8 | D6: 9 | E6: 9 | F6: 9.3 | G6: 9.2 | H6: 9.8 | I6: 9.1 | J6: 9.2 | K6: 9 | L6: 8.6 | M6: 8.5 | N6: 8.6 | O6: 8.6 | P6: 8.4 | Q6: 8 | R6: 7.9 | S6: 7.6 | T6: 7.4 | U6: 6.8 | V6: 7.4 | W6: 6.8 | X6: 6.5 | Y6: 6.2 | Z6: 6 | AA6: 6 | AB6: 5.8 | AC6: 5.7 | AD6: 5.4 | AE6: 5.3 | AF6: 5.2 | AG6: 5.4 | AH6: 5 | AI6: 4.9 | AJ6: 5
A7: Danmark | B7: 13.4 | C7: 15.5 | D7: 14.3 | E7: 14.7 | F7: 15.4 | G7: 14.7 | H7: 17.2 | I7: 15.3 | J7: 14.4 | K7: 13.8 | L7: 13 | M7: 13.3 | N7: 13.1 | O7: 14.1 | P7: 12.9 | Q7: 12.2 | R7: 13.5 | S7: 12.6 | T7: 11.8 | U7: 11.4 | V7: 11.4 | W7: 10.4 | X7: 9.5 | Y7: 9.7 | Z7: 8.9 | AA7: 8.5 | AB7: 8.7 | AC7: 8.3 | AD7: 8.2 | AE7: 7.6 | AF7: 7.2 | AG7: 7.4 | AH7: 7 | AI7: 6.5 | AJ7: 6.4
A8: Storbritannia | B8: 13.6 | C8: 13.7 | D8: 13.4 | E8: 13 | F8: 12.7 | G8: 12.7 | H8: 13 | I8: 12.6 | J8: 12.5 | K8: 12.2 | L8: 12.2 | M8: 12.3 | N8: 11.9 | O8: 12 | P8: 11.8 | Q8: 11.6 | R8: 11.5 | S8: 11.2 | T8: 10.7 | U8: 9.8 | V8: 9.9 | W8: 9.1 | X8: 9.4 | Y8: 9.1 | Z8: 8.4 | AA8: 8.1 | AB8: 7.7 | AC8: 7.4 | AD8: 7.3 | AE8: 7 | AF8: 6.3 | AG8: 6.5 | AH8: 6.3 | AI8: 5.8 | AJ8: 5.6
A9: EU | B9: 11.6 | C9: 11.3 | D9: 10.9 | E9: 10.7 | F9: 10.6 | G9: 10.7 | H9: 10.9 | I9: 10.7 | J9: 10.6 | K9: 10.4 | L9: 10.4 | M9: 10.5 | N9: 10.4 | O9: 10.6 | P9: 10.6 | Q9: 10.4 | R9: 10.4 | S9: 10.3 | T9: 10 | U9: 9.3 | V9: 9.6 | W9: 9.4 | X9: 9.2 | Y9: 9 | Z9: 8.6 | AA9: 8.8 | AB9: 8.8 | AC9: 8.8 | AD9: 8.6 | AE9: 8.2 | AF9: 7.6 | AG9: 8 | AH9: 7.8 | AI9: 7.2 | AJ9: 7
A10: OECD-medlemmer | B10: 13.7 | C10: 13.6 | D10: 13.5 | E10: 13.5 | F10: 13.6 | G10: 13.6 | H10: 13.9 | I10: 14 | J10: 13.9 | K10: 13.8 | L10: 13.9 | M10: 13.8 | N10: 13.6 | O10: 13.7 | P10: 13.7 | Q10: 13.6 | R10: 13.4 | S10: 13.5 | T10: 13.1 | U10: 12.3 | V10: 12.7 | W10: 12.4 | X10: 12.2 | Y10: 12.2 | Z10: 12 | AA10: 11.8 | AB10: 11.7 | AC10: 11.6 | AD10: 11.6 | AE10: 11.3 | AF10: 10.4 | AG10: 10.8 | AH10: 10.7 | AI10: 10.3 | AJ10: 10.2

Sheet Figur 7.3
A1: Figur 7.3 | B1: =INDEX(Innhold!$B:$B,MATCH($A$1,Innhold!$A:$A,0)) -> Utvikling i utslippsintensiteten (bruttoprodukt) i ulike sektorer fra 1990 til 2024
B3: 1990 | C3: 1991 | D3: 1992 | E3: 1993 | F3: 1994 | G3: 1995 | H3: 1996 | I3: 1997 | J3: 1998 | K3: 1999 | L3: 2000 | M3: 2001 | N3: 2002 | O3: 2003 | P3: 2004 | Q3: 2005 | R3: 2006 | S3: 2007 | T3: 2008 | U3: 2009 | V3: 2010 | W3: 2011 | X3: 2012 | Y3: 2013 | Z3: 2014 | AA3: 2015 | AB3: 2016 | AC3: 2017 | AD3: 2018 | AE3: 2019 | AF3: 2020 | AG3: 2021 | AH3: 2022 | AI3: 2023 | AJ3: 2024
A4: Alle næringer | B4: 100 | C4: 91.4 | D4: 83.4 | E4: 82.2 | F4: 81.6 | G4: 79.1 | H4: 82.8 | I4: 79.7 | J4: 74.8 | K4: 71.7 | L4: 72.3 | M4: 73.5 | N4: 67.9 | O4: 65.4 | P4: 65.4 | Q4: 61.1 | R4: 64.2 | S4: 59.9 | T4: 52.5 | U4: 50.6 | V4: 53.7 | W4: 57.4 | X4: 54.9 | Y4: 54.3 | Z4: 53.1 | AA4: 58 | AB4: 51.2 | AC4: 51.8 | AD4: 53.6 | AE4: 52.4 | AF4: 48.7 | AG4: 46.9 | AH4: 46.9 | AI4: 44.4 | AJ4: 42.6
A5: Jordbruk, skogbruk og fiske | B5: 100 | C5: 90.9 | D5: 92.3 | E5: 83.5 | F5: 80.6 | G5: 74.8 | H5: 76.3 | I5: 73 | J5: 73.9 | K5: 74.7 | L5: 71.1 | M5: 72.3 | N5: 68.1 | O5: 69 | P5: 64.6 | Q5: 62.3 | R5: 59 | S5: 56.3 | T5: 54.8 | U5: 53.1 | V5: 49 | W5: 46 | X5: 43.4 | Y5: 44.3 | Z5: 42.8 | AA5: 42.2 | AB5: 43 | AC5: 41.3 | AD5: 41.6 | AE5: 39.5 | AF5: 38.4 | AG5: 37.6 | AH5: 35.9 | AI5: 36.5 | AJ5: 37.3
A6: Bergverksdrift og petroleum | B6: 100 | C6: 84.5 | D6: 81.4 | E6: 83 | F6: 79.8 | G6: 80.6 | H6: 75.9 | I6: 75.1 | J6: 74.3 | K6: 78.2 | L6: 80.5 | M6: 81.3 | N6: 77.4 | O6: 78.2 | P6: 78.2 | Q6: 78.2 | R6: 79 | S6: 88.3 | T6: 86 | U6: 79.8 | V6: 87.5 | W6: 88.3 | X6: 87.5 | Y6: 88.3 | Z6: 92.2 | AA6: 93 | AB6: 91.4 | AC6: 87.5 | AD6: 87.5 | AE6: 87.5 | AF6: 78.2 | AG6: 71.2 | AH6: 71.2 | AI6: 67.3 | AJ6: 61.9
A7: Industri | B7: 100 | C7: 92.3 | D7: 79.7 | E7: 81.5 | F7: 80.8 | G7: 75.6 | H7: 74.5 | I7: 67.5 | J7: 65.3 | K7: 64.6 | L7: 66.1 | M7: 62.8 | N7: 59.1 | O7: 59.1 | P7: 58 | Q7: 52.8 | R7: 46.9 | S7: 42.5 | T7: 41 | U7: 36.6 | V7: 41.4 | W7: 41.8 | X7: 40.3 | Y7: 39.2 | Z7: 37 | AA7: 39.2 | AB7: 41.8 | AC7: 42.5 | AD7: 41.4 | AE7: 38.8 | AF7: 39.5 | AG7: 39.1 | AH7: 38.4 | AI7: 35.8 | AJ7: 34.7
A8: Energi, avløp og renovasjon | B8: 100 | C8: 98.8 | D8: 94.3 | E8: 98.8 | F8: 104.1 | G8: 100 | H8: 106.5 | I8: 97.1 | J8: 90.2 | K8: 87.3 | L8: 85.3 | M8: 81.2 | N8: 80.4 | O8: 96.3 | P8: 87.3 | Q8: 74.7 | R8: 78 | S8: 87.4 | T8: 83.7 | U8: 116.4 | V8: 125.4 | W8: 120.9 | X8: 97.6 | Y8: 102.1 | Z8: 97.6 | AA8: 95.1 | AB8: 89.8 | AC8: 89.8 | AD8: 88.6 | AE8: 88.6 | AF8: 83.7 | AG8: 73.9 | AH8: 74.7 | AI8: 72.3 | AJ8: 63.7
A9: Bygge- og anleggsvirksomhet | B9: 100 | C9: 110.8 | D9: 113.5 | E9: 129.7 | F9: 116.2 | G9: 118.9 | H9: 127 | I9: 116.2 | J9: 113.5 | K9: 116.2 | L9: 108.1 | M9: 110.8 | N9: 113.5 | O9: 108.1 | P9: 97.3 | Q9: 89.2 | R9: 86.5 | S9: 83.8 | T9: 78.4 | U9: 83.8 | V9: 83.8 | W9: 81.1 | X9: 83.8 | Y9: 89.2 | Z9: 86.5 | AA9: 86.5 | AB9: 81.1 | AC9: 81.1 | AD9: 81.1 | AE9: 75.7 | AF9: 70.3 | AG9: 75.7 | AH9: 73 | AI9: 67.6 | AJ9: 67.6
A10: Transport | B10: 100 | C10: 90.2 | D10: 84.1 | E10: 76.2 | F10: 76.9 | G10: 76 | H10: 92.4 | I10: 95.7 | J10: 84.5 | K10: 75.4 | L10: 82.6 | M10: 90.5 | N10: 78.8 | O10: 71.1 | P10: 80.9 | Q10: 74.6 | R10: 102 | S10: 85.9 | T10: 64.1 | U10: 64.1 | V10: 65.7 | W10: 85.1 | X10: 81.8 | Y10: 78.5 | Z10: 72.9 | AA10: 94.9 | AB10: 68.2 | AC10: 75.2 | AD10: 84.3 | AE10: 86.9 | AF10: 90.6 | AG10: 88 | AH10: 80.1 | AI10: 77.1 | AJ10: 76.6

Sheet Figur 7.4
A1: Figur 7.4 | B1: =INDEX(Innhold!$B:$B,MATCH($A$1,Innhold!$A:$A,0)) -> Utslippsintensitet (tonn CO₂-ekvivalenter per 2021-dollar BNP)
B3: 1990 | C3: 1991 | D3: 1992 | E3: 1993 | F3: 1994 | G3: 1995 | H3: 1996 | I3: 1997 | J3: 1998 | K3: 1999 | L3: 2000 | M3: 2001 | N3: 2002 | O3: 2003 | P3: 2004 | Q3: 2005 | R3: 2006 | S3: 2007 | T3: 2008 | U3: 2009 | V3: 2010 | W3: 2011 | X3: 2012 | Y3: 2013 | Z3: 2014 | AA3: 2015 | AB3: 2016 | AC3: 2017 | AD3: 2018 | AE3: 2019 | AF3: 2020 | AG3: 2021 | AH3: 2022 | AI3: 2023 | AJ3: 2024
A4: Norge | B4: 0.2 | C4: 0.1 | D4: 0.1 | E4: 0.1 | F4: 0.1 | G4: 0.1 | H4: 0.1 | I4: 0.1 | J4: 0.1 | K4: 0.1 | L4: 0.1 | M4: 0.1 | N4: 0.1 | O4: 0.1 | P4: 0.1 | Q4: 0.1 | R4: 0.1 | S4: 0.1 | T4: 0.1 | U4: 0.1 | V4: 0.1 | W4: 0.1 | X4: 0.1 | Y4: 0.1 | Z4: 0.1 | AA4: 0.1 | AB4: 0.1 | AC4: 0.1 | AD4: 0.1 | AE4: 0.1 | AF4: 0.1 | AG4: 0.1 | AH4: 0.1 | AI4: 0.1 | AJ4: 0.1
A5: Finland | B5: 0.3 | C5: 0.3 | D5: 0.3 | E5: 0.3 | F5: 0.3 | G5: 0.3 | H5: 0.3 | I5: 0.3 | J5: 0.3 | K5: 0.3 | L5: 0.2 | M5: 0.3 | N5: 0.3 | O5: 0.3 | P5: 0.3 | Q5: 0.2 | R5: 0.2 | S5: 0.2 | T5: 0.2 | U5: 0.2 | V5: 0.2 | W5: 0.2 | X5: 0.2 | Y5: 0.2 | Z5: 0.2 | AA5: 0.2 | AB5: 0.2 | AC5: 0.2 | AD5: 0.2 | AE5: 0.1 | AF5: 0.1 | AG5: 0.1 | AH5: 0.1 | AI5: 0.1 | AJ5: 0.1
A6: Sverige | B6: 0.2 | C6: 0.2 | D6: 0.2 | E6: 0.2 | F6: 0.2 | G6: 0.2 | H6: 0.2 | I6: 0.2 | J6: 0.2 | K6: 0.2 | L6: 0.1 | M6: 0.1 | N6: 0.1 | O6: 0.1 | P6: 0.1 | Q6: 0.1 | R6: 0.1 | S6: 0.1 | T6: 0.1 | U6: 0.1 | V6: 0.1 | W6: 0.1 | X6: 0.1 | Y6: 0.1 | Z6: 0.1 | AA6: 0.1 | AB6: 0.1 | AC6: 0.1 | AD6: 0.1 | AE6: 0.1 | AF6: 0.1 | AG6: 0.1 | AH6: 0.1 | AI6: 0.1 | AJ6: 0.1
A7: Damnark | B7: 0.2 | C7: 0.3 | D7: 0.2 | E7: 0.2 | F7: 0.2 | G7: 0.2 | H7: 0.3 | I7: 0.2 | J7: 0.2 | K7: 0.2 | L7: 0.2 | M7: 0.2 | N7: 0.2 | O7: 0.2 | P7: 0.2 | Q7: 0.2 | R7: 0.2 | S7: 0.2 | T7: 0.1 | U7: 0.1 | V7: 0.1 | W7: 0.1 | X7: 0.1 | Y7: 0.1 | Z7: 0.1 | AA7: 0.1 | AB7: 0.1 | AC7: 0.1 | AD7: 0.1 | AE7: 0.1 | AF7: 0.1 | AG7: 0.1 | AH7: 0.1 | AI7: 0.1 | AJ7: 0.1
A8: Tyskland | B8: 0.3 | C8: 0.3 | D8: 0.3 | E8: 0.3 | F8: 0.2 | G8: 0.2 | H8: 0.2 | I8: 0.2 | J8: 0.2 | K8: 0.2 | L8: 0.2 | M8: 0.2 | N8: 0.2 | O8: 0.2 | P8: 0.2 | Q8: 0.2 | R8: 0.2 | S8: 0.2 | T8: 0.2 | U8: 0.2 | V8: 0.2 | W8: 0.2 | X8: 0.2 | Y8: 0.2 | Z8: 0.2 | AA8: 0.2 | AB8: 0.2 | AC8: 0.2 | AD8: 0.1 | AE8: 0.1 | AF8: 0.1 | AG8: 0.1 | AH8: 0.1 | AI8: 0.1 | AJ8: 0.1
A9: Storbritannia | B9: 0.3 | C9: 0.3 | D9: 0.3 | E9: 0.3 | F9: 0.3 | G9: 0.3 | H9: 0.3 | I9: 0.2 | J9: 0.2 | K9: 0.2 | L9: 0.2 | M9: 0.2 | N9: 0.2 | O9: 0.2 | P9: 0.2 | Q9: 0.2 | R9: 0.2 | S9: 0.2 | T9: 0.2 | U9: 0.2 | V9: 0.2 | W9: 0.2 | X9: 0.2 | Y9: 0.2 | Z9: 0.1 | AA9: 0.1 | AB9: 0.1 | AC9: 0.1 | AD9: 0.1 | AE9: 0.1 | AF9: 0.1 | AG9: 0.1 | AH9: 0.1 | AI9: 0.1 | AJ9: 0.1
A10: OECD-medlemmer | B10: 0.3 | C10: 0.3 | D10: 0.3 | E10: 0.3 | F10: 0.3 | G10: 0.3 | H10: 0.3 | I10: 0.3 | J10: 0.3 | K10: 0.3 | L10: 0.3 | M10: 0.3 | N10: 0.3 | O10: 0.3 | P10: 0.3 | Q10: 0.3 | R10: 0.2 | S10: 0.2 | T10: 0.2 | U10: 0.2 | V10: 0.2 | W10: 0.2 | X10: 0.2 | Y10: 0.2 | Z10: 0.2 | AA10: 0.2 | AB10: 0.2 | AC10: 0.2 | AD10: 0.2 | AE10: 0.2 | AF10: 0.2 | AG10: 0.2 | AH10: 0.2 | AI10: 0.2 | AJ10: 0.1
A11: EU | B11: 0.3 | C11: 0.3 | D11: 0.3 | E11: 0.3 | F11: 0.2 | G11: 0.2 | H11: 0.2 | I11: 0.2 | J11: 0.2 | K11: 0.2 | L11: 0.2 | M11: 0.2 | N11: 0.2 | O11: 0.2 | P11: 0.2 | Q11: 0.2 | R11: 0.2 | S11: 0.2 | T11: 0.2 | U11: 0.2 | V11: 0.2 | W11: 0.2 | X11: 0.2 | Y11: 0.2 | Z11: 0.1 | AA11: 0.1 | AB11: 0.1 | AC11: 0.1 | AD11: 0.1 | AE11: 0.1 | AF11: 0.1 | AG11: 0.1 | AH11: 0.1 | AI11: 0.1 | AJ11: 0.1

Sheet Figur 7.5
A1: Figur 7.5 | B1: =INDEX(Innhold!$B:$B,MATCH($A$1,Innhold!$A:$A,0)) -> Andelen energi som kommer fra fornybare energikilder i ulike sektorer i Norge
B3: Olje- og gassproduksjon | C3: Industri | D3: Transport | E3: Jordbruk, skogbruk og fiske | F3: Tjenesteytende næringer | G3: Husholdninger | H3: Totalt i Norge
A4: 1990 | B4: 0.004 | C4: 0.675 | D4: 0.012 | E4: 0.123 | F4: 0.773 | G4: 0.896 | H4: 0.505
A5: 1991 | B5: 0.004 | C5: 0.685 | D5: 0.013 | E5: 0.127 | F5: 0.787 | G5: 0.91 | H5: 0.513
A6: 1992 | B6: 0.005 | C6: 0.687 | D6: 0.013 | E6: 0.126 | F6: 0.803 | G6: 0.915 | H6: 0.509
A7: 1993 | B7: 0.006 | C7: 0.678 | D7: 0.013 | E7: 0.243 | F7: 0.797 | G7: 0.918 | H7: 0.504
A8: 1994 | B8: 0.008 | C8: 0.653 | D8: 0.012 | E8: 0.251 | F8: 0.776 | G8: 0.92 | H8: 0.495
A9: 1995 | B9: 0.008 | C9: 0.662 | D9: 0.013 | E9: 0.229 | F9: 0.764 | G9: 0.915 | H9: 0.494
A10: 1996 | B10: 0.016 | C10: 0.633 | D10: 0.012 | E10: 0.186 | F10: 0.758 | G10: 0.897 | H10: 0.475
A11: 1997 | B11: 0.023 | C11: 0.64 | D11: 0.011 | E11: 0.185 | F11: 0.786 | G11: 0.91 | H11: 0.479
A12: 1998 | B12: 0.025 | C12: 0.647 | D12: 0.011 | E12: 0.252 | F12: 0.803 | G12: 0.923 | H12: 0.489
A13: 1999 | B13: 0.033 | C13: 0.658 | D13: 0.01 | E13: 0.244 | F13: 0.817 | G13: 0.918 | H13: 0.491
A14: 2000 | B14: 0.029 | C14: 0.671 | D14: 0.012 | E14: 0.271 | F14: 0.866 | G14: 0.94 | H14: 0.494
A15: 2001 | B15: 0.026 | C15: 0.667 | D15: 0.012 | E15: 0.272 | F15: 0.838 | G15: 0.941 | H15: 0.486
... A39: 2025 | B39: 0.212 | C39: 0.709 | D39: 0.194 | E39: 0.362 | F39: 0.866 | G39: 0.999 | H39: 0.573

Sheet Figur 7.6
A1: Figur 7.6 | B1: =INDEX(Innhold!$B:$B,MATCH($A$1,Innhold!$A:$A,0)) -> Energiforbruk fra fossile og fornybare kilder i ulike sektorer i Norge
B3: Olje- og gassproduksjon fornybar | C3: Olje- og gassproduksjon ikke-fornybar | D3: Industri fornybar | E3: Industri ikke-fornybar | F3: Transport fornybar
A4: 1990 | B4: 95 | C4: 26614 | D4: 49621 | E4: 23845 | F4: 492
A5: 1991 | B5: 105 | C5: 28278 | D5: 49275 | E5: 22657 | F5: 489
A6: 1992 | B6: 140 | C6: 30064 | D6: 48502 | E6: 22127 | F6: 494
A7: 1993 | B7: 189 | C7: 31686 | D7: 48898 | E7: 23171 | F7: 510
A8: 1994 | B8: 280 | C8: 34449 | D8: 50304 | E8: 26733 | F8: 500
A9: 1995 | B9: 295 | C9: 34939 | D9: 52075 | E9: 26580 | F9: 529
A10: 1996 | B10: 601 | C10: 37766 | D10: 49060 | E10: 28427 | F10: 506
A11: 1997 | B11: 927 | C11: 38779 | D11: 50514 | E11: 28362 | F11: 499
A12: 1998 | B12: 980 | C12: 37503 | D12: 53288 | E12: 29109 | F12: 526
A13: 1999 | B13: 1232 | C13: 36373 | D13: 53909 | E13: 27970 | F13: 504
A14: 2000 | B14: 1238 | C14: 41876 | D14: 55592 | E14: 27243 | F14: 542
A15: 2001 | B15: 1209 | C15: 45619 | D15: 53768 | E15: 26818 | F15: 555
... A38: 2024 | B38: 11577 | C38: 41433 | D38: 51693 | E38: 20473 | F38: 9661

Sheet Figur 7.7
A1: Figur 7.7 | B1: =INDEX(Innhold!$B:$B,MATCH($A$1,Innhold!$A:$A,0)) -> Andelen av energiforbruket som dekkes av fornybare energikilder
B3: Total | E3: Transport | H3: Elektrisitet
B4: 2013 | C4: 2018 | D4: 2024 | E4: 2013 | F4: 2018 | G4: 2024 | H4: 2013 | I4: 2018 | J4: 2024
A5: EU | B5: 16.7 | C5: 19.1 | D5: 25.2 | E5: 6.1 | F5: 8.3 | G5: 11.2 | H5: 26.8 | I5: 32.1 | J5: 47.5
A6: Danmark | B6: 27.2 | C6: 35.2 | D6: 46.5 | E6: 6.5 | F6: 6.9 | G6: 14.1 | H6: 43.1 | I6: 62.4 | J6: 79.7
A7: Tyskland | B7: 13.8 | C7: 16.7 | D7: 22.5 | E7: 7.3 | F7: 7.9 | G7: 12.4 | H7: 25.3 | I7: 37.6 | J7: 54.1
A8: Finland | B8: 36.6 | C8: 41.2 | D8: 52.1 | E8: 10.7 | F8: 14.8 | G8: 20.3 | H8: 30.5 | I8: 36.5 | J8: 54.3
A9: Sverige | B9: 50.2 | C9: 53.9 | D9: 62.8 | E9: 15.3 | F9: 29.7 | G9: 26.4 | H9: 61.7 | I9: 66.2 | J9: 88.1
A10: Norge | B10: 66.5 | C10: 71.6 | D10: 77.9 | E10: 3.2 | F10: 20.3 | G10: 33.6 | H10: 106.9 | I10: 106.8 | J10: 115.1

Sheet Figur 7.8
A1: Figur 7.8 | B1: =INDEX(Innhold!$B:$B,MATCH($A$1,Innhold!$A:$A,0)) -> Netto eksplisitt og effektiv pris på utslipp av klimagasser i ulike sektorer
A3: Kumulative utslipp (mill. tonn CO2-ekv.) | B3: Effektiv karbonpris (NOK) | C3: Eksplisitt karbonpris (NOK)
A4: 0 | B4: 0 | C4: 0
A5: 7.1 | B5: 0 | C5: 0
A6: 7.2 | B6: 18.9 | C6: 0
A7: 7.3 | B7: 477 | C7: 477
A8: 7.3 | B8: 409 | C8: 409
A9: 8.1 | B9: 848 | C9: 848
A10: 19.7 | B10: 880 | C10: 880
A11: 20 | B11: 1024 | C11: 1024
A12: 20.3 | B12: 325 | C12: 1639
A13: 20.3 | B13: 1097 | C13: 1097
A14: 26.4 | B14: 1639 | C14: 1639
A15: 32.4 | B15: 2495 | C15: 1639
... A19: 44.6 | B19: 1977 | C19: 1977

Sheet Figur 9.1
A1: Figur 9.1 | B1: =INDEX(Innhold!$B:$B,MATCH($A$1,Innhold!$A:$A,0)) -> Antall utrykninger til klimarelaterte hendelser per år
A3: År | B3: Antall
A4: 2016 | B4: 2048
A5: 2017 | B5: 1754
A6: 2018 | B6: 3203
A7: 2019 | B7: 1693
A8: 2020 | B8: 2091
A9: 2021 | B9: 1823
A10: 2022 | B10: 2054
A11: 2023 | B11: 2858
A12: 2024 | B12: 2134
A13: 2025 | B13: 2660

Sheet Figur 9.2
A1: Figur 9.2 | B1: =INDEX(Innhold!$B:$B,MATCH($A$1,Innhold!$A:$A,0)) -> Antall utrykninger til ulike naturhendelser per år
A3: År | B3: Antall
A4: 2016 | B4: 881
A5: 2017 | B5: 680
A6: 2018 | B6: 1108
A7: 2019 | B7: 871
A8: 2020 | B8: 1099
A9: 2021 | B9: 636
A10: 2022 | B10: 775
A11: 2023 | B11: 1602
A12: 2024 | B12: 1360
A13: 2025 | B13: 1541

Sheet Figur 9.3
A1: Figur 9.3 | B1: =INDEX(Innhold!$B:$B,MATCH($A$1,Innhold!$A:$A,0)) -> Stikkrenners kapasitet til å håndtere flom
A3: 200 års flom + klimapåslag | B3: 5697
A4: 200 års flom + klimapåslag | B4: 1329
A5: 50 års flom | B5: 826
A6: 5 års flom | B6: 1669
A7: Ikke 5 års flom | B7: 2845
A8: Ukjent | B8: 4180

Sheet Figur 1.1 (Vedlegg 1)
A1: Figur 1.1 (Vedlegg 1) | B1: =INDEX(Innhold!$B:$B,MATCH($A$1,Innhold!$A:$A,0)) -> Sektorindikator 1 transport – antall innenlandske personkilometer og tonnkilometer per innbygger
B3: 2010 | C3: 2011 | D3: 2012 | E3: 2013 | F3: 2014 | G3: 2015 | H3: 2016 | I3: 2017 | J3: 2018 | K3: 2019 | L3: 2020 | M3: 2021 | N3: 2022 | O3: 2023 | P3: 2024 | Q3: 2025
A4: Persontransportarbeid i alt (mill. km) | B4: 73876 | C4: 75268 | D4: 76261 | E4: 77504 | F4: 79350 | G4: 79096 | H4: 78098 | I4: 76829 | J4: 75362 | K4: 75739 | L4: 64177 | M4: 67209 | N4: 73329 | O4: 75166 | P4: 75968 | Q4: 77681
A5: pkm/innbygger | B5: 15206.5 | C5: 15297.4 | D5: 15295.4 | E5: 15343.5 | F5: 15531.2 | G5: 15311.5 | H5: 14978.6 | I5: 14610.9 | J5: 14231 | K5: 14214.7 | L5: 11956.4 | M5: 12466 | N5: 13516.2 | O5: 13694 | P5: 13687.4 | Q5: 13885.6
A6: Fastlandstransport i alt (mill. tonnkm) | B6: 20651 | C6: 21000 | D6: 22307 | E6: 23469 | F6: 24426 | G6: 24061 | H6: 24039 | I6: 24350 | J6: 24058 | K6: 24712 | L6: 24481 | M6: 26160 | N6: 27350 | O6: 27448 | P6: 26586 | Q6: 26162
A7: tkm/innbygger (fastlandstransport) | B7: 4250.8 | C7: 4268 | D7: 4474 | E7: 4646.2 | F7: 4780.9 | G7: 4657.7 | H7: 4610.5 | I7: 4630.8 | J7: 4543 | K7: 4638 | L7: 4560.9 | M7: 4852.2 | N7: 5041.2 | O7: 5000.6 | P7: 4790.1 | Q7: 4676.5

Sheet Figur 1.2 (Vedlegg 1)
A1: Figur 1.2 (Vedlegg 1) | B1: =INDEX(Innhold!$B:$B,MATCH($A$1,Innhold!$A:$A,0)) -> Sektorindikator 2a transport – personkilometer i innenlandsk persontransport med ulike transportformer, prosentvis fordeling
B3: 2010 | C3: 2011 | D3: 2012 | E3: 2013 | F3: 2014 | G3: 2015 | H3: 2016 | I3: 2017 | J3: 2018 | K3: 2019 | L3: 2020 | M3: 2021 | N3: 2022 | O3: 2023 | P3: 2024 | Q3: 2025
A4: Sjøtransport | B4: 0.013 | C4: 0.013 | D4: 0.013 | E4: 0.013 | F4: 0.013 | G4: 0.013 | H4: 0.014 | I4: 0.015 | J4: 0.016 | K4: 0.015 | L4: 0.008 | M4: 0.011 | N4: 0.012 | O4: 0.013 | P4: 0.014 | Q4: 0.014
A5: Skinnegående transport | B5: 0.05 | C5: 0.049 | D5: 0.049 | E5: 0.052 | F5: 0.053 | G5: 0.055 | H5: 0.059 | I5: 0.06 | J5: 0.063 | K5: 0.063 | L5: 0.036 | M5: 0.035 | N5: 0.052 | O5: 0.058 | P5: 0.063 | Q5: 0.062
A6: Rutebusser | B6: 0.053 | C6: 0.051 | D6: 0.05 | E6: 0.048 | F6: 0.049 | G6: 0.052 | H6: 0.056 | I6: 0.055 | J6: 0.058 | K6: 0.061 | L6: 0.043 | M6: 0.043 | N6: 0.045 | O6: 0.051 | P6: 0.051 | Q6: 0.051
A7: Personbiler, mv | B7: 0.803 | C7: 0.804 | D7: 0.806 | E7: 0.804 | F7: 0.806 | G7: 0.802 | H7: 0.795 | I7: 0.792 | J7: 0.783 | K7: 0.783 | L7: 0.848 | M7: 0.842 | N7: 0.812 | O7: 0.803 | P7: 0.8 | Q7: 0.8
A8: Motorsykler, mopeder | B8: 0.019 | C8: 0.019 | D8: 0.019 | E8: 0.019 | F8: 0.019 | G8: 0.02 | H8: 0.02 | I8: 0.021 | J8: 0.021 | K8: 0.021 | L8: 0.024 | M8: 0.024 | N8: 0.021 | O8: 0.019 | P8: 0.018 | Q8: 0.017
A9: Lufttransport | B9: 0.062 | C9: 0.064 | D9: 0.063 | E9: 0.064 | F9: 0.061 | G9: 0.058 | H9: 0.056 | I9: 0.057 | J9: 0.058 | K9: 0.057 | L9: 0.039 | M9: 0.045 | N9: 0.057 | O9: 0.056 | P9: 0.054 | Q9: 0.056

Sheet Figur 1.3 (Vedlegg 1)
A1: Figur 1.3 (Vedlegg 1) | B1: =INDEX(Innhold!$B:$B,MATCH($A$1,Innhold!$A:$A,0)) -> Sektorindikator 2b transport – tonnkilometer i innenlands godstransport (ekskludert kabotasje) med ulike transportformer
B3: 2010 | C3: 2011 | D3: 2012 | E3: 2013 | F3: 2014 | G3: 2015 | H3: 2016 | I3: 2017 | J3: 2018 | K3: 2019 | L3: 2020 | M3: 2021 | N3: 2022 | O3: 2023 | P3: 2024 | Q3: 2025
A4: Jernbanetransport | B4: 0.076 | C4: 0.077 | D4: 0.077 | E4: 0.075 | F4: 0.068 | G4: 0.077 | H4: 0.081 | I4: 0.086 | J4: 0.084 | K4: 0.085 | L4: 0.089 | M4: 0.082 | N4: 0.08 | O4: 0.072 | P4: 0.069 | Q4: 0.072
A5: Lufttransport | B5: 0.001 | C5: 0.001 | D5: 0.001 | E5: 0.001 | F5: 0.001 | G5: 0.001 | H5: 0.001 | I5: 0.001 | J5: 0 | K5: 0 | L5: 0 | M5: 0 | N5: 0 | O5: 0 | P5: 0 | Q5: 0
A6: Veitransport | B6: 0.832 | C6: 0.808 | D6: 0.799 | E6: 0.817 | F6: 0.816 | G6: 0.803 | H6: 0.801 | I6: 0.8 | J6: 0.805 | K6: 0.805 | L6: 0.805 | M6: 0.798 | N6: 0.833 | O6: 0.842 | P6: 0.858 | Q6: 0.86
A7: Sjøtransport | B7: 0.091 | C7: 0.115 | D7: 0.124 | E7: 0.107 | F7: 0.115 | G7: 0.12 | H7: 0.117 | I7: 0.114 | J7: 0.11 | K7: 0.11 | L7: 0.105 | M7: 0.12 | N7: 0.087 | O7: 0.085 | P7: 0.072 | Q7: 0.067

Sheet Figur 1.4 (Vedlegg 1)
A1: Figur 1.4 (Vedlegg 1) | B1: =INDEX(Innhold!$B:$B,MATCH($A$1,Innhold!$A:$A,0)) -> Sektorindikator 3 transport – andel nullutslippsbiler av kjøretøybestanden
B3: 2000 | C3: 2001 | D3: 2002 | E3: 2003 | F3: 2004 | G3: 2005 | H3: 2006 | I3: 2007 | J3: 2008 | K3: 2009 | L3: 2010 | M3: 2011 | N3: 2012 | O3: 2013 | P3: 2014 | Q3: 2015 | R3: 2016 | S3: 2017 | T3: 2018 | U3: 2019 | V3: 2020 | W3: 2021 | X3: 2022 | Y3: 2023 | Z3: 2024 | AA3: 2025
A4: Personbiler | B4: 0.001 | C4: 0.001 | D4: 0.002 | E4: 0.002 | F4: 0.001 | G4: 0.001 | H4: 0.001 | I4: 0.001 | J4: 0.001 | K4: 0.001 | L4: 0.001 | M4: 0.002 | N4: 0.004 | O4: 0.009 | P4: 0.018 | Q4: 0.03 | R4: 0.04 | S4: 0.054 | T4: 0.074 | U4: 0.097 | V4: 0.124 | W4: 0.163 | X4: 0.209 | Y4: 0.243 | Z4: 0.284 | AA4: 0.332
A5: Varebiler | B5: 0.001 | C5: 0 | D5: 0 | E5: 0 | F5: 0 | G5: 0 | H5: 0 | I5: 0 | J5: 0 | K5: 0 | L5: 0 | M5: 0 | N5: 0 | O5: 0.002 | P5: 0.003 | Q5: 0.005 | R5: 0.006 | S5: 0.008 | T5: 0.012 | U5: 0.016 | V5: 0.021 | W5: 0.031 | X5: 0.044 | Y5: 0.06 | Z5: 0.075 | AA5: 0.095
A6: Bybusser | B6: 0 | C6: 0 | D6: 0 | E6: 0 | F6: 0 | G6: 0 | H6: 0 | I6: 0 | J6: 0.001 | K6: 0 | L6: 0 | M6: 0 | N6: 0.001 | O6: 0.001 | P6: 0.001 | Q6: 0.001 | R6: 0.001 | S6: 0.002 | T6: 0.004 | U6: 0.025 | V6: 0.054 | W6: 0.067 | X6: 0.092 | Y6: 0.155 | Z6: 0.183 | AA6: 0.26
A7: Langdistansebusser | B7: 0 | C7: 0 | D7: 0 | E7: 0.002 | F7: 0.002 | G7: 0.001 | H7: 0.001 | I7: 0.001 | J7: 0.001 | K7: 0.001 | L7: 0.001 | M7: 0.001 | N7: 0.001 | O7: 0.001 | P7: 0.001 | Q7: 0.001 | R7: 0.001 | S7: 0.002 | T7: 0.003 | U7: 0.003 | V7: 0.008 | W7: 0.009 | X7: 0.028 | Y7: 0.044 | Z7: 0.068 | AA7: 0.087
A8: Lastebiler | B8: 0 | C8: 0 | D8: 0 | E8: 0 | F8: 0 | G8: 0 | H8: 0 | I8: 0 | J8: 0 | K8: 0 | L8: 0 | M8: 0 | N8: 0 | O8: 0 | P8: 0 | Q8: 0 | R8: 0 | S8: 0 | T8: 0 | U8: 0 | V8: 0.001 | W8: 0.002 | X8: 0.008 | Y8: 0.019 | Z8: 0.032 | AA8: 0.041

Sheet Figur 1.5 (Vedlegg 1)
A1: Figur 1.5 (Vedlegg 1) | B1: =INDEX(Innhold!$B:$B,MATCH($A$1,Innhold!$A:$A,0)) -> Sektorindikator 4 transport – gjennomsnittlig lengde og fordeling av daglige korte reiser
B3: 1998 | C3: 1999 | D3: 2000 | E3: 2001 | F3: 2002 | G3: 2003 | H3: 2004 | I3: 2005 | J3: 2006 | K3: 2007 | L3: 2008 | M3: 2009 | N3: 2010 | O3: 2011 | P3: 2012 | Q3: 2013 | R3: 2014 | S3: 2015 | T3: 2016 | U3: 2017 | V3: 2018 | W3: 2019 | X3: 2020 | Y3: 2021 | Z3: 2022 | AA3: 2023 | AB3: 2024 | AC3: 2025
A4: Reiseavstand km, gjennomsnitt | B4: 11.9 | C4: 11.9 | D4: 11.9 | E4: 11.9 | F4: 11.7 | G4: 11.5 | H4: 11.3 | I4: 11.1 | J4: 11.2 | K4: 11.2 | L4: 11.3 | M4: 11.3 | N4: 11.9 | O4: 12.6 | P4: 13.2 | Q4: 13.9 | R4: 14.5 | S4: 14.9 | T4: 15.2 | U4: 15.6 | V4: 15.9 | W4: 14.9 | X4: 15.5 | Y4: 13.7 | Z4: 16 | AA4: 15.7 | AB4: 16.9 | AC4: 16.4
A6: Andel reiser opptil 4,9 km | B6: 0.55 | C6: 0.553 | D6: 0.557 | E6: 0.56 | F6: 0.561 | G6: 0.563 | H6: 0.564 | I6: 0.565 | J6: 0.566 | K6: 0.568 | L6: 0.569 | M6: 0.57 | N6: 0.564 | O6: 0.558 | P6: 0.552 | Q6: 0.546 | R6: 0.54 | S6: 0.533 | T6: 0.525 | U6: 0.518 | V6: 0.51 | W6: 0.495 | X6: 0.514 | Y6: 0.51 | Z6: 0.491 | AA6: 0.492 | AB6: 0.486 | AC6: 0.48
A7: Andel reiser mellom 5 og 19.9 km | B7: 0.3 | C7: 0.3 | D7: 0.3 | E7: 0.3 | F7: 0.3 | G7: 0.3 | H7: 0.3 | I7: 0.3 | J7: 0.3 | K7: 0.3 | L7: 0.3 | M7: 0.3 | N7: 0.302 | O7: 0.304 | P7: 0.306 | Q7: 0.308 | R7: 0.31 | S7: 0.313 | T7: 0.316 | U7: 0.319 | V7: 0.322 | W7: 0.329 | X7: 0.325 | Y7: 0.325 | Z7: 0.323 | AA7: 0.321 | AB7: 0.322 | AC7: 0.33
A8: Andel reiser 20 km eller lengre | B8: 0.14 | C8: 0.14 | D8: 0.14 | E8: 0.14 | F8: 0.14 | G8: 0.14 | H8: 0.14 | I8: 0.14 | J8: 0.14 | K8: 0.14 | L8: 0.14 | M8: 0.14 | N8: 0.142 | O8: 0.144 | P8: 0.146 | Q8: 0.148 | R8: 0.15 | S8: 0.154 | T8: 0.157 | U8: 0.161 | V8: 0.164 | W8: 0.175 | X8: 0.161 | Y8: 0.165 | Z8: 0.186 | AA8: 0.187 | AB8: 0.191 | AC8: 0.19

Sheet Figur 1.6 (Vedlegg 1)
A1: Figur 1.6 (Vedlegg 1) | B1: =INDEX(Innhold!$B:$B,MATCH($A$1,Innhold!$A:$A,0)) -> Sektorindikator 5 transport – andel daglige reiser per transportform
B3: 2019 | C3: 2020 | D3: 2021 | E3: 2022 | F3: 2023 | G3: 2024 | H3: 2025
A4: Til fots | B4: 0.188 | C4: 0.225 | D4: 0.217 | E4: 0.23 | F4: 0.226 | G4: 0.226 | H4: 0.21
A5: Sykkel | B5: 0.043 | C5: 0.037 | D5: 0.043 | E5: 0.052 | F5: 0.042 | G5: 0.045 | H5: 0.05
A6: Kollektivt (uten fly, drosje, båt) | B6: 0.107 | C6: 0.075 | D6: 0.06 | E6: 0.09 | F6: 0.104 | G6: 0.114 | H6: 0.1
A7: Bil, som fører | B7: 0.533 | C7: 0.543 | D7: 0.546 | E7: 0.498 | F7: 0.496 | G7: 0.472 | H7: 0.53
A8: Bil, som passasjer | B8: 0.105 | C8: 0.096 | D8: 0.102 | E8: 0.103 | F8: 0.112 | G8: 0.112 | H8: 0.08
A9: Annet (inkl. MC/Moped, elsparkesykkel, fly/drosje/båt, Vet ikke) | B9: 0.024 | C9: 0.024 | D9: 0.031 | E9: 0.025 | F9: 0.02 | G9: 0.03 | H9: 0.03

Sheet Figur 1.7 (Vedlegg 1)
A1: Figur 1.7 (Vedlegg 1) | B1: =INDEX(Innhold!$B:$B,MATCH($A$1,Innhold!$A:$A,0)) -> Sektorindikator 6 transport – antall kilometer tilrettelagt for syklende per år
B3: 2016 | C3: 2017 | D3: 2018 | E3: 2019 | F3: 2020 | G3: 2021 | H3: 2022 | I3: 2023 | J3: 2024 | K3: 2025
A4: Antall km tilrettelagt for syklende siste år | B4: 278 | C4: 197.5 | D4: 198.5 | E4: 173.8 | F4: 157.3 | G4: 184.4 | H4: 198.7 | I4: 156.9 | J4: 148.5 | K4: 167.9

Sheet Figur 1.8 (Vedlegg 1)
A1: Figur 1.8 (Vedlegg 1) | B1: =INDEX(Innhold!$B:$B,MATCH($A$1,Innhold!$A:$A,0)) -> Sektorindikator 7 transport – antall biler per husholdning
B3: 2008 | C3: 2009 | D3: 2010 | E3: 2011 | F3: 2012 | G3: 2013 | H3: 2014 | I3: 2015 | J3: 2016 | K3: 2017 | L3: 2018 | M3: 2019 | N3: 2020 | O3: 2021 | P3: 2022 | Q3: 2023 | R3: 2024 | S3: 2025
A4: Personbiler/husholdninger | B4: 1.04 | C4: 1.05 | D4: 1.06 | E4: 1.08 | F4: 1.1 | G4: 1.11 | H4: 1.12 | I4: 1.13 | J4: 1.13 | K4: 1.14 | L4: 1.14 | M4: 1.15 | N4: 1.14 | O4: 1.15 | P4: 1.14 | Q4: 1.11 | R4: 1.1 | S4: 1.11

Sheet Figur 1.9 (Vedlegg 1)
A1: Figur 1.9 (Vedlegg 1) | B1: =INDEX(Innhold!$B:$B,MATCH($A$1,Innhold!$A:$A,0)) -> Sektorindikator 8 transport – antall offentlige og avgiftsbelagte parkeringsplasser
B3: 2015 | C3: 2016 | D3: 2017 | E3: 2018 | F3: 2019 | G3: 2020 | H3: 2021 | I3: 2022 | J3: 2023 | K3: 2024 | L3: 2025
A4: Offentlige parkeringsplasser (ekskl. innfartsparkeringsplasser) | B4: 223526 | C4: 227570 | D4: 241124 | E4: 265626 | F4: 272491 | G4: 278338 | H4: 288161 | I4: 292090 | J4: 300143 | K4: 307108 | L4: 312108
A5: Avgiftsbelagte parkeringsplasser | B5: 65432 | C5: 69745 | D5: 76997 | E5: 89978 | F5: 89459 | G5: 94926 | H5: 95592 | I5: 100404 | J5: 99548 | K5: 104872 | L5: 105172
A6: Offentlige og avgiftsbelagte parkeringsplasser samlet | B6: 288958 | C6: 297315 | D6: 318121 | E6: 355604 | F6: 361950 | G6: 373264 | H6: 383753 | I6: 392494 | J6: 399691 | K6: 411980 | L6: 417280

Sheet Figur 1.10 (Vedlegg 1)
A1: Figur 1.10 (Vedlegg 1) | B1: =INDEX(Innhold!$B:$B,MATCH($A$1,Innhold!$A:$A,0)) -> Sektorindikator 9 transport – antall hurtigladepunkt og antall elektriske personbiler per hurtigladepunkt
B3: 2012 | C3: 2013 | D3: 2014 | E3: 2015 | F3: 2016 | G3: 2017 | H3: 2018 | I3: 2019 | J3: 2020 | K3: 2021 | L3: 2022 | M3: 2023 | N3: 2024 | O3: 2025
A4: Antall hurtigladepunkt | B4: 58 | C4: 127 | D4: 272 | E4: 474 | F4: 743 | G4: 1178 | H4: 1736 | I4: 2362 | J4: 3288 | K4: 4131 | L4: 5612 | M4: 7741 | N4: 9478 | O4: 10670
A5: Antall personbiler per hurtigladepunkt | B5: 139 | C5: 140.3 | D5: 142.4 | E5: 145.7 | F5: 131.7 | G5: 117.8 | H5: 112.8 | I5: 110.8 | J5: 103.8 | K5: 111.8 | L5: 107.8 | M5: 89.8 | N5: 83.1 | O5: 88.5

Sheet Figur 1.11 (Vedlegg 1)
A1: Figur 1.11 (Vedlegg 1) | B1: =INDEX(Innhold!$B:$B,MATCH($A$1,Innhold!$A:$A,0)) -> Forskning og utvikling i industrien over tid
B3: 2015 | C3: 2016 | D3: 2017 | E3: 2018 | F3: 2019 | G3: 2020 | H3: 2021 | I3: 2022 | J3: 2023 | K3: 2024
A4: Fornybar energi | B4: 0.028 | C4: 0.03 | D4: 0.026 | E4: 0.026 | F4: 0.032 | G4: 0.031 | H4: 0.039 | I4: 0.041 | J4: 0.036 | K4: 0.035
A5: Energieffektivisering og -omlegging | B5: 0.068 | C5: 0.092 | D5: 0.079 | E5: 0.072 | F5: 0.076 | G5: 0.08 | H5: 0.079 | I5: 0.091 | J5: 0.092 | K5: 0.086
A6: CO2-håndtering | B6: 0.002 | C6: 0.003 | D6: 0.002 | E6: 0.003 | F6: 0.003 | G6: 0.01 | H6: 0.009 | I6: 0.01 | J6: 0.014 | K6: 0.018
A7: Klimateknologi og annen type utslippsreduksjon | B7: 0.012 | C7: 0.014 | D7: 0.018 | E7: 0.02 | F7: 0.033 | G7: 0.036 | H7: 0.042 | I7: 0.037 | J7: 0.034 | K7: 0.032

Sheet Figur 1.12 (Vedlegg 1)
A1: Figur 1.12 (Vedlegg 1) | B1: =INDEX(Innhold!$B:$B,MATCH($A$1,Innhold!$A:$A,0)) -> Sektorindikator 2 jordbruk – husdyrgjødsel levert til biogassproduksjon
B3: 2013 | C3: 2014 | D3: 2015 | E3: 2016 | F3: 2017 | G3: 2018 | H3: 2019 | I3: 2020 | J3: 2021 | K3: 2022 | L3: 2023 | M3: 2024 | N3: 2025
A4: Tonn husdyrgjødsel til biogass | B4: 3178 | C4: 2926 | D4: 22515 | E4: 61623 | F4: 70623 | G4: 68887 | H4: 84187 | I4: 77475 | J4: 94124 | K4: 107314 | L4: 137291 | M4: 146213 | N4: 193058

Sheet Figur 1.13 (Vedlegg 1)
A1: Figur 1.13 (Vedlegg 1) | B1: =INDEX(Innhold!$B:$B,MATCH($A$1,Innhold!$A:$A,0)) -> Sektorindikator 3 jordbruk – mengde mineralgjødsel-nitrogen solgt
B3: 2000/2001 | C3: 2001/2002 | D3: 2002/2003 | E3: 2003/2004 | F3: 2004/2005 | G3: 2005/2006 | H3: 2006/2007 | I3: 2007/2008 | J3: 2008/2009 | K3: 2009/2010 | L3: 2010/2011 | M3: 2011/2012 | N3: 2012/2013 | O3: 2013/2014 | P3: 2014/2015 | Q3: 2015/2016 | R3: 2016/2017 | S3: 2017/2018 | T3: 2018/2019 | U3: 2019/2020 | V3: 2020/2021 | W3: 2021/2022 | X3: 2022/2023 | Y3: 2023/2024 | Z3: 2024/2025
A4: Tonn N | B4: 100592 | C4: 101258 | D4: 104162 | E4: 105096 | F4: 106882 | G4: 104088 | H4: 107588 | I4: 116351 | J4: 82549 | K4: 83081 | L4: 96851 | M4: 95767 | N4: 97010 | O4: 102238 | P4: 104214 | Q4: 102460 | R4: 99674 | S4: 102392 | T4: 106765 | U4: 105884.1 | V4: 107282 | W4: 99043.5 | X4: 87003 | Y4: 91646 | Z4: 100116

Sheet Figur 1.15 (Vedlegg 1)
A1: Figur 1.15 (Vedlegg 1) | B1: =INDEX(Innhold!$B:$B,MATCH($A$1,Innhold!$A:$A,0)) -> Sektorindikator 6 jordbruk – forbruk av rødt kjøtt per person per år, kg engrosvekt
B3: 2000 | C3: 2001 | D3: 2002 | E3: 2003 | F3: 2004 | G3: 2005 | H3: 2006 | I3: 2007 | J3: 2008 | K3: 2009 | L3: 2010 | M3: 2011 | N3: 2012 | O3: 2013 | P3: 2014 | Q3: 2015 | R3: 2016 | S3: 2017 | T3: 2018 | U3: 2019 | V3: 2020 | W3: 2021 | X3: 2022 | Y3: 2023 | Z3: 2024 | AA3: 2025
A4: Forbruk av rødt kjøtt per person per år, kg engrosvekt | B4: 49.5 | C4: 49.9 | D4: 49 | E4: 49.9 | F4: 50.7 | G4: 51.1 | H4: 50.5 | I4: 53.4 | J4: 52.3 | K4: 49.4 | L4: 49.5 | M4: 50.4 | N4: 49.9 | O4: 49.2 | P4: 49 | Q4: 51.2 | R4: 51 | S4: 50.3 | T4: 49.3 | U4: 48.2 | V4: 50.5 | W4: 53 | X4: 49 | Y4: 45.8 | Z4: 45.5

Sheet Figur 1.16 (Vedlegg 1)
A1: Figur 1.16 (Vedlegg 1) | B1: =INDEX(Innhold!$B:$B,MATCH($A$1,Innhold!$A:$A,0)) -> Sektorindikator 7 jordbruk – matsvinn per person, målt i kg per innbygger
B3: 2015 | C3: 2016 | D3: 2017 | E3: 2018 | F3: 2019 | G3: 2020 | H3: 2021 | I3: 2022 | J3: 2023 | K3: 2024
A4: Kg matsvinn per person | B4: 90.6 | C4: 88.9 | D4: 87.2 | E4: 86.1 | F4: 82.8 | G4: 81 | H4: 81.8 | I4: 82.8 | J4: 75.1 | K4: 70.8

Sheet Figur 1.17 (Vedlegg 1)
A1: Figur 1.17 (Vedlegg 1) | B1: =INDEX(Innhold!$B:$B,MATCH($A$1,Innhold!$A:$A,0)) -> Sektorindikator 2 skog og areal – omfang omdisponert myr
B3: Omfang av omdisponert myr (km2) | C3: Glidende gjennomsnitt (5 år)
A4: 1990 | B4: 4.8
A5: 1991 | B5: 4.8
A6: 1992 | B6: 4.8
A7: 1993 | B7: 4.8
A8: 1994 | B8: 4.8 | C8: 4.8
A9: 1995 | B9: 3 | C9: 4.5
A10: 1996 | B10: 1.8 | C10: 3.9
A11: 1997 | B11: 4.4 | C11: 3.8
A12: 1998 | B12: 3.2 | C12: 3.5
A13: 1999 | B13: 2.5 | C13: 3
A14: 2000 | B14: 2.5 | C14: 2.9
A15: 2001 | B15: 6.1 | C15: 3.8
A16: 2002 | B16: 3.6 | C16: 3.6
A17: 2003 | B17: 3.6 | C17: 3.7
A18: 2004 | B18: 3.6 | C18: 3.9
A19: 2005 | B19: 3.6 | C19: 4.1
... A38: 2024 | B38: 10.5 | C38: 9

Sheet Figur 1.18 (Vedlegg 1)
A1: Figur 1.18 (Vedlegg 1) | B1: =INDEX(Innhold!$B:$B,MATCH($A$1,Innhold!$A:$A,0)) -> Sektorindikator 3 skog og areal – omfang av avskoging
B3: Omfang av avskoging (km2) | C3: Glidende gjennomsnitt (5 år)
A4: 1990 | B4: 41.7
A5: 1991 | B5: 41.7
A6: 1992 | B6: 41.7
A7: 1993 | B7: 41.7
A8: 1994 | B8: 41.7 | C8: 41.7
A9: 1995 | B9: 48.9 | C9: 43.1
A10: 1996 | B10: 50 | C10: 44.8
A11: 1997 | B11: 59.9 | C11: 48.4
A12: 1998 | B12: 58.9 | C12: 51.9
A13: 1999 | B13: 60.9 | C13: 55.7
A14: 2000 | B14: 60 | C14: 57.9
A15: 2001 | B15: 62.2 | C15: 60.4
A16: 2002 | B16: 55.5 | C16: 59.5
A17: 2003 | B17: 55.7 | C17: 58.9
A18: 2004 | B18: 53.7 | C18: 57.4
A19: 2005 | B19: 60.4 | C19: 57.5
... A38: 2024 | B38: 52.1 | C38: 48.9

Sheet Figur 1.19 (Vedlegg 1)
A1: Figur 1.19 (Vedlegg 1) | B1: =INDEX(Innhold!$B:$B,MATCH($A$1,Innhold!$A:$A,0)) -> Sektorindikator 4 skog og areal – omfang av påskoget areal
B3: Omfang av påskoget areal (km2) | C3: Glidende gjennomsnitt (5 år)
A4: 1990 | B4: 20.6
A5: 1991 | B5: 20.6
A6: 1992 | B6: 20.6
A7: 1993 | B7: 20.6
A8: 1994 | B8: 20.6 | C8: 20.6
A9: 1995 | B9: 21.7 | C9: 20.8
A10: 1996 | B10: 21 | C10: 20.9
A11: 1997 | B11: 24.6 | C11: 21.7
A12: 1998 | B12: 27.2 | C12: 23
A13: 1999 | B13: 27.9 | C13: 24.5
A14: 2000 | B14: 27.9 | C14: 25.7
A15: 2001 | B15: 30.5 | C15: 27.6
A16: 2002 | B16: 30.3 | C16: 28.8
A17: 2003 | B17: 21.8 | C17: 27.7
A18: 2004 | B18: 21.3 | C18: 26.4
A19: 2005 | B19: 24.2 | C19: 25.6
... A38: 2024 | B38: 48.1 | C38: 46.9
