BEGIN:VCALENDAR
PRODID:-//github.com/ical-org/ical.net//NONSGML ical.net 5.2.1//EN
VERSION:2.0
BEGIN:VEVENT
DESCRIPTION:<ul style="list-style-type: link-list\;">\n<li data-nav="linkli
 st-link"><a href="https://www.regjeringen.no/en/whatsnew/dep/ud/press-rele
 ases/2026/utenriksministeren-leder-mote-i-giverlandsgruppen-for-palestina/
 ">Sjå eigen presseinformasjon</a></li>\n</ul>
DTSTAMP:20260420T140007Z
DTSTART;VALUE=DATE:20260420
LOCATION:Brussel\, Belgia
SEQUENCE:0
SUMMARY:Utanriksministeren leier eit møte i givarlandsgruppa for Palestina
UID:b3877c71-8e72-4c03-8218-0ce2cc10d838
X-ALT-DESC;FMTTYPE=text/html:<ul style="list-style-type: link-list\;">\n<li
  data-nav="linklist-link"><a href="https://www.regjeringen.no/en/whatsnew/
 dep/ud/press-releases/2026/utenriksministeren-leder-mote-i-giverlandsgrupp
 en-for-palestina/">Sjå eigen presseinformasjon</a></li>\n</ul>
END:VEVENT
BEGIN:VTIMEZONE
TZID:Europe/Oslo
X-LIC-LOCATION:Europe/Oslo
END:VTIMEZONE
END:VCALENDAR
