BEGIN:VCALENDAR
PRODID:-//github.com/ical-org/ical.net//NONSGML ical.net 5.2.1//EN
VERSION:2.0
BEGIN:VEVENT
DESCRIPTION:
DTEND:20260422T092000Z
DTSTAMP:20260420T140058Z
DTSTART:20260422T080000Z
SEQUENCE:0
SUMMARY:Helse- og omsorgsministeren deltar i spontanspørretimen på Storti
 nget
UID:44ea51b3-bcc4-4382-988b-27cec1305d5b
END:VEVENT
BEGIN:VTIMEZONE
TZID:Europe/Oslo
X-LIC-LOCATION:Europe/Oslo
END:VTIMEZONE
END:VCALENDAR
