BEGIN:VCALENDAR
PRODID:-//github.com/ical-org/ical.net//NONSGML ical.net 5.2.1//EN
VERSION:2.0
BEGIN:VEVENT
DESCRIPTION:
DTEND:20260422T100000Z
DTSTAMP:20260420T140125Z
DTSTART:20260422T093000Z
LOCATION:Oslo
SEQUENCE:0
SUMMARY:Helse- og omsorgsministeren deltar i spørretimen på Stortinget
UID:d239960e-1d46-4093-b754-c86c55e51a26
END:VEVENT
BEGIN:VTIMEZONE
TZID:Europe/Oslo
X-LIC-LOCATION:Europe/Oslo
END:VTIMEZONE
END:VCALENDAR
