BEGIN:VCALENDAR
PRODID:-//github.com/ical-org/ical.net//NONSGML ical.net 5.2.1//EN
VERSION:2.0
BEGIN:VEVENT
DESCRIPTION:<ul style="list-style-type: link-list\;">\n<li data-nav="linkli
 st-link"><a href="https://www.regjeringen.no/en/whatsnew/dep/ud/press-rele
 ases/2026/utviklingsministeren-besoker-beijing/">Sjå eige presseprogram</
 a></li>\n</ul>
DTEND;VALUE=DATE:20260422
DTSTAMP:20260420T140207Z
DTSTART;VALUE=DATE:20260422
LOCATION:Beijing\, Kina
SEQUENCE:0
SUMMARY:Utviklingsministeren besøkjer Beijing
UID:8b34a9ff-3b0e-4178-90cb-5801f55a4bd1
X-ALT-DESC;FMTTYPE=text/html:<ul style="list-style-type: link-list\;">\n<li
  data-nav="linklist-link"><a href="https://www.regjeringen.no/en/whatsnew/
 dep/ud/press-releases/2026/utviklingsministeren-besoker-beijing/">Sjå eig
 e presseprogram</a></li>\n</ul>
END:VEVENT
BEGIN:VTIMEZONE
TZID:Europe/Oslo
X-LIC-LOCATION:Europe/Oslo
END:VTIMEZONE
END:VCALENDAR
