BEGIN:VCALENDAR
PRODID:-//github.com/ical-org/ical.net//NONSGML ical.net 5.2.1//EN
VERSION:2.0
BEGIN:VEVENT
DESCRIPTION:Barne- og familieminister Lene Vågslid reiser til Bergen for b
 lant annet å holde åpningstale ved Barne og unge-kongressen\, og for å 
 besøke Fana og Ytrebygda ungdomssenter.<p>Kontaktperson er kommunikasjons
 rådgiver Henrik Aspeflaten\, tlf: 91610896\, <a href="mailto:henrik.aspef
 laten@bfd.dep.no">henrik.aspeflaten@bfd.dep.no</a> (med på reisen)</p>
DTEND;VALUE=DATE:20260421
DTSTAMP:20260420T140257Z
DTSTART;VALUE=DATE:20260421
LOCATION:Bergen
SEQUENCE:0
SUMMARY:Barne- og familieministeren er på reise til Bergen
UID:6739bc86-c770-4ad8-bdc3-4ca4170ee41d
X-ALT-DESC;FMTTYPE=text/html:Barne- og familieminister Lene Vågslid reiser
  til Bergen for blant annet å holde åpningstale ved Barne og unge-kongre
 ssen\, og for å besøke Fana og Ytrebygda ungdomssenter.<p>Kontaktperson 
 er kommunikasjonsrådgiver Henrik Aspeflaten\, tlf: 91610896\, <a href="ma
 ilto:henrik.aspeflaten@bfd.dep.no">henrik.aspeflaten@bfd.dep.no</a> (med p
 å reisen)</p>
END:VEVENT
BEGIN:VTIMEZONE
TZID:Europe/Oslo
X-LIC-LOCATION:Europe/Oslo
END:VTIMEZONE
END:VCALENDAR
