BEGIN:VCALENDAR
PRODID:-//github.com/ical-org/ical.net//NONSGML ical.net 5.2.1//EN
VERSION:2.0
BEGIN:VEVENT
DESCRIPTION:Regjeringens kontaktkonferanse for fylkeskommunene er et fast\,
  årlig dialogmøte der regjeringen møter politisk og administrativ ledel
 se i fylkeskommunene for å diskutere aktuelle nasjonale og regionale spø
 rsmål.<p><strong>Fra Regjeringen deltar:</strong></p>\n<p>Bjørnar Selnes
  Skjæran\, kommunal- og distriktsminister</p>\n<p>Astri Aas-Hansen\, just
 is- og beredskapsminister</p>\n<p>Jon-Ivar Nygård\, samferdselsminister 
               </p>\n<p>Cecilie Terese Myrseth\, næringsmini
 ster</p>\n<p>Nils Kristen Sandtrøen\, landbruks- og matminister</p>\n<p>S
 igrun Aasland\, forsknings- og høyere utdanningsminister</p>\n<p>Anette D
 avidsen\, statssekretær Digitaliserings- og forvaltningsdepartementet</p>
 \n<p>Marte Gerhardsen\, statssekretær Forsvarsdepartementet</p>\n<p>Emil 
 Raaen\, statssekretær Kommunal- og distriktsdepartementet</p>\n<p>Line El
 dring\, statssekretær Arbeids- og inkluderingsdepartementet</p>\n<p>Siri 
 Storstein Hytten\, statssekretær Barne- og familiedepartementet</p>\n<p>S
 indre Lysø\, statssekretær Kunnskapsdepartementet</p>\n<p>Eileen Fugelsn
 es\, statssekretær Kunnskapsdepartementet  </p>
DTEND:20260421T110000Z
DTSTAMP:20260420T140205Z
DTSTART:20260421T070000Z
LOCATION:A-blokken RKV Oslo
SEQUENCE:0
SUMMARY:Kommunal- og distriktsministeren arrangerer Regjeringens kontaktkon
 feranse for fylkeskommunene
UID:bb645526-eb4f-432a-88f6-59497114319f
X-ALT-DESC;FMTTYPE=text/html:Regjeringens kontaktkonferanse for fylkeskommu
 nene er et fast\, årlig dialogmøte der regjeringen møter politisk og ad
 ministrativ ledelse i fylkeskommunene for å diskutere aktuelle nasjonale 
 og regionale spørsmål.<p><strong>Fra Regjeringen deltar:</strong></p>\n<
 p>Bjørnar Selnes Skjæran\, kommunal- og distriktsminister</p>\n<p>Astri 
 Aas-Hansen\, justis- og beredskapsminister</p>\n<p>Jon-Ivar Nygård\, samf
 erdselsminister               </p>\n<p>Cecilie Terese Myrset
 h\, næringsminister</p>\n<p>Nils Kristen Sandtrøen\, landbruks- og matmi
 nister</p>\n<p>Sigrun Aasland\, forsknings- og høyere utdanningsminister<
 /p>\n<p>Anette Davidsen\, statssekretær Digitaliserings- og forvaltningsd
 epartementet</p>\n<p>Marte Gerhardsen\, statssekretær Forsvarsdepartement
 et</p>\n<p>Emil Raaen\, statssekretær Kommunal- og distriktsdepartementet
 </p>\n<p>Line Eldring\, statssekretær Arbeids- og inkluderingsdepartement
 et</p>\n<p>Siri Storstein Hytten\, statssekretær Barne- og familiedeparte
 mentet</p>\n<p>Sindre Lysø\, statssekretær Kunnskapsdepartementet</p>\n<
 p>Eileen Fugelsnes\, statssekretær Kunnskapsdepartementet  </p>
END:VEVENT
BEGIN:VTIMEZONE
TZID:Europe/Oslo
X-LIC-LOCATION:Europe/Oslo
END:VTIMEZONE
END:VCALENDAR
