BEGIN:VCALENDAR
PRODID:-//github.com/ical-org/ical.net//NONSGML ical.net 5.2.1//EN
VERSION:2.0
BEGIN:VEVENT
DESCRIPTION:Statsråd Bjørnar Skjæran holder innlegg og deltar i panelsam
 tale under Eiendom Norge-konferansen.
DTEND:20260421T114000Z
DTSTAMP:20260420T140242Z
DTSTART:20260421T112000Z
LOCATION:Munchmuseet Oslo
SEQUENCE:0
SUMMARY:Kommunal- og distriktsministeren deltar på Eiendom Norge-konferans
 en
UID:13680516-87d6-4245-96fb-3d5e0b5c6663
X-ALT-DESC;FMTTYPE=text/html:Statsråd Bjørnar Skjæran holder innlegg og 
 deltar i panelsamtale under Eiendom Norge-konferansen.
END:VEVENT
BEGIN:VTIMEZONE
TZID:Europe/Oslo
X-LIC-LOCATION:Europe/Oslo
END:VTIMEZONE
END:VCALENDAR
