BEGIN:VCALENDAR
PRODID:-//github.com/ical-org/ical.net//NONSGML ical.net 5.2.1//EN
VERSION:2.0
BEGIN:VEVENT
DESCRIPTION:Statsråd Bjørnar Skjæran holder innlegg under Boligpulsen 20
 26.<p>Boligpulsen arrangeres av Husbanken</p>
DTEND:20260422T091500Z
DTSTAMP:20260420T140123Z
DTSTART:20260422T083000Z
LOCATION:Raddison Blu Plaza Hotel Oslo
SEQUENCE:0
SUMMARY:Kommunal- og distriktsministeren deltar på Boligpulsen 2026
UID:326e1a86-a4bb-4cc3-921f-5344a4ea3863
X-ALT-DESC;FMTTYPE=text/html:Statsråd Bjørnar Skjæran holder innlegg und
 er Boligpulsen 2026.<p>Boligpulsen arrangeres av Husbanken</p>
END:VEVENT
BEGIN:VTIMEZONE
TZID:Europe/Oslo
X-LIC-LOCATION:Europe/Oslo
END:VTIMEZONE
END:VCALENDAR
