BEGIN:VCALENDAR
PRODID:-//github.com/ical-org/ical.net//NONSGML ical.net 5.2.1//EN
VERSION:2.0
BEGIN:VEVENT
DESCRIPTION:Statsråd Bjørnar Skjæran holder innlegg og deltar i panelsam
 tale under High North Dialogue.
DTEND:20260423T120000Z
DTSTAMP:20260420T140242Z
DTSTART:20260423T103000Z
LOCATION:Radison Blu Bodø
SEQUENCE:0
SUMMARY:Kommunal- og distriktsministeren deltar på High North Dialogue
UID:c861f6ba-dc29-46e9-ad60-64200868ef05
X-ALT-DESC;FMTTYPE=text/html:Statsråd Bjørnar Skjæran holder innlegg og 
 deltar i panelsamtale under High North Dialogue.
END:VEVENT
BEGIN:VTIMEZONE
TZID:Europe/Oslo
X-LIC-LOCATION:Europe/Oslo
END:VTIMEZONE
END:VCALENDAR
