BEGIN:VCALENDAR
PRODID:-//github.com/ical-org/ical.net//NONSGML ical.net 5.2.1//EN
VERSION:2.0
BEGIN:VEVENT
DESCRIPTION:Forsknings- og høyere utdanningsminister Sigrun Aasland taler 
 på utdelingen av Hjerteforskningsprisen og Demensforskningsprisen\, som d
 eles ut av Nasjonalforeningen for folkehelse. 
DTSTAMP:20260420T140124Z
DTSTART:20260421T110000Z
LOCATION:Oslo Konserthus
SEQUENCE:0
SUMMARY:Forsknings- og høyere utdanningsministeren taler på utdelingen av
  Nasjonalforeningen for folkehelsens forskningspriser
UID:31e7458c-b597-4e09-a4d2-ebec758e09c0
X-ALT-DESC;FMTTYPE=text/html:Forsknings- og høyere utdanningsminister Sigr
 un Aasland taler på utdelingen av Hjerteforskningsprisen og Demensforskni
 ngsprisen\, som deles ut av Nasjonalforeningen for folkehelse. 
END:VEVENT
BEGIN:VTIMEZONE
TZID:Europe/Oslo
X-LIC-LOCATION:Europe/Oslo
END:VTIMEZONE
END:VCALENDAR
