BEGIN:VCALENDAR
PRODID:-//github.com/ical-org/ical.net//NONSGML ical.net 5.2.1//EN
VERSION:2.0
BEGIN:VEVENT
DESCRIPTION:Justis- og beredskapsministeren svarar på spørsmål om tilflu
 ktsrom i den ordinære spørjetimen på Stortinget. <p><a href="https://ww
 w.stortinget.no/no/Hva-skjer-pa-Stortinget/Moteprogram/Sporretime/?meid=11
 613">Spørsmål i spørjetimen onsdag 22. april 2026 (stortinget.no)</a></
 p>
DTSTAMP:20260420T140124Z
DTSTART:20260422T090000Z
SEQUENCE:0
SUMMARY:Justis- og beredskapsministeren svarar på eit spørsmål i spørje
 timen
UID:fdc51800-45c9-465a-bd60-cfce92d81827
X-ALT-DESC;FMTTYPE=text/html:Justis- og beredskapsministeren svarar på sp
 ørsmål om tilfluktsrom i den ordinære spørjetimen på Stortinget. <p><
 a href="https://www.stortinget.no/no/Hva-skjer-pa-Stortinget/Moteprogram/S
 porretime/?meid=11613">Spørsmål i spørjetimen onsdag 22. april 2026 (st
 ortinget.no)</a></p>
END:VEVENT
BEGIN:VTIMEZONE
TZID:Europe/Oslo
X-LIC-LOCATION:Europe/Oslo
END:VTIMEZONE
END:VCALENDAR
