BEGIN:VCALENDAR
PRODID:-//github.com/ical-org/ical.net//NONSGML ical.net 5.2.1//EN
VERSION:2.0
BEGIN:VEVENT
DESCRIPTION:<p>Utanriksminister Espen Barth Eide er i Bodø. Han skal mello
 m anna delta i ei panelsamtale under High North Dialogue Conference.</p>\n
 <p>Pressekontakt: Pressevakta UD\, <a href="tel:23%2095%2000%2002">23 95 
 00 02</a>.</p>
DTEND;VALUE=DATE:20260421
DTSTAMP:20260420T140105Z
DTSTART;VALUE=DATE:20260421
LOCATION:Bodø\, Nordland
SEQUENCE:0
SUMMARY:Utanriksministeren er i Bodø
UID:4c85f523-73c7-4ccd-9da6-a00a651dbd77
X-ALT-DESC;FMTTYPE=text/html:<p>Utanriksminister Espen Barth Eide er i Bod
 ø. Han skal mellom anna delta i ei panelsamtale under High North Dialogue
  Conference.</p>\n<p>Pressekontakt: Pressevakta UD\, <a href="tel:23%2095
 %2000%2002">23 95 00 02</a>.</p>
END:VEVENT
BEGIN:VTIMEZONE
TZID:Europe/Oslo
X-LIC-LOCATION:Europe/Oslo
END:VTIMEZONE
END:VCALENDAR
