BEGIN:VCALENDAR
PRODID:-//github.com/ical-org/ical.net//NONSGML ical.net 5.2.1//EN
VERSION:2.0
BEGIN:VEVENT
DESCRIPTION:<p>Pressekontakt: Pressevakta UD\, <a href="tel:23%2095%2000%2
 002">23 95 00 02</a>.</p>
DTSTAMP:20260420T140007Z
DTSTART:20260424T063000Z
SEQUENCE:0
SUMMARY:Utanriksministeren møter den etiopiske utanriksministeren
UID:d9dcf06f-75cb-46cc-a7a4-f7f6ee41bfca
X-ALT-DESC;FMTTYPE=text/html:<p>Pressekontakt: Pressevakta UD\, <a href="t
 el:23%2095%2000%2002">23 95 00 02</a>.</p>
END:VEVENT
BEGIN:VTIMEZONE
TZID:Europe/Oslo
X-LIC-LOCATION:Europe/Oslo
END:VTIMEZONE
END:VCALENDAR
