BEGIN:VCALENDAR
PRODID:-//github.com/ical-org/ical.net//NONSGML ical.net 5.2.1//EN
VERSION:2.0
BEGIN:VEVENT
DESCRIPTION:<ul style="list-style-type: link-list\;">\n<li data-nav="linkli
 st-link"><a href="https://www.regjeringen.no/en/whatsnew/dep/ud/press-rele
 ases/2026/utviklingsministeren-besoker-beijing/">Sjå eigen presseinformas
 jon</a></li>\n</ul>
DTEND;VALUE=DATE:20260422
DTSTAMP:20260420T140105Z
DTSTART;VALUE=DATE:20260422
LOCATION:Kina
SEQUENCE:0
SUMMARY:Utviklingsministeren er på bilateralt besøk i Kina
UID:70a28c1a-1fcc-407d-adba-c5bb2283b191
X-ALT-DESC;FMTTYPE=text/html:<ul style="list-style-type: link-list\;">\n<li
  data-nav="linklist-link"><a href="https://www.regjeringen.no/en/whatsnew/
 dep/ud/press-releases/2026/utviklingsministeren-besoker-beijing/">Sjå eig
 en presseinformasjon</a></li>\n</ul>
END:VEVENT
BEGIN:VTIMEZONE
TZID:Europe/Oslo
X-LIC-LOCATION:Europe/Oslo
END:VTIMEZONE
END:VCALENDAR
