BEGIN:VCALENDAR
PRODID:-//github.com/ical-org/ical.net//NONSGML ical.net 5.2.1//EN
VERSION:2.0
BEGIN:VEVENT
DESCRIPTION:
DTEND:20260421T114500Z
DTSTAMP:20260420T140256Z
DTSTART:20260421T110000Z
LOCATION:Oslo
SEQUENCE:0
SUMMARY:Digitaliserings- og forvaltningsministeren møter Wolt
UID:90f76f67-bc52-4473-b1db-42f072ec65f7
END:VEVENT
BEGIN:VTIMEZONE
TZID:Europe/Oslo
X-LIC-LOCATION:Europe/Oslo
END:VTIMEZONE
END:VCALENDAR
