BEGIN:VCALENDAR
PRODID:-//github.com/ical-org/ical.net//NONSGML ical.net 5.2.1//EN
VERSION:2.0
BEGIN:VEVENT
DESCRIPTION:<p>Energiminister Terje Aasland har møte med Tinfos. Tema for 
 møtet er fornybar kraft. For meir informasjon\, kontakt pressevakta i Ene
 rgidepartementet på 41 57 35 00\, e-post <a href="mailto:info@ed.dep.no">
 info@ed.dep.no</a>.</p>
DTSTAMP:20260420T140400Z
DTSTART:20260421T120000Z
SEQUENCE:0
SUMMARY:Energiministeren møter Tinfos
UID:188c2c0d-4df4-4bea-9e82-aad6df1db0f4
X-ALT-DESC;FMTTYPE=text/html:<p>Energiminister Terje Aasland har møte med 
 Tinfos. Tema for møtet er fornybar kraft. For meir informasjon\, kontakt 
 pressevakta i Energidepartementet på 41 57 35 00\, e-post <a href="mailto
 :info@ed.dep.no">info@ed.dep.no</a>.</p>
END:VEVENT
BEGIN:VTIMEZONE
TZID:Europe/Oslo
X-LIC-LOCATION:Europe/Oslo
END:VTIMEZONE
END:VCALENDAR
