BEGIN:VCALENDAR
PRODID:-//github.com/ical-org/ical.net//NONSGML ical.net 5.2.1//EN
VERSION:2.0
BEGIN:VEVENT
DESCRIPTION:<p>Energiminister Terje Aasland har møte med administrerande d
 irektør Bård Vegar Solhjell i Fornybar Norge. Tema for møtet er aktuell
 e saker på energiområdet.</p>\n<p>For meir informasjon\, kontakt pressev
 akta i Energidepartementet på 41 57 35 00\, e-post <a href="mailto:info@
 ed.dep.no">info@ed.dep.no</a>.</p>
DTSTAMP:20260420T140206Z
DTSTART:20260423T060000Z
SEQUENCE:0
SUMMARY:Energiministeren møter administrerende direktør Bård Vegar Solhj
 ell i Fornybar Norge
UID:bd82c25c-c0d6-4739-87a1-f7036ccbe653
X-ALT-DESC;FMTTYPE=text/html:<p>Energiminister Terje Aasland har møte med 
 administrerande direktør Bård Vegar Solhjell i Fornybar Norge. Tema for 
 møtet er aktuelle saker på energiområdet.</p>\n<p>For meir informasjon\
 , kontakt pressevakta i Energidepartementet på 41 57 35 00\, e-post <a h
 ref="mailto:info@ed.dep.no">info@ed.dep.no</a>.</p>
END:VEVENT
BEGIN:VTIMEZONE
TZID:Europe/Oslo
X-LIC-LOCATION:Europe/Oslo
END:VTIMEZONE
END:VCALENDAR
