BEGIN:VCALENDAR
PRODID:-//github.com/ical-org/ical.net//NONSGML ical.net 5.2.1//EN
VERSION:2.0
BEGIN:VEVENT
DESCRIPTION:<p>Kultur- og likestillingsministeren vil også være til stede
  i Stortinget ved behandlingen av representantforslaget om mer åpenhet og
  demokrati i kultursektoren.</p>
DTSTAMP:20260420T140259Z
DTSTART:20260421T080000Z
LOCATION:Stortinget
SEQUENCE:0
SUMMARY:Kultur- og likestillingsministeren holder likestillingspolitisk red
 egjørelse
UID:9ab03dbc-a610-4d5b-a183-57db77b23df5
X-ALT-DESC;FMTTYPE=text/html:<p>Kultur- og likestillingsministeren vil ogs
 å være til stede i Stortinget ved behandlingen av representantforslaget 
 om mer åpenhet og demokrati i kultursektoren.</p>
END:VEVENT
BEGIN:VTIMEZONE
TZID:Europe/Oslo
X-LIC-LOCATION:Europe/Oslo
END:VTIMEZONE
END:VCALENDAR
