BEGIN:VCALENDAR
PRODID:-//github.com/ical-org/ical.net//NONSGML ical.net 5.2.1//EN
VERSION:2.0
BEGIN:VEVENT
DESCRIPTION:<p>Møtet er lukket. Etter møtet - kl. 11 - er statsrådene ti
 lgjengelige for intervjuer med presse.</p>\n<ul style="list-style-type: li
 nk-list\;">\n<li data-nav="linklist-link"><a href="https://www.regjeringen
 .no/en/whatsnew/dep/kud/press-releases/2026/kultur-og-likestillingsministe
 ren-og-naringsministeren-skal-fa-innspel-om-film-og-filminsentivordninga/"
 >Presseinvitasjon: Kultur- og likestillingsministeren og næringsministere
 n skal få innspel om film og filminsentivordninga - regjeringen.no</a></l
 i>\n</ul>\n<p> </p>
DTSTAMP:20260420T140241Z
DTSTART:20260422T080000Z
LOCATION:R6
SEQUENCE:0
SUMMARY:Kultur- og likestillingsministeren og næringsministeren inviterer 
 til innspillsmøte om film og filminsentivordningen
UID:bd02fe95-a332-453b-8eb4-d1277a6ebec7
X-ALT-DESC;FMTTYPE=text/html:<p>Møtet er lukket. Etter møtet - kl. 11 - e
 r statsrådene tilgjengelige for intervjuer med presse.</p>\n<ul style="li
 st-style-type: link-list\;">\n<li data-nav="linklist-link"><a href="https:
 //www.regjeringen.no/en/whatsnew/dep/kud/press-releases/2026/kultur-og-lik
 estillingsministeren-og-naringsministeren-skal-fa-innspel-om-film-og-filmi
 nsentivordninga/">Presseinvitasjon: Kultur- og likestillingsministeren og 
 næringsministeren skal få innspel om film og filminsentivordninga - regj
 eringen.no</a></li>\n</ul>\n<p> </p>
END:VEVENT
BEGIN:VTIMEZONE
TZID:Europe/Oslo
X-LIC-LOCATION:Europe/Oslo
END:VTIMEZONE
END:VCALENDAR
