BEGIN:VCALENDAR
PRODID:-//github.com/ical-org/ical.net//NONSGML ical.net 5.2.1//EN
VERSION:2.0
BEGIN:VEVENT
DESCRIPTION:
DTSTAMP:20260420T152752Z
DTSTART:20260423T080000Z
LOCATION:R5
SEQUENCE:0
SUMMARY:Kultur- og likestillingsministeren inviterer til innspillsmøte for
  kulturarenastrategien
UID:0318b91a-1737-4288-b4f6-60dbd0e587b0
END:VEVENT
BEGIN:VTIMEZONE
TZID:Europe/Oslo
X-LIC-LOCATION:Europe/Oslo
END:VTIMEZONE
END:VCALENDAR
