BEGIN:VCALENDAR
PRODID:-//github.com/ical-org/ical.net//NONSGML ical.net 5.2.1//EN
VERSION:2.0
BEGIN:VEVENT
DESCRIPTION:Forsknings- og høyere utdanningsminister Sigrun Aasland kommen
 terer søkertallene til høyere utdanning for 2026. <p><a href="https://ww
 w.regjeringen.no/en/whatsnew/dep/kd/press-releases/2026/pressekonferanse-o
 m-sokartala-til-universitet-og-hogskular/">Egen invitasjon til pressekonfe
 ransen er sendt ut. </a></p>
DTSTAMP:20260420T140103Z
DTSTART:20260423T080000Z
LOCATION:Universitetsbiblioteket\, Universitetet i Oslo
SEQUENCE:0
SUMMARY:Forsknings- og høyere utdanningsministeren deltar på pressekonfer
 anse om søkertall til høyere utdanning
UID:4ca5291a-9371-45ae-a08f-d2e0040d2680
X-ALT-DESC;FMTTYPE=text/html:Forsknings- og høyere utdanningsminister Sigr
 un Aasland kommenterer søkertallene til høyere utdanning for 2026. <p><a
  href="https://www.regjeringen.no/en/whatsnew/dep/kd/press-releases/2026/p
 ressekonferanse-om-sokartala-til-universitet-og-hogskular/">Egen invitasjo
 n til pressekonferansen er sendt ut. </a></p>
END:VEVENT
BEGIN:VTIMEZONE
TZID:Europe/Oslo
X-LIC-LOCATION:Europe/Oslo
END:VTIMEZONE
END:VCALENDAR
