BEGIN:VCALENDAR
PRODID:-//github.com/ical-org/ical.net//NONSGML ical.net 5.2.1//EN
VERSION:2.0
BEGIN:VEVENT
DESCRIPTION:Statsminister Jonas Gahr Støre er i Bodø.<p>Kl. 10.30: Statsm
 inisteren taler på opninga av Sikkerhetsforum Nord. Stad: Nord universite
 t.</p>\n<p>Kl. 12.00: Statsministeren taler på opninga av Øvelse Nord. S
 tad: Nord universitet.</p>\n<p>Kl. 14.00: Statsministeren deltek på eit l
 esearrangement på Stormen bibliotek i Bodø. Stad: Storgata 1.</p>\n<p>Kl
 . 15.30: Statsministeren besøkjer Nato sitt luftoperasjonssenter (CAOC) i
  Bodø. Stad: Forsvarets operative hovudkvarter.</p>\n<p>Pressekontakt er 
 kommunikasjonsrådgivar Stine Grimsrud\, telefon 97 19 42 50\, e-post <a 
 href="mailto:stine.grimsrud@smk.dep.no">stine.grimsrud@smk.dep.no</a>.</p>
DTSTAMP:20260420T152726Z
DTSTART:20260419T220000Z
SEQUENCE:0
SUMMARY:Statsministeren er i Bodø
UID:0305304d-7cad-4da0-bf56-06c94c6715b3
X-ALT-DESC;FMTTYPE=text/html:Statsminister Jonas Gahr Støre er i Bodø.<p>
 Kl. 10.30: Statsministeren taler på opninga av Sikkerhetsforum Nord. Stad
 : Nord universitet.</p>\n<p>Kl. 12.00: Statsministeren taler på opninga a
 v Øvelse Nord. Stad: Nord universitet.</p>\n<p>Kl. 14.00: Statsministeren
  deltek på eit lesearrangement på Stormen bibliotek i Bodø. Stad: Storg
 ata 1.</p>\n<p>Kl. 15.30: Statsministeren besøkjer Nato sitt luftoperasjo
 nssenter (CAOC) i Bodø. Stad: Forsvarets operative hovudkvarter.</p>\n<p>
 Pressekontakt er kommunikasjonsrådgivar Stine Grimsrud\, telefon 97 19 42
  50\, e-post <a href="mailto:stine.grimsrud@smk.dep.no">stine.grimsrud@sm
 k.dep.no</a>.</p>
END:VEVENT
BEGIN:VTIMEZONE
TZID:Europe/Oslo
X-LIC-LOCATION:Europe/Oslo
END:VTIMEZONE
END:VCALENDAR
