BEGIN:VCALENDAR
PRODID:-//github.com/ical-org/ical.net//NONSGML ical.net 5.2.1//EN
VERSION:2.0
BEGIN:VEVENT
DESCRIPTION:Statsminister Jonas Gahr Støre er i Harstad og Narvik.<p>Kl. 0
 9.00: Statsministeren opnar Harstad helsehus. Stad: St. Olavsgate 68 i Har
 stad.</p>\n<p>Kl. 12.00: Statsministeren besøkjer byggjeplassen der Nscal
 e og Aker byggjer ei av verdas største KI-fabrikkar. Stad: Nordmoveien 26
 0.</p>\n<p>Kl. 13.00: Statsministeren besøkjer Narvik ungdomsskole. Stad:
  Gamle Framnes ungdomsskole\, Øvreveien 5 i Narvik.</p>\n<p>Pressekontakt
  er kommunikasjonsrådgivar Stine Grimsrud\, telefon 97 19 42 50\, e-post 
 <a href="mailto:stine.grimsrud@smk.dep.no">stine.grimsrud@smk.dep.no</a>.<
 /p>
DTSTAMP:20260420T152726Z
DTSTART;VALUE=DATE:20260421
SEQUENCE:0
SUMMARY:Statsministeren er i Harstad og Narvik
UID:838f1ddc-6c9c-463c-92be-1fdad560ed12
X-ALT-DESC;FMTTYPE=text/html:Statsminister Jonas Gahr Støre er i Harstad o
 g Narvik.<p>Kl. 09.00: Statsministeren opnar Harstad helsehus. Stad: St. O
 lavsgate 68 i Harstad.</p>\n<p>Kl. 12.00: Statsministeren besøkjer byggje
 plassen der Nscale og Aker byggjer ei av verdas største KI-fabrikkar. Sta
 d: Nordmoveien 260.</p>\n<p>Kl. 13.00: Statsministeren besøkjer Narvik un
 gdomsskole. Stad: Gamle Framnes ungdomsskole\, Øvreveien 5 i Narvik.</p>\
 n<p>Pressekontakt er kommunikasjonsrådgivar Stine Grimsrud\, telefon 97 1
 9 42 50\, e-post <a href="mailto:stine.grimsrud@smk.dep.no">stine.grimsrud
 @smk.dep.no</a>.</p>
END:VEVENT
BEGIN:VTIMEZONE
TZID:Europe/Oslo
X-LIC-LOCATION:Europe/Oslo
END:VTIMEZONE
END:VCALENDAR
