BEGIN:VCALENDAR
PRODID:-//github.com/ical-org/ical.net//NONSGML ical.net 5.2.1//EN
VERSION:2.0
BEGIN:VEVENT
DESCRIPTION:<p>Pressekontakt: Pressevakta UD\, <a href="tel:23%2095%2000%2
 002">23 95 00 02</a>.</p>
DTSTAMP:20260424T212301Z
DTSTART:20260427T144500Z
SEQUENCE:0
SUMMARY:Utanriksministeren møter presidenten i Verdsbanken\, Ajay Banga
UID:156ad292-add3-4f11-a537-d1adc4c34961
X-ALT-DESC;FMTTYPE=text/html:<p>Pressekontakt: Pressevakta UD\, <a href="t
 el:23%2095%2000%2002">23 95 00 02</a>.</p>
END:VEVENT
BEGIN:VTIMEZONE
TZID:Europe/Oslo
X-LIC-LOCATION:Europe/Oslo
END:VTIMEZONE
END:VCALENDAR
