BEGIN:VCALENDAR
PRODID:-//github.com/ical-org/ical.net//NONSGML ical.net 5.2.1//EN
VERSION:2.0
BEGIN:VEVENT
DESCRIPTION:<p>Pressekontakt: Pressevakta UD\, <a href="tel:23%2095%2000%2
 002">23 95 00 02</a>.</p>
DTEND;VALUE=DATE:20260430
DTSTAMP:20260424T212259Z
DTSTART;VALUE=DATE:20260430
LOCATION:Kuressaare\, Estland
SEQUENCE:0
SUMMARY:Utanriksministeren deltek på eit nordisk-baltisk møte (NB9)
UID:5234de03-8901-4412-927b-9367e5740015
X-ALT-DESC;FMTTYPE=text/html:<p>Pressekontakt: Pressevakta UD\, <a href="t
 el:23%2095%2000%2002">23 95 00 02</a>.</p>
END:VEVENT
BEGIN:VTIMEZONE
TZID:Europe/Oslo
X-LIC-LOCATION:Europe/Oslo
END:VTIMEZONE
END:VCALENDAR
