BEGIN:VCALENDAR
PRODID:-//github.com/ical-org/ical.net//NONSGML ical.net 5.2.1//EN
VERSION:2.0
BEGIN:VEVENT
DESCRIPTION:Fiskeri- og havminister Marianne Sivertsen Næss deltar på tra
 nsportministermøte på Kypros. Under sitt opphold skal fiskeri- og havmin
 isteren også ha møte med EU-kommisæren for fiskeri og hav\, Costas Kadi
 s\, som er fra Kypros.
DTEND;VALUE=DATE:20260429
DTSTAMP:20260424T212253Z
DTSTART;VALUE=DATE:20260429
SEQUENCE:0
SUMMARY:Fiskeri- og havministeren deltar på transportministermøte på Kyp
 ros
UID:6eb244b1-aa20-4bef-a980-73268f01f042
X-ALT-DESC;FMTTYPE=text/html:Fiskeri- og havminister Marianne Sivertsen Næ
 ss deltar på transportministermøte på Kypros. Under sitt opphold skal f
 iskeri- og havministeren også ha møte med EU-kommisæren for fiskeri og 
 hav\, Costas Kadis\, som er fra Kypros.
END:VEVENT
BEGIN:VTIMEZONE
TZID:Europe/Oslo
X-LIC-LOCATION:Europe/Oslo
END:VTIMEZONE
END:VCALENDAR
