BEGIN:VCALENDAR
PRODID:-//github.com/ical-org/ical.net//NONSGML ical.net 5.2.1//EN
VERSION:2.0
BEGIN:VEVENT
DESCRIPTION:Utviklingsminister Åsmund Aukrust inviterer til eit Vendepunkt
 seminar om innsats for jobbskaping og mobilisering av privat kapital. Verd
 sbankens president\, Ajay Banga\, vil halde opningsinnlegg. Arrangørane e
 r Utanriksdepartementet og Norfund.<ul style="list-style-type: link-list\;
 ">\n<li data-nav="linklist-link"><a href="https://www.regjeringen.no/en/wh
 atsnew/dep/ud/press-releases/2026/avkastning-jobber-vekst-invester-i-utvik
 lingsland/">Avkastning\, jobber\, vekst: Invester i utviklingsland</a></li
 >\n</ul>
DTSTAMP:20260424T212247Z
DTSTART:20260428T090000Z
LOCATION:Sentralen\, Oslo
SEQUENCE:0
SUMMARY:Utviklingsministeren inviterer til eit Vendepunktseminar om innsats
  for jobbskaping og mobilisering av privat kapital
UID:767e48eb-c7b6-4262-bbcb-8b40abb1f2ae
X-ALT-DESC;FMTTYPE=text/html:Utviklingsminister Åsmund Aukrust inviterer t
 il eit Vendepunktseminar om innsats for jobbskaping og mobilisering av pri
 vat kapital. Verdsbankens president\, Ajay Banga\, vil halde opningsinnleg
 g. Arrangørane er Utanriksdepartementet og Norfund.<ul style="list-style-
 type: link-list\;">\n<li data-nav="linklist-link"><a href="https://www.reg
 jeringen.no/en/whatsnew/dep/ud/press-releases/2026/avkastning-jobber-vekst
 -invester-i-utviklingsland/">Avkastning\, jobber\, vekst: Invester i utvik
 lingsland</a></li>\n</ul>
END:VEVENT
BEGIN:VTIMEZONE
TZID:Europe/Oslo
X-LIC-LOCATION:Europe/Oslo
END:VTIMEZONE
END:VCALENDAR
