BEGIN:VCALENDAR
PRODID:-//github.com/ical-org/ical.net//NONSGML ical.net 5.2.1//EN
VERSION:2.0
BEGIN:VEVENT
DESCRIPTION:<ul style="list-style-type: link-list\;">\n<li data-nav="linkli
 st-link"><a href="https://www.regjeringen.no/en/whatsnew/dep/kud/press-rel
 eases/2026/presseinvitasjon-mandag-27.-april-inviterer-kultur-og-likestill
 ingsminister-lubna-jaffery-til-idedugnad-om-leselyst-for-voksne-pa-nasjona
 lbiblioteket">Presseinvitasjon: Mandag 27. april inviterer kultur- og like
 stillingsminister Lubna Jaffery til idèdugnad om leselyst for voksne på 
 Nasjonalbiblioteket - regjeringen.no</a></li>\n</ul>
DTSTAMP:20260424T212247Z
DTSTART:20260427T073000Z
LOCATION:Nasjonalbiblioteket
SEQUENCE:0
SUMMARY:Kultur- og likestillingsministeren inviterer til innspillmøte om l
 eselyst for voksne
UID:bd966b18-e61f-4a48-b799-5c60b1b4aba0
X-ALT-DESC;FMTTYPE=text/html:<ul style="list-style-type: link-list\;">\n<li
  data-nav="linklist-link"><a href="https://www.regjeringen.no/en/whatsnew/
 dep/kud/press-releases/2026/presseinvitasjon-mandag-27.-april-inviterer-ku
 ltur-og-likestillingsminister-lubna-jaffery-til-idedugnad-om-leselyst-for-
 voksne-pa-nasjonalbiblioteket">Presseinvitasjon: Mandag 27. april invitere
 r kultur- og likestillingsminister Lubna Jaffery til idèdugnad om leselys
 t for voksne på Nasjonalbiblioteket - regjeringen.no</a></li>\n</ul>
END:VEVENT
BEGIN:VTIMEZONE
TZID:Europe/Oslo
X-LIC-LOCATION:Europe/Oslo
END:VTIMEZONE
END:VCALENDAR
