BEGIN:VCALENDAR
PRODID:-//github.com/ical-org/ical.net//NONSGML ical.net 5.2.1//EN
VERSION:2.0
BEGIN:VEVENT
DESCRIPTION:
DTSTAMP:20260424T212252Z
DTSTART:20260427T133000Z
LOCATION:Bergen
SEQUENCE:0
SUMMARY:Kultur- og likestillingsministeren møter rektoren ved UiB\, Margar
 eth Hagen
UID:b9a8b476-ed65-455e-abcb-e1ef41cddab3
END:VEVENT
BEGIN:VTIMEZONE
TZID:Europe/Oslo
X-LIC-LOCATION:Europe/Oslo
END:VTIMEZONE
END:VCALENDAR
