BEGIN:VCALENDAR
PRODID:-//github.com/ical-org/ical.net//NONSGML ical.net 5.2.1//EN
VERSION:2.0
BEGIN:VEVENT
DESCRIPTION:<p>Kultur- og likestillingsministeren er også til stede under 
 behandlingen av to representantforslag.</p>
DTSTAMP:20260424T212248Z
DTSTART:20260430T080000Z
LOCATION:Stortinget
SEQUENCE:0
SUMMARY:Kultur- og likestillingsministeren deltar i likestillingspolitisk d
 ebatt på Stortinget
UID:59382398-41ae-45d1-804a-c0d739c65865
X-ALT-DESC;FMTTYPE=text/html:<p>Kultur- og likestillingsministeren er også
  til stede under behandlingen av to representantforslag.</p>
END:VEVENT
BEGIN:VTIMEZONE
TZID:Europe/Oslo
X-LIC-LOCATION:Europe/Oslo
END:VTIMEZONE
END:VCALENDAR
