BEGIN:VCALENDAR
PRODID:-//github.com/ical-org/ical.net//NONSGML ical.net 5.2.1//EN
VERSION:2.0
BEGIN:VEVENT
DESCRIPTION:Energiminister Terje Aasland besøkjer Hitachi Energy sin servi
 ceverkstad for transformatorar og høgspenningsutstyr. Besøket skulle opp
 rinneleg vore gjennomført i 2025\, men vart då utsett.<p>For meir inform
 asjon\, kontakt pressevakta i Energidepartementet på 41 57 35 00\, e-post
  <a href="mailto:info@ed.dep.no">info@ed.dep.no</a>.  </p>
DTSTAMP:20260423T112156Z
DTSTART:20260112T083000Z
LOCATION:Senter for beredskap og sirkulærøkonomi Holmestrandsveien 117 Dr
 ammen
SEQUENCE:0
SUMMARY:Energiministeren besøkjer Hitachi Energy
UID:1e6df896-e962-4d11-95e9-7e1e20b59a4e
X-ALT-DESC;FMTTYPE=text/html:Energiminister Terje Aasland besøkjer Hitachi
  Energy sin serviceverkstad for transformatorar og høgspenningsutstyr. Be
 søket skulle opprinneleg vore gjennomført i 2025\, men vart då utsett.<
 p>For meir informasjon\, kontakt pressevakta i Energidepartementet på 41 
 57 35 00\, e-post <a href="mailto:info@ed.dep.no">info@ed.dep.no</a>.  <
 /p>
END:VEVENT
BEGIN:VTIMEZONE
TZID:Europe/Oslo
X-LIC-LOCATION:Europe/Oslo
END:VTIMEZONE
END:VCALENDAR
