BEGIN:VCALENDAR
PRODID:-//github.com/ical-org/ical.net//NONSGML ical.net 5.2.1//EN
VERSION:2.0
BEGIN:VEVENT
DESCRIPTION:Minnemarkeringer i Regjeringskvartalet\, Oslo Domkirke og på U
 tøya.<ul style="list-style-type: link-list\;">\n<li><a href="https://www.
 regjeringen.no/no/sub/etter-22-juli/nyheter-om-22.-juli/program-14-arsmark
 eringer-22.-juli-2025/id3114058/">Program 14-års minnemarkeringer 22. jul
 i 2025</a></li>\n</ul>
DTEND;VALUE=DATE:20250722
DTSTAMP:20260420T140501Z
DTSTART;VALUE=DATE:20250722
LOCATION:Regjeringskvartalet\, Oslo Domkirke\, Utøya
SEQUENCE:0
SUMMARY:22. juli-markeringer
UID:ea1442e0-e1e7-40fd-891a-30d7c92c90c0
X-ALT-DESC;FMTTYPE=text/html:Minnemarkeringer i Regjeringskvartalet\, Oslo 
 Domkirke og på Utøya.<ul style="list-style-type: link-list\;">\n<li><a h
 ref="https://www.regjeringen.no/no/sub/etter-22-juli/nyheter-om-22.-juli/p
 rogram-14-arsmarkeringer-22.-juli-2025/id3114058/">Program 14-års minnema
 rkeringer 22. juli 2025</a></li>\n</ul>
END:VEVENT
BEGIN:VTIMEZONE
TZID:Europe/Oslo
X-LIC-LOCATION:Europe/Oslo
END:VTIMEZONE
END:VCALENDAR
