BEGIN:VCALENDAR
PRODID:-//github.com/ical-org/ical.net//NONSGML ical.net 5.2.1//EN
VERSION:2.0
BEGIN:VEVENT
DESCRIPTION:
DTSTAMP:20260423T154440Z
DTSTART:20250801T100000Z
LOCATION:Ekeberg
SEQUENCE:0
SUMMARY:Justis- og beredskapsminister Aas-Hansen besøker Norway Cup
UID:b48c3667-aa5d-4f8c-9f27-8fd0acdab582
END:VEVENT
BEGIN:VTIMEZONE
TZID:Europe/Oslo
X-LIC-LOCATION:Europe/Oslo
END:VTIMEZONE
END:VCALENDAR
