BEGIN:VCALENDAR
PRODID:-//github.com/ical-org/ical.net//NONSGML ical.net 5.2.1//EN
VERSION:2.0
BEGIN:VEVENT
DESCRIPTION:
DTEND:20260413T120000Z
DTSTAMP:20260423T150420Z
DTSTART:20260413T100000Z
LOCATION:Regjeringskvartalet  Akersgata 42 Oslo
SEQUENCE:0
SUMMARY:Arbeids- og inkluderingsministeren deltek under opninga av nytt reg
 jeringskvartal
UID:b2a62e31-0538-4cbc-b877-eeaff9be4ad6
END:VEVENT
BEGIN:VTIMEZONE
TZID:Europe/Oslo
X-LIC-LOCATION:Europe/Oslo
END:VTIMEZONE
END:VCALENDAR
