BEGIN:VCALENDAR
PRODID:-//github.com/ical-org/ical.net//NONSGML ical.net 5.2.1//EN
VERSION:2.0
BEGIN:VEVENT
DESCRIPTION:Barne- og familieminister Lene Vågslid besøker aktivitetsskol
 en på Bøler skole ved Haraløkka idrettspark og tiltaket «Idrettshoder
 ». «Idrettshoder» er en samarbeidsmodell mellom skole og idrettslag for
  å inkludere flere barn og unge i organisert idrett. <p>For mer informasj
 on\, ta kontakt med <a href="mailto:media@bfd.dep.no">media@bfd.dep.no</a
 > eller på telefon: 977 73 634. </p>
DTSTAMP:20260422T194531Z
DTSTART:20250508T120000Z
LOCATION:Bøler skole 0689 Utmarkveien 4 Oslo
SEQUENCE:0
SUMMARY:Barne- og familieministeren besøker Bøler skole
UID:75180ee5-89b9-4502-a605-8ed0194ec6d2
X-ALT-DESC;FMTTYPE=text/html:Barne- og familieminister Lene Vågslid besøk
 er aktivitetsskolen på Bøler skole ved Haraløkka idrettspark og tiltake
 t «Idrettshoder». «Idrettshoder» er en samarbeidsmodell mellom skole o
 g idrettslag for å inkludere flere barn og unge i organisert idrett. <p>F
 or mer informasjon\, ta kontakt med <a href="mailto:media@bfd.dep.no">med
 ia@bfd.dep.no</a> eller på telefon: 977 73 634. </p>
END:VEVENT
BEGIN:VTIMEZONE
TZID:Europe/Oslo
X-LIC-LOCATION:Europe/Oslo
END:VTIMEZONE
END:VCALENDAR
