BEGIN:VCALENDAR
PRODID:-//github.com/ical-org/ical.net//NONSGML ical.net 5.2.1//EN
VERSION:2.0
BEGIN:VEVENT
DESCRIPTION:Barne- og familieministeren besøker Born to Play Furuset\, sam
 men med Justis- og beredskapsministeren. <p>Kontaktperson er politisk råd
 giver Trine Bilet\, tlf 479 05 787\,  e-post: <a href="mailto:trine.bilet
 @bfd.dep.no">trine.bilet@bfd.dep.no</a> (med på reisen).</p>
DTEND:20250816T100000Z
DTSTAMP:20260422T214241Z
DTSTART:20250816T090000Z
LOCATION:Furuset 
SEQUENCE:0
SUMMARY:Barne- og familieministeren besøker Born to Play sammen med Justis
 - og beredskapsministeren
UID:369a9e0d-e777-4bf1-9347-de244f69ac61
X-ALT-DESC;FMTTYPE=text/html:Barne- og familieministeren besøker Born to P
 lay Furuset\, sammen med Justis- og beredskapsministeren. <p>Kontaktperson
  er politisk rådgiver Trine Bilet\, tlf 479 05 787\,  e-post: <a href="m
 ailto:trine.bilet@bfd.dep.no">trine.bilet@bfd.dep.no</a> (med på reisen).
 </p>
END:VEVENT
BEGIN:VTIMEZONE
TZID:Europe/Oslo
X-LIC-LOCATION:Europe/Oslo
END:VTIMEZONE
END:VCALENDAR
