BEGIN:VCALENDAR
PRODID:-//github.com/ical-org/ical.net//NONSGML ical.net 5.2.1//EN
VERSION:2.0
BEGIN:VEVENT
DESCRIPTION:Barne- og familieminister Lene Vågslid deltar på en toppoliti
 sk debatt om utfordringer i fritidsaktiviteter for barn og unge i regi av 
 Landsrådet for Norges barne- og ungdomsorganisasjoner (LNU)\, Unge funksj
 onshemmede (UngFunk) og Ungdom og Fritid.<p>Programmet er tilgjengelig på
  hjemmesidene til Unge Funksjonshemmede:</p>\n<p><a href="https://ungefunk
 sjonshemmede.no/arrangementer/valg-2025-topp-politisk-debatt-om-utfordring
 er-i-fritidsaktiviteter-for-barn-og-unge">Valg 2025: Topp-politisk debatt 
 om utfordringer i fritidsaktiviteter for barn og unge | Unge funksjonshemm
 ede</a></p>\n<p>Pressekontakt er kommunikasjonsrådgiver Margrete Løbben 
 Hanssen\, e-post: <a href="mailto:margrete-lobben.hanssen@bfd.dep.no">mar
 grete-lobben.hanssen@bfd.dep.no</a>\, tlf: 92 85 78 91.  </p>
DTSTAMP:20260422T214338Z
DTSTART:20250528T063000Z
LOCATION:Frivillighetens hus\, Christian Krohgs gate 10\, Oslo
SEQUENCE:0
SUMMARY:Barne- og familieministeren deltar på debatt om utfordringer i fri
 tidsaktiviteter for barn og unge
UID:eeab2c68-ac19-42c2-8c8e-c5961205379f
X-ALT-DESC;FMTTYPE=text/html:Barne- og familieminister Lene Vågslid deltar
  på en toppolitisk debatt om utfordringer i fritidsaktiviteter for barn o
 g unge i regi av Landsrådet for Norges barne- og ungdomsorganisasjoner (L
 NU)\, Unge funksjonshemmede (UngFunk) og Ungdom og Fritid.<p>Programmet er
  tilgjengelig på hjemmesidene til Unge Funksjonshemmede:</p>\n<p><a href=
 "https://ungefunksjonshemmede.no/arrangementer/valg-2025-topp-politisk-deb
 att-om-utfordringer-i-fritidsaktiviteter-for-barn-og-unge">Valg 2025: Topp
 -politisk debatt om utfordringer i fritidsaktiviteter for barn og unge | U
 nge funksjonshemmede</a></p>\n<p>Pressekontakt er kommunikasjonsrådgiver 
 Margrete Løbben Hanssen\, e-post: <a href="mailto:margrete-lobben.hansse
 n@bfd.dep.no">margrete-lobben.hanssen@bfd.dep.no</a>\, tlf: 92 85 78 91. 
  </p>
END:VEVENT
BEGIN:VTIMEZONE
TZID:Europe/Oslo
X-LIC-LOCATION:Europe/Oslo
END:VTIMEZONE
END:VCALENDAR
