BEGIN:VCALENDAR
PRODID:-//github.com/ical-org/ical.net//NONSGML ical.net 5.2.1//EN
VERSION:2.0
BEGIN:VEVENT
DESCRIPTION:Barne- og familieminister Lene Vågslid er i Stortinget i forbi
 ndelse behandlingen av et representantforslag om 16-årsgrense for sosiale
  medier.<ul style="list-style-type: link-list\;">\n<li><a href="https://ww
 w.stortinget.no/no/Saker-og-publikasjoner/Saker/Sak/?p=102360"><strong>Dok
 ument 8:121 S (2024-2025): Representantforslag om en 16-årsgrense for sos
 iale medier med krav om innlogging med BankID eller tilsvarende løsninger
 </strong></a></li>\n</ul>
DTSTAMP:20260420T183909Z
DTSTART:20250527T140000Z
LOCATION:Stortinget
SEQUENCE:0
SUMMARY:Barne- og familieministeren er i Stortinget
UID:3decf432-c1fb-4505-9ec3-4765fa69d7c0
X-ALT-DESC;FMTTYPE=text/html:Barne- og familieminister Lene Vågslid er i S
 tortinget i forbindelse behandlingen av et representantforslag om 16-årsg
 rense for sosiale medier.<ul style="list-style-type: link-list\;">\n<li><a
  href="https://www.stortinget.no/no/Saker-og-publikasjoner/Saker/Sak/?p=10
 2360"><strong>Dokument 8:121 S (2024-2025): Representantforslag om en 16-
 årsgrense for sosiale medier med krav om innlogging med BankID eller tils
 varende løsninger</strong></a></li>\n</ul>
END:VEVENT
BEGIN:VTIMEZONE
TZID:Europe/Oslo
X-LIC-LOCATION:Europe/Oslo
END:VTIMEZONE
END:VCALENDAR
