BEGIN:VCALENDAR
PRODID:-//github.com/ical-org/ical.net//NONSGML ical.net 5.2.1//EN
VERSION:2.0
BEGIN:VEVENT
DESCRIPTION:Barne- og familieminister Lene Vågslid (Ap) har møte med Barn
 eombudet. <p>For mer informasjon\, ta kontakt med <a href="mailto:media@b
 fd.dep.no">media@bfd.dep.no</a> eller på telefon: 977 73 634.</p>
DTEND:20250313T111500Z
DTSTAMP:20260422T194611Z
DTSTART:20250313T104500Z
LOCATION:R5
SEQUENCE:0
SUMMARY:Barne- og familieministeren har møte med Barneombudet
UID:368d1945-9ebb-4c14-8f97-5b59e1547685
X-ALT-DESC;FMTTYPE=text/html:Barne- og familieminister Lene Vågslid (Ap) h
 ar møte med Barneombudet. <p>For mer informasjon\, ta kontakt med <a hre
 f="mailto:media@bfd.dep.no">media@bfd.dep.no</a> eller på telefon: 977 73
  634.</p>
END:VEVENT
BEGIN:VTIMEZONE
TZID:Europe/Oslo
X-LIC-LOCATION:Europe/Oslo
END:VTIMEZONE
END:VCALENDAR
