BEGIN:VCALENDAR
PRODID:-//github.com/ical-org/ical.net//NONSGML ical.net 5.2.1//EN
VERSION:2.0
BEGIN:VEVENT
DESCRIPTION:Barne- og familieministeren har sitt årlige møte med Samarbei
 dsrådet for tros- og livssynssamfunn (STL). <p>For mer informasjon\, ta k
 ontakt med <a href="mailto:media@bfd.dep.no">media@bfd.dep.no</a> eller p
 å telefon: 977 73 634.</p>
DTEND:20250422T160000Z
DTSTAMP:20260422T194611Z
DTSTART:20250422T133000Z
LOCATION:R5
SEQUENCE:0
SUMMARY:Barne- og familieministeren har møte med STL
UID:3173b06c-7237-42bc-9ffa-97c584ca63b3
X-ALT-DESC;FMTTYPE=text/html:Barne- og familieministeren har sitt årlige m
 øte med Samarbeidsrådet for tros- og livssynssamfunn (STL). <p>For mer i
 nformasjon\, ta kontakt med <a href="mailto:media@bfd.dep.no">media@bfd.d
 ep.no</a> eller på telefon: 977 73 634.</p>
END:VEVENT
BEGIN:VTIMEZONE
TZID:Europe/Oslo
X-LIC-LOCATION:Europe/Oslo
END:VTIMEZONE
END:VCALENDAR
