BEGIN:VCALENDAR
PRODID:-//github.com/ical-org/ical.net//NONSGML ical.net 5.2.1//EN
VERSION:2.0
BEGIN:VEVENT
DESCRIPTION:
DTEND:20260408T080000Z
DTSTAMP:20260425T000704Z
DTSTART:20260408T063000Z
LOCATION:Drammen  Ingeniør Rybergs gate 99
SEQUENCE:0
SUMMARY:Digitaliserings- og forvaltningsministeren besøker Gapit Nordics
UID:a9591fb7-7dd3-4c19-b9af-30d0c49d7717
END:VEVENT
BEGIN:VTIMEZONE
TZID:Europe/Oslo
X-LIC-LOCATION:Europe/Oslo
END:VTIMEZONE
END:VCALENDAR
