BEGIN:VCALENDAR
PRODID:-//github.com/ical-org/ical.net//NONSGML ical.net 5.2.1//EN
VERSION:2.0
BEGIN:VEVENT
DESCRIPTION:
DTEND:20260409T100000Z
DTSTAMP:20260424T071628Z
DTSTART:20260409T091500Z
LOCATION:Oslo Osterhaus gate 27
SEQUENCE:0
SUMMARY:Digitaliserings- og forvaltningsministeren besøker Store norske le
 ksikon
UID:f0fc7439-f46f-46cd-9b39-b182d565e2e7
END:VEVENT
BEGIN:VTIMEZONE
TZID:Europe/Oslo
X-LIC-LOCATION:Europe/Oslo
END:VTIMEZONE
END:VCALENDAR
