BEGIN:VCALENDAR
PRODID:-//github.com/ical-org/ical.net//NONSGML ical.net 5.2.1//EN
VERSION:2.0
BEGIN:VEVENT
DESCRIPTION:
DTEND:20260421T065000Z
DTSTAMP:20260420T142131Z
DTSTART:20260421T061500Z
LOCATION:Hotel Bristol\, Oslo
SEQUENCE:0
SUMMARY:Digitaliserings- og forvaltningsministeren holder innledning under 
 The Nordics Cloud\, Content and Telecoms Executive Summit (CCT Nordics 202
 6)
UID:cf75e18d-f928-4a52-b593-2f9e6ae5b677
END:VEVENT
BEGIN:VTIMEZONE
TZID:Europe/Oslo
X-LIC-LOCATION:Europe/Oslo
END:VTIMEZONE
END:VCALENDAR
