BEGIN:VCALENDAR
PRODID:-//github.com/ical-org/ical.net//NONSGML ical.net 5.2.1//EN
VERSION:2.0
BEGIN:VEVENT
DESCRIPTION:
DTEND:20251113T081500Z
DTSTAMP:20260419T161040Z
DTSTART:20251113T073000Z
LOCATION:Oslo
SEQUENCE:0
SUMMARY:Digitaliserings- og forvaltningsministeren møter Palantir Technolo
 gies
UID:fb3df5df-de0e-4781-b065-40e067007d1b
END:VEVENT
BEGIN:VTIMEZONE
TZID:Europe/Oslo
X-LIC-LOCATION:Europe/Oslo
END:VTIMEZONE
END:VCALENDAR
