BEGIN:VCALENDAR
PRODID:-//github.com/ical-org/ical.net//NONSGML ical.net 5.2.1//EN
VERSION:2.0
BEGIN:VEVENT
DESCRIPTION:
DTEND:20231117T090000Z
DTSTAMP:20260426T025524Z
DTSTART:20231117T080000Z
LOCATION:Oslo
SEQUENCE:0
SUMMARY:Digitaliserings- og forvaltningsministeren møter Riksrevisoren
UID:ff53e786-8da9-4d1c-9ed6-0916b51921d6
END:VEVENT
BEGIN:VTIMEZONE
TZID:Europe/Oslo
X-LIC-LOCATION:Europe/Oslo
END:VTIMEZONE
END:VCALENDAR
