BEGIN:VCALENDAR
PRODID:-//github.com/ical-org/ical.net//NONSGML ical.net 5.2.1//EN
VERSION:2.0
BEGIN:VEVENT
DESCRIPTION:<div class="article-ingress">\n<p>Onsdag 24. september åpner b
 estillingsløsningen for Norgespris på strøm og fjernvarme. I den anledn
 ing besøker energiminister Terje Aasland Elhub\, som har utviklet den tek
 niske løsningen for bestilling av Norgespris på strøm og som tar imot d
 e digitale bestillingene. Pressen kan delta på besøket\, og energiminist
 eren vil være tilgjengelig for intervjuer.</p>\n</div>\n<div class="artic
 le-body">\n<p>Norgespris er en valgfri statlig finansiert ordning som skal
  gi folk trygghet og forutsigbarhet for strøm- og fjernvarmeutgiftene. Fo
 lk kan velge fast pris på strøm og fjernvarme både hjemme og på hytta.
  De som ikke velger Norgespris hjemme\, fortsetter med dagens strømstøna
 d. Norgespris gjelder fra 1. oktober og kan bestilles når som helst i lø
 pet av året.</p>\n<p><strong>Praktisk informasjon:</strong></p>\n<p><stro
 ng>Tid:</strong> onsdag 24. september kl. 13.00.</p>\n<p><strong>Sted:</s
 trong> Arrangementet foregår hos Elhub\, Nydalsveien 28\, Oslo. Oppmøte
  for presse er 12.40. Ta med gyldig ID.</p>\n<p><strong>Påmelding:</stron
 g> Presse må melde seg på ved å sende e-post til <a href="mailto:info
 @ed.dep.no">info@ed.dep.no</a> innen onsdag 24. september kl. 09.00.</p>\
 n<p>Pressekontakt i Energidepartementet er seniorrådgiver Stine Grimsrud\
 , telefon 97 19 42 50\, e-post: <a href="mailto:stine.grimsrud@ed.dep.no"
 >stine.grimsrud@ed.dep.no</a></p>\n</div>
DTSTAMP:20260419T132703Z
DTSTART:20250924T110000Z
LOCATION:Elhub Nydalsveien 28 Oslo
SEQUENCE:0
SUMMARY:Energiministeren besøker Elhub
UID:e647cd56-2927-4e3a-91c8-e09d59480024
X-ALT-DESC;FMTTYPE=text/html:<div class="article-ingress">\n<p>Onsdag 24. s
 eptember åpner bestillingsløsningen for Norgespris på strøm og fjernva
 rme. I den anledning besøker energiminister Terje Aasland Elhub\, som har
  utviklet den tekniske løsningen for bestilling av Norgespris på strøm 
 og som tar imot de digitale bestillingene. Pressen kan delta på besøket\
 , og energiministeren vil være tilgjengelig for intervjuer.</p>\n</div>\n
 <div class="article-body">\n<p>Norgespris er en valgfri statlig finansiert
  ordning som skal gi folk trygghet og forutsigbarhet for strøm- og fjernv
 armeutgiftene. Folk kan velge fast pris på strøm og fjernvarme både hje
 mme og på hytta. De som ikke velger Norgespris hjemme\, fortsetter med da
 gens strømstønad. Norgespris gjelder fra 1. oktober og kan bestilles nå
 r som helst i løpet av året.</p>\n<p><strong>Praktisk informasjon:</stro
 ng></p>\n<p><strong>Tid:</strong> onsdag 24. september kl. 13.00.</p>\n<p
 ><strong>Sted:</strong> Arrangementet foregår hos Elhub\, Nydalsveien 28
 \, Oslo. Oppmøte for presse er 12.40. Ta med gyldig ID.</p>\n<p><strong>P
 åmelding:</strong> Presse må melde seg på ved å sende e-post til <a 
 href="mailto:info@ed.dep.no">info@ed.dep.no</a> innen onsdag 24. septembe
 r kl. 09.00.</p>\n<p>Pressekontakt i Energidepartementet er seniorrådgive
 r Stine Grimsrud\, telefon 97 19 42 50\, e-post: <a href="mailto:stine.gr
 imsrud@ed.dep.no">stine.grimsrud@ed.dep.no</a></p>\n</div>
END:VEVENT
BEGIN:VTIMEZONE
TZID:Europe/Oslo
X-LIC-LOCATION:Europe/Oslo
END:VTIMEZONE
END:VCALENDAR
