BEGIN:VCALENDAR
PRODID:-//github.com/ical-org/ical.net//NONSGML ical.net 5.2.1//EN
VERSION:2.0
BEGIN:VEVENT
DESCRIPTION:<p>Energiminister Terje Aasland deltek på <a href="https://lnv
 k.no/artikler/velkommen-til-lnvks-landsmote-2026">landsmøtet til Landssam
 anslutninga av norske vindkraftkommunar (LNVK)</a>. For meir informasjon\,
  kontakt pressevakta i Energidepartementet på 41 57 35 00\, e-post <a hr
 ef="mailto:info@ed.dep.no">info@ed.dep.no</a>.</p>
DTSTAMP:20260419T143205Z
DTSTART:20260421T083000Z
LOCATION:Hotel Bristol Oslo
SEQUENCE:0
SUMMARY:Energiministeren deltek på landsmøtet til Landssamanslutninga av 
 norske vindkraftkommunar (LNVK)
UID:15414c1b-cd8e-4e17-b391-b9de8df9c0eb
X-ALT-DESC;FMTTYPE=text/html:<p>Energiminister Terje Aasland deltek på <a 
 href="https://lnvk.no/artikler/velkommen-til-lnvks-landsmote-2026">landsm
 øtet til Landssamanslutninga av norske vindkraftkommunar (LNVK)</a>. For 
 meir informasjon\, kontakt pressevakta i Energidepartementet på 41 57 35 
 00\, e-post <a href="mailto:info@ed.dep.no">info@ed.dep.no</a>.</p>
END:VEVENT
BEGIN:VTIMEZONE
TZID:Europe/Oslo
X-LIC-LOCATION:Europe/Oslo
END:VTIMEZONE
END:VCALENDAR
