BEGIN:VCALENDAR
PRODID:-//github.com/ical-org/ical.net//NONSGML ical.net 5.2.1//EN
VERSION:2.0
BEGIN:VEVENT
DESCRIPTION:<p>Energiminister Terje Aasland har møte med Norske Reindrifts
 amers Landsforbund. Tema for møtet er kraft- og energipolitikk. For meir 
 informasjon\, kontakt pressevakta i Energidepartementet på 41 57 35 00\, 
 e-post <a href="mailto:info@ed.dep.no">info@ed.dep.no</a>.</p>
DTSTAMP:20260419T143205Z
DTSTART:20260422T070000Z
SEQUENCE:0
SUMMARY:Energiministeren møter Norske Reindriftsamers Landsforbund
UID:b8c13276-eaee-4789-8cdb-5d3ec4867a18
X-ALT-DESC;FMTTYPE=text/html:<p>Energiminister Terje Aasland har møte med 
 Norske Reindriftsamers Landsforbund. Tema for møtet er kraft- og energipo
 litikk. For meir informasjon\, kontakt pressevakta i Energidepartementet p
 å 41 57 35 00\, e-post <a href="mailto:info@ed.dep.no">info@ed.dep.no</a>
 .</p>
END:VEVENT
BEGIN:VTIMEZONE
TZID:Europe/Oslo
X-LIC-LOCATION:Europe/Oslo
END:VTIMEZONE
END:VCALENDAR
