BEGIN:VCALENDAR
PRODID:-//github.com/ical-org/ical.net//NONSGML ical.net 5.2.1//EN
VERSION:2.0
BEGIN:VEVENT
DESCRIPTION:Statssekretær Eivind Vad Petersson deltek på ein High North D
 ialogue-konferanse. Tema for årets konferanse er "Business in the Arctic 
 – The Great Shifts". \n\n<p>Pressekontakt: Pressevakta UD\, <a class="
 tellink" href="tel:23 95 00 02">23 95 00 02</a> </p>
DTSTAMP:20260419T125626Z
DTSTART:20220407T080000Z
LOCATION:Bodø
SEQUENCE:0
SUMMARY:Statssekretær Petersson deltek på ein High North Dialogue-konfera
 nse
UID:e8fad32b-1dd9-4d85-b0a1-27477282b764
X-ALT-DESC;FMTTYPE=text/html:Statssekretær Eivind Vad Petersson deltek på
  ein High North Dialogue-konferanse. Tema for årets konferanse er "Busine
 ss in the Arctic – The Great Shifts". \n\n<p>Pressekontakt: Pressevakta
  UD\, <a class="tellink" href="tel:23 95 00 02">23 95 00 02</a> </p>
END:VEVENT
BEGIN:VTIMEZONE
TZID:Europe/Oslo
X-LIC-LOCATION:Europe/Oslo
END:VTIMEZONE
END:VCALENDAR
